BEGIN:VCALENDAR
VERSION:2.0
PRODID:-//Barnet Carers - ECPv6.15.20//NONSGML v1.0//EN
CALSCALE:GREGORIAN
METHOD:PUBLISH
X-ORIGINAL-URL:https://barnetcarers.org
X-WR-CALDESC:Events for Barnet Carers
REFRESH-INTERVAL;VALUE=DURATION:PT1H
X-Robots-Tag:noindex
X-PUBLISHED-TTL:PT1H
BEGIN:VTIMEZONE
TZID:UTC
BEGIN:STANDARD
TZOFFSETFROM:+0000
TZOFFSETTO:+0000
TZNAME:UTC
DTSTART:20240101T000000
END:STANDARD
END:VTIMEZONE
BEGIN:VEVENT
DTSTART;TZID=UTC:20251120T130000
DTEND;TZID=UTC:20251120T133000
DTSTAMP:20260419T204810
CREATED:20251104T130038Z
LAST-MODIFIED:20251104T190021Z
UID:10002391-1763643600-1763645400@barnetcarers.org
SUMMARY:Carers Rights Day 2025 - Know Your Rights!
DESCRIPTION:Carers Rights Day 2025 – Know Your Rights!\n				\n				\n			\n				\n				\n				\n				\n				Carers Rights are essential in ensuring that unpaid carers—those who support family members\, friends\, or neighbours with health conditions or disabilities—receive recognition\, respect\, and access to support. \nCome and find out about your rights as a Carers and\, more importantly\, how you can realise and access those rights. \nTopic: Carers Rights Day – Know Your Rights! (afternoon)Time: Nov 20\, 2025 01:00 PM LondonJoin Zoom Meetinghttps://us02web.zoom.us/j/82081306485?pwd=mN2JUaKrV2a8yozdRuqovbpJMiRDaT.1 \nMeeting ID: 820 8130 6485Passcode: 621102 \nRepeated at 6pm
URL:https://barnetcarers.org/event/carers-rights-day-2025-know-your-rights/
LOCATION:Online
CATEGORIES:Adult Carers,Information,Online
END:VEVENT
BEGIN:VEVENT
DTSTART;TZID=UTC:20251120T180000
DTEND;TZID=UTC:20251120T183000
DTSTAMP:20260419T204810
CREATED:20251104T190630Z
LAST-MODIFIED:20251104T190633Z
UID:10002392-1763661600-1763663400@barnetcarers.org
SUMMARY:Carers Rights Day 2025 - Know Your Rights!
DESCRIPTION:Carers Rights Day 2025 – Know Your Rights!\n				\n				\n			\n				\n				\n				\n				\n				Carers Rights are essential in ensuring that unpaid carers—those who support family members\, friends\, or neighbours with health conditions or disabilities—receive recognition\, respect\, and access to support. \nCome and find out about your rights as a Carers and\, more importantly\, how you can realise and access those rights. \nTopic: Carers Rights Day 2025 – Know Your Rights (evening)Time: Nov 20\, 2025 06:00 PM LondonJoin Zoom Meetinghttps://us02web.zoom.us/j/89789890090?pwd=S3i8oMKjVCFklrl7O8ARQprABFafFW.1 \nMeeting ID: 897 8989 0090Passcode: 705762
URL:https://barnetcarers.org/event/carers-rights-day-2025-know-your-rights-2/
LOCATION:Online
CATEGORIES:Adult Carers,Information,Online
END:VEVENT
END:VCALENDAR