BEGIN:VCALENDAR
VERSION:2.0
PRODID:-//Barnet Carers - ECPv6.15.20//NONSGML v1.0//EN
CALSCALE:GREGORIAN
METHOD:PUBLISH
X-WR-CALNAME:Barnet Carers
X-ORIGINAL-URL:https://barnetcarers.org
X-WR-CALDESC:Events for Barnet Carers
REFRESH-INTERVAL;VALUE=DURATION:PT1H
X-Robots-Tag:noindex
X-PUBLISHED-TTL:PT1H
BEGIN:VTIMEZONE
TZID:UTC
BEGIN:STANDARD
TZOFFSETFROM:+0000
TZOFFSETTO:+0000
TZNAME:UTC
DTSTART:20240101T000000
END:STANDARD
END:VTIMEZONE
BEGIN:VEVENT
DTSTART;TZID=UTC:20250414T133000
DTEND;TZID=UTC:20250414T143000
DTSTAMP:20260423T100537
CREATED:20250413T172114Z
LAST-MODIFIED:20251224T162146Z
UID:10000006-1744637400-1744641000@barnetcarers.org
SUMMARY:Monday lunchtime Yoga with the Kindness Club
DESCRIPTION:Kick off with a Verse\n				\n				\n			\n			\n				\n				\n				\n				\n			\n				\n				\n				\n				\n				\n				\n				\n				\n				\n				\n				Yoga can benefit you by relieving physical tension\, reducing stress\, and promoting relaxation. It enhances flexibility\, strength\, and energy levels\, helping manage the physical demands of your caring role. Additionally\, yoga improves mental clarity\, emotional balance\, and overall well-being\, enabling you to approach your responsibilities with greater patience and resilience. \nDai from the Kindness Club welcomes all experience levels to her friendly group.  Make the most of your Monday lunchtime. \nDai’s Yoga sessions are held on Zoom:\nhttps://us02web.zoom.us/j/6817515813\nPasscode: 3655 \n \n			\n				Join
URL:https://barnetcarers.org/event/monday-lunchtime-yoga-with-the-kindness-club/2025-04-14/
LOCATION:Online
END:VEVENT
BEGIN:VEVENT
DTSTART;TZID=UTC:20250414T110000
DTEND;TZID=UTC:20250414T121500
DTSTAMP:20260423T100537
CREATED:20250413T172927Z
LAST-MODIFIED:20250413T173127Z
UID:10000007-1744628400-1744632900@barnetcarers.org
SUMMARY:Former Carers Group - in person
DESCRIPTION:Kick off with a Verse\n				\n				\n			\n				\n				\n				\n				\n				Are you a former carer or someone whose caring role is coming to an end?  Carers often find a big hole in their lives when their caring role comes to and end – and it often helps to talk about it.  Join Killian and other former carers at our in-person meeting every 2nd  Monday of the month at our offices in Finchley. \nWe are at Global House (3rd Floor)\, 303 Ballards Lane\, London N12 8NP.  We are a 2-minute walk from North Finchley Bus Station.
URL:https://barnetcarers.org/event/former-carers-group-in-person/
LOCATION:Barnet Carers Centre\, Global House. 303 Ballards Lane\, North Finchley\, N12 8NP
END:VEVENT
END:VCALENDAR