BEGIN:VCALENDAR
VERSION:2.0
PRODID:-//Barnet Carers - ECPv6.15.20//NONSGML v1.0//EN
CALSCALE:GREGORIAN
METHOD:PUBLISH
X-ORIGINAL-URL:https://barnetcarers.org
X-WR-CALDESC:Events for Barnet Carers
REFRESH-INTERVAL;VALUE=DURATION:PT1H
X-Robots-Tag:noindex
X-PUBLISHED-TTL:PT1H
BEGIN:VTIMEZONE
TZID:UTC
BEGIN:STANDARD
TZOFFSETFROM:+0000
TZOFFSETTO:+0000
TZNAME:UTC
DTSTART:20260101T000000
END:STANDARD
END:VTIMEZONE
BEGIN:VEVENT
DTSTART;TZID=UTC:20270714T140000
DTEND;TZID=UTC:20270714T150000
DTSTAMP:20260420T072148
CREATED:20250413T174130Z
LAST-MODIFIED:20250423T081350Z
UID:10000035-1815573600-1815577200@barnetcarers.org
SUMMARY:Barnet Carers Support Group
DESCRIPTION:Carers Community Weekly Group – Online\n				\n				\n			\n				\n				\n				\n				\n				This meeting\, hosted by Killian\, provides a safe\, friendly and informal environment for carers to interact and socialise; to provide information and advice to one another on various issues and to help those carers who may want to just forget about their caring role for an hour. The meeting is held on the second Wednesday of every month from 2pm to 3pm by Zoom. \nThe link to join zoom is the same each month https://us02web.zoom.us/j/85784464525?pwd=Mlp0V2xNR2Y4ZkgvSjY5YXJncHBDQT09\nOr you can join using Meeting ID: 857 8446 4525\, Passcode: 777540
URL:https://barnetcarers.org/event/barnet-carers-support-group/2027-07-14/
LOCATION:Online
END:VEVENT
BEGIN:VEVENT
DTSTART;TZID=UTC:20270714T183000
DTEND;TZID=UTC:20270714T200000
DTSTAMP:20260420T072148
CREATED:20260119T092356Z
LAST-MODIFIED:20260119T092407Z
UID:10003873-1815589800-1815595200@barnetcarers.org
SUMMARY:Carers Community Weekly Group - Online
DESCRIPTION:Carers Community Weekly Group – Online\n				\n				\n			\n				\n				\n				\n				\n				Join us by Zoom every week for the Carers Community.  This meeting is all about you so we will be experimenting to make sure we get a format that is right for people.  It will be led mostly by Mike Rich\, CEO at Barnet Carers but – when Mike is not available will be covered by others. \nWe would like to discuss a specific topic every week for part of the meeting and have a general discussion in the first part.  But we can discuss this as we go along. \nThe Zoom details are below:https://us02web.zoom.us/j/88417593825?pwd=tPmt4WJvRE4qT9hazKBwbxndYXpGmR.1Meeting ID: 884 1759 3825Passcode: 080384
URL:https://barnetcarers.org/event/carers-community-weekly-group-online/2027-07-14/
LOCATION:Online
CATEGORIES:Adult Carers,Online,Social
END:VEVENT
BEGIN:VEVENT
DTSTART;TZID=UTC:20270715T170000
DTEND;TZID=UTC:20270715T180000
DTSTAMP:20260420T072148
CREATED:20250413T173427Z
LAST-MODIFIED:20251224T161930Z
UID:10001369-1815670800-1815674400@barnetcarers.org
SUMMARY:Thursday Mindfulness with Lucy from Presence of Mind
DESCRIPTION:Carers Community Weekly Group – Online\n				\n				\n			\n				\n				\n				\n				\n				Mindfulness benefits carers by reducing stress\, improving emotional resilience\, and enhancing focus. It can help you stay present\, manage anxiety\, and prevent burnout\, leading to better decision-making and quality of care. Mindfulness also fosters self-compassion and emotional well-being\, allowing you to maintain a balanced\, healthier relationship with your responsibilities.  Join Lucy from Presence of Mind every Thursday to start\, or continue\, your mindfulness journey. \nLucy holds her mindfulness sessions on Zoom:\nMeeting ID: 858 3117 2416\nPasscode: 974166
URL:https://barnetcarers.org/event/thursday-mindfulness-with-lucy-from-presence-of-mind/2027-07-15/
LOCATION:Online
END:VEVENT
BEGIN:VEVENT
DTSTART;TZID=UTC:20270719T133000
DTEND;TZID=UTC:20270719T143000
DTSTAMP:20260420T072148
CREATED:20250413T172114Z
LAST-MODIFIED:20251224T162146Z
UID:10001631-1816003800-1816007400@barnetcarers.org
SUMMARY:Monday lunchtime Yoga with the Kindness Club
DESCRIPTION:Carers Community Weekly Group – Online\n				\n				\n			\n			\n				\n				\n				\n				\n			\n				\n				\n				\n				\n				\n				\n				\n				\n				\n				\n				Yoga can benefit you by relieving physical tension\, reducing stress\, and promoting relaxation. It enhances flexibility\, strength\, and energy levels\, helping manage the physical demands of your caring role. Additionally\, yoga improves mental clarity\, emotional balance\, and overall well-being\, enabling you to approach your responsibilities with greater patience and resilience. \nDai from the Kindness Club welcomes all experience levels to her friendly group.  Make the most of your Monday lunchtime. \nDai’s Yoga sessions are held on Zoom:\nhttps://us02web.zoom.us/j/6817515813\nPasscode: 3655 \n \n			\n				Join
URL:https://barnetcarers.org/event/monday-lunchtime-yoga-with-the-kindness-club/2027-07-19/
LOCATION:Online
END:VEVENT
BEGIN:VEVENT
DTSTART;TZID=UTC:20270719T163000
DTEND;TZID=UTC:20270719T173000
DTSTAMP:20260420T072148
CREATED:20260109T101153Z
LAST-MODIFIED:20260109T101612Z
UID:10003119-1816014600-1816018200@barnetcarers.org
SUMMARY:Monday Mindfulness with Catherine
DESCRIPTION:A great way to start your week.  Mindfulness can be a great way of getting you\, as a carer\, some space in otherwise very busy lives. \nThe link for the Zoom meeting is here:  https://us02web.zoom.us/j/83714857299?pwd=OZVIATiSbs5urAzEzleU8DaulB47NF.1 \nThe meeting details are:\nMeeting ID: 837 1485 7299\nPasscode: 478305
URL:https://barnetcarers.org/event/monday-mindfulness-with-catherine/2027-07-19/
LOCATION:Online
CATEGORIES:Online,Wellbeing
END:VEVENT
BEGIN:VEVENT
DTSTART;TZID=UTC:20270720T163000
DTEND;TZID=UTC:20270720T173000
DTSTAMP:20260420T072148
CREATED:20260109T102306Z
LAST-MODIFIED:20260109T102306Z
UID:10003380-1816101000-1816104600@barnetcarers.org
SUMMARY:Tuesday Yoga with Catherine
DESCRIPTION:Yoga is a great way of maintaining your well-being.  It is good for you both physically and mentally.  Catherine’s online classes are suitable for all – from the very beginner.  Why not give it a go? \nhttps://us02web.zoom.us/j/83692782693?pwd=0jqIgqqwL8CyVbvmmdRYryRiva6nms.1 \nMeeting ID: 836 9278 2693\nPasscode: 593370
URL:https://barnetcarers.org/event/tuesday-yoga-with-catherine/2027-07-20/
LOCATION:Online
CATEGORIES:Online,Relaxation,Wellbeing
END:VEVENT
BEGIN:VEVENT
DTSTART;TZID=UTC:20270721T183000
DTEND;TZID=UTC:20270721T200000
DTSTAMP:20260420T072148
CREATED:20260119T092356Z
LAST-MODIFIED:20260119T092407Z
UID:10003874-1816194600-1816200000@barnetcarers.org
SUMMARY:Carers Community Weekly Group - Online
DESCRIPTION:Carers Community Weekly Group – Online\n				\n				\n			\n				\n				\n				\n				\n				Join us by Zoom every week for the Carers Community.  This meeting is all about you so we will be experimenting to make sure we get a format that is right for people.  It will be led mostly by Mike Rich\, CEO at Barnet Carers but – when Mike is not available will be covered by others. \nWe would like to discuss a specific topic every week for part of the meeting and have a general discussion in the first part.  But we can discuss this as we go along. \nThe Zoom details are below:https://us02web.zoom.us/j/88417593825?pwd=tPmt4WJvRE4qT9hazKBwbxndYXpGmR.1Meeting ID: 884 1759 3825Passcode: 080384
URL:https://barnetcarers.org/event/carers-community-weekly-group-online/2027-07-21/
LOCATION:Online
CATEGORIES:Adult Carers,Online,Social
END:VEVENT
BEGIN:VEVENT
DTSTART;TZID=UTC:20270722T170000
DTEND;TZID=UTC:20270722T180000
DTSTAMP:20260420T072148
CREATED:20250413T173427Z
LAST-MODIFIED:20251224T161930Z
UID:10001370-1816275600-1816279200@barnetcarers.org
SUMMARY:Thursday Mindfulness with Lucy from Presence of Mind
DESCRIPTION:Carers Community Weekly Group – Online\n				\n				\n			\n				\n				\n				\n				\n				Mindfulness benefits carers by reducing stress\, improving emotional resilience\, and enhancing focus. It can help you stay present\, manage anxiety\, and prevent burnout\, leading to better decision-making and quality of care. Mindfulness also fosters self-compassion and emotional well-being\, allowing you to maintain a balanced\, healthier relationship with your responsibilities.  Join Lucy from Presence of Mind every Thursday to start\, or continue\, your mindfulness journey. \nLucy holds her mindfulness sessions on Zoom:\nMeeting ID: 858 3117 2416\nPasscode: 974166
URL:https://barnetcarers.org/event/thursday-mindfulness-with-lucy-from-presence-of-mind/2027-07-22/
LOCATION:Online
END:VEVENT
BEGIN:VEVENT
DTSTART;TZID=UTC:20270726T133000
DTEND;TZID=UTC:20270726T143000
DTSTAMP:20260420T072148
CREATED:20250413T172114Z
LAST-MODIFIED:20251224T162146Z
UID:10001632-1816608600-1816612200@barnetcarers.org
SUMMARY:Monday lunchtime Yoga with the Kindness Club
DESCRIPTION:Carers Community Weekly Group – Online\n				\n				\n			\n			\n				\n				\n				\n				\n			\n				\n				\n				\n				\n				\n				\n				\n				\n				\n				\n				Yoga can benefit you by relieving physical tension\, reducing stress\, and promoting relaxation. It enhances flexibility\, strength\, and energy levels\, helping manage the physical demands of your caring role. Additionally\, yoga improves mental clarity\, emotional balance\, and overall well-being\, enabling you to approach your responsibilities with greater patience and resilience. \nDai from the Kindness Club welcomes all experience levels to her friendly group.  Make the most of your Monday lunchtime. \nDai’s Yoga sessions are held on Zoom:\nhttps://us02web.zoom.us/j/6817515813\nPasscode: 3655 \n \n			\n				Join
URL:https://barnetcarers.org/event/monday-lunchtime-yoga-with-the-kindness-club/2027-07-26/
LOCATION:Online
END:VEVENT
BEGIN:VEVENT
DTSTART;TZID=UTC:20270726T163000
DTEND;TZID=UTC:20270726T173000
DTSTAMP:20260420T072148
CREATED:20260109T101153Z
LAST-MODIFIED:20260109T101612Z
UID:10003120-1816619400-1816623000@barnetcarers.org
SUMMARY:Monday Mindfulness with Catherine
DESCRIPTION:A great way to start your week.  Mindfulness can be a great way of getting you\, as a carer\, some space in otherwise very busy lives. \nThe link for the Zoom meeting is here:  https://us02web.zoom.us/j/83714857299?pwd=OZVIATiSbs5urAzEzleU8DaulB47NF.1 \nThe meeting details are:\nMeeting ID: 837 1485 7299\nPasscode: 478305
URL:https://barnetcarers.org/event/monday-mindfulness-with-catherine/2027-07-26/
LOCATION:Online
CATEGORIES:Online,Wellbeing
END:VEVENT
BEGIN:VEVENT
DTSTART;TZID=UTC:20270727T110000
DTEND;TZID=UTC:20270727T120000
DTSTAMP:20260420T072148
CREATED:20250929T140307Z
LAST-MODIFIED:20251208T125515Z
UID:10000187-1816686000-1816689600@barnetcarers.org
SUMMARY:Carers Coffee and Chat
DESCRIPTION:Carers Community Weekly Group – Online\n				\n				\n			\n				\n				\n				\n				\n				Join Mike and Kezia at our offices in North Finchley for a coffee (or tea) and a chat.  This is an informal gathering that you can drop into.  If there are things we can do to help you\, we will do our best\, but it is also about having some friendly social time. \nWe look forward to seeing you there. \n3rd Floor (lift available)\nGlobal House\n303 Ballards Lane\nN12 8NP
URL:https://barnetcarers.org/event/carers-coffee-and-chat-2/2027-07-27/
LOCATION:Barnet Carers Centre\, Global House. 303 Ballards Lane\, North Finchley\, N12 8NP
CATEGORIES:Adult Carers,Information,Social
END:VEVENT
BEGIN:VEVENT
DTSTART;TZID=UTC:20270727T163000
DTEND;TZID=UTC:20270727T173000
DTSTAMP:20260420T072148
CREATED:20260109T102306Z
LAST-MODIFIED:20260109T102306Z
UID:10003381-1816705800-1816709400@barnetcarers.org
SUMMARY:Tuesday Yoga with Catherine
DESCRIPTION:Yoga is a great way of maintaining your well-being.  It is good for you both physically and mentally.  Catherine’s online classes are suitable for all – from the very beginner.  Why not give it a go? \nhttps://us02web.zoom.us/j/83692782693?pwd=0jqIgqqwL8CyVbvmmdRYryRiva6nms.1 \nMeeting ID: 836 9278 2693\nPasscode: 593370
URL:https://barnetcarers.org/event/tuesday-yoga-with-catherine/2027-07-27/
LOCATION:Online
CATEGORIES:Online,Relaxation,Wellbeing
END:VEVENT
BEGIN:VEVENT
DTSTART;TZID=UTC:20270728T183000
DTEND;TZID=UTC:20270728T200000
DTSTAMP:20260420T072148
CREATED:20260119T092356Z
LAST-MODIFIED:20260119T092407Z
UID:10003875-1816799400-1816804800@barnetcarers.org
SUMMARY:Carers Community Weekly Group - Online
DESCRIPTION:Carers Community Weekly Group – Online\n				\n				\n			\n				\n				\n				\n				\n				Join us by Zoom every week for the Carers Community.  This meeting is all about you so we will be experimenting to make sure we get a format that is right for people.  It will be led mostly by Mike Rich\, CEO at Barnet Carers but – when Mike is not available will be covered by others. \nWe would like to discuss a specific topic every week for part of the meeting and have a general discussion in the first part.  But we can discuss this as we go along. \nThe Zoom details are below:https://us02web.zoom.us/j/88417593825?pwd=tPmt4WJvRE4qT9hazKBwbxndYXpGmR.1Meeting ID: 884 1759 3825Passcode: 080384
URL:https://barnetcarers.org/event/carers-community-weekly-group-online/2027-07-28/
LOCATION:Online
CATEGORIES:Adult Carers,Online,Social
END:VEVENT
BEGIN:VEVENT
DTSTART;TZID=UTC:20270729T170000
DTEND;TZID=UTC:20270729T180000
DTSTAMP:20260420T072148
CREATED:20250413T173427Z
LAST-MODIFIED:20251224T161930Z
UID:10001371-1816880400-1816884000@barnetcarers.org
SUMMARY:Thursday Mindfulness with Lucy from Presence of Mind
DESCRIPTION:Carers Community Weekly Group – Online\n				\n				\n			\n				\n				\n				\n				\n				Mindfulness benefits carers by reducing stress\, improving emotional resilience\, and enhancing focus. It can help you stay present\, manage anxiety\, and prevent burnout\, leading to better decision-making and quality of care. Mindfulness also fosters self-compassion and emotional well-being\, allowing you to maintain a balanced\, healthier relationship with your responsibilities.  Join Lucy from Presence of Mind every Thursday to start\, or continue\, your mindfulness journey. \nLucy holds her mindfulness sessions on Zoom:\nMeeting ID: 858 3117 2416\nPasscode: 974166
URL:https://barnetcarers.org/event/thursday-mindfulness-with-lucy-from-presence-of-mind/2027-07-29/
LOCATION:Online
END:VEVENT
BEGIN:VEVENT
DTSTART;TZID=UTC:20270802T133000
DTEND;TZID=UTC:20270802T143000
DTSTAMP:20260420T072148
CREATED:20250413T172114Z
LAST-MODIFIED:20251224T162146Z
UID:10001633-1817213400-1817217000@barnetcarers.org
SUMMARY:Monday lunchtime Yoga with the Kindness Club
DESCRIPTION:Carers Community Weekly Group – Online\n				\n				\n			\n			\n				\n				\n				\n				\n			\n				\n				\n				\n				\n				\n				\n				\n				\n				\n				\n				Yoga can benefit you by relieving physical tension\, reducing stress\, and promoting relaxation. It enhances flexibility\, strength\, and energy levels\, helping manage the physical demands of your caring role. Additionally\, yoga improves mental clarity\, emotional balance\, and overall well-being\, enabling you to approach your responsibilities with greater patience and resilience. \nDai from the Kindness Club welcomes all experience levels to her friendly group.  Make the most of your Monday lunchtime. \nDai’s Yoga sessions are held on Zoom:\nhttps://us02web.zoom.us/j/6817515813\nPasscode: 3655 \n \n			\n				Join
URL:https://barnetcarers.org/event/monday-lunchtime-yoga-with-the-kindness-club/2027-08-02/
LOCATION:Online
END:VEVENT
BEGIN:VEVENT
DTSTART;TZID=UTC:20270802T163000
DTEND;TZID=UTC:20270802T173000
DTSTAMP:20260420T072148
CREATED:20260109T101153Z
LAST-MODIFIED:20260109T101612Z
UID:10003121-1817224200-1817227800@barnetcarers.org
SUMMARY:Monday Mindfulness with Catherine
DESCRIPTION:A great way to start your week.  Mindfulness can be a great way of getting you\, as a carer\, some space in otherwise very busy lives. \nThe link for the Zoom meeting is here:  https://us02web.zoom.us/j/83714857299?pwd=OZVIATiSbs5urAzEzleU8DaulB47NF.1 \nThe meeting details are:\nMeeting ID: 837 1485 7299\nPasscode: 478305
URL:https://barnetcarers.org/event/monday-mindfulness-with-catherine/2027-08-02/
LOCATION:Online
CATEGORIES:Online,Wellbeing
END:VEVENT
BEGIN:VEVENT
DTSTART;TZID=UTC:20270803T163000
DTEND;TZID=UTC:20270803T173000
DTSTAMP:20260420T072148
CREATED:20260109T102306Z
LAST-MODIFIED:20260109T102306Z
UID:10003382-1817310600-1817314200@barnetcarers.org
SUMMARY:Tuesday Yoga with Catherine
DESCRIPTION:Yoga is a great way of maintaining your well-being.  It is good for you both physically and mentally.  Catherine’s online classes are suitable for all – from the very beginner.  Why not give it a go? \nhttps://us02web.zoom.us/j/83692782693?pwd=0jqIgqqwL8CyVbvmmdRYryRiva6nms.1 \nMeeting ID: 836 9278 2693\nPasscode: 593370
URL:https://barnetcarers.org/event/tuesday-yoga-with-catherine/2027-08-03/
LOCATION:Online
CATEGORIES:Online,Relaxation,Wellbeing
END:VEVENT
BEGIN:VEVENT
DTSTART;TZID=UTC:20270804T183000
DTEND;TZID=UTC:20270804T200000
DTSTAMP:20260420T072148
CREATED:20260119T092356Z
LAST-MODIFIED:20260119T092407Z
UID:10003876-1817404200-1817409600@barnetcarers.org
SUMMARY:Carers Community Weekly Group - Online
DESCRIPTION:Carers Community Weekly Group – Online\n				\n				\n			\n				\n				\n				\n				\n				Join us by Zoom every week for the Carers Community.  This meeting is all about you so we will be experimenting to make sure we get a format that is right for people.  It will be led mostly by Mike Rich\, CEO at Barnet Carers but – when Mike is not available will be covered by others. \nWe would like to discuss a specific topic every week for part of the meeting and have a general discussion in the first part.  But we can discuss this as we go along. \nThe Zoom details are below:https://us02web.zoom.us/j/88417593825?pwd=tPmt4WJvRE4qT9hazKBwbxndYXpGmR.1Meeting ID: 884 1759 3825Passcode: 080384
URL:https://barnetcarers.org/event/carers-community-weekly-group-online/2027-08-04/
LOCATION:Online
CATEGORIES:Adult Carers,Online,Social
END:VEVENT
BEGIN:VEVENT
DTSTART;TZID=UTC:20270805T170000
DTEND;TZID=UTC:20270805T180000
DTSTAMP:20260420T072148
CREATED:20250413T173427Z
LAST-MODIFIED:20251224T161930Z
UID:10001372-1817485200-1817488800@barnetcarers.org
SUMMARY:Thursday Mindfulness with Lucy from Presence of Mind
DESCRIPTION:Carers Community Weekly Group – Online\n				\n				\n			\n				\n				\n				\n				\n				Mindfulness benefits carers by reducing stress\, improving emotional resilience\, and enhancing focus. It can help you stay present\, manage anxiety\, and prevent burnout\, leading to better decision-making and quality of care. Mindfulness also fosters self-compassion and emotional well-being\, allowing you to maintain a balanced\, healthier relationship with your responsibilities.  Join Lucy from Presence of Mind every Thursday to start\, or continue\, your mindfulness journey. \nLucy holds her mindfulness sessions on Zoom:\nMeeting ID: 858 3117 2416\nPasscode: 974166
URL:https://barnetcarers.org/event/thursday-mindfulness-with-lucy-from-presence-of-mind/2027-08-05/
LOCATION:Online
END:VEVENT
BEGIN:VEVENT
DTSTART;TZID=UTC:20270809T133000
DTEND;TZID=UTC:20270809T143000
DTSTAMP:20260420T072148
CREATED:20250413T172114Z
LAST-MODIFIED:20251224T162146Z
UID:10001634-1817818200-1817821800@barnetcarers.org
SUMMARY:Monday lunchtime Yoga with the Kindness Club
DESCRIPTION:Carers Community Weekly Group – Online\n				\n				\n			\n			\n				\n				\n				\n				\n			\n				\n				\n				\n				\n				\n				\n				\n				\n				\n				\n				Yoga can benefit you by relieving physical tension\, reducing stress\, and promoting relaxation. It enhances flexibility\, strength\, and energy levels\, helping manage the physical demands of your caring role. Additionally\, yoga improves mental clarity\, emotional balance\, and overall well-being\, enabling you to approach your responsibilities with greater patience and resilience. \nDai from the Kindness Club welcomes all experience levels to her friendly group.  Make the most of your Monday lunchtime. \nDai’s Yoga sessions are held on Zoom:\nhttps://us02web.zoom.us/j/6817515813\nPasscode: 3655 \n \n			\n				Join
URL:https://barnetcarers.org/event/monday-lunchtime-yoga-with-the-kindness-club/2027-08-09/
LOCATION:Online
END:VEVENT
BEGIN:VEVENT
DTSTART;TZID=UTC:20270809T163000
DTEND;TZID=UTC:20270809T173000
DTSTAMP:20260420T072148
CREATED:20260109T101153Z
LAST-MODIFIED:20260109T101612Z
UID:10003122-1817829000-1817832600@barnetcarers.org
SUMMARY:Monday Mindfulness with Catherine
DESCRIPTION:A great way to start your week.  Mindfulness can be a great way of getting you\, as a carer\, some space in otherwise very busy lives. \nThe link for the Zoom meeting is here:  https://us02web.zoom.us/j/83714857299?pwd=OZVIATiSbs5urAzEzleU8DaulB47NF.1 \nThe meeting details are:\nMeeting ID: 837 1485 7299\nPasscode: 478305
URL:https://barnetcarers.org/event/monday-mindfulness-with-catherine/2027-08-09/
LOCATION:Online
CATEGORIES:Online,Wellbeing
END:VEVENT
BEGIN:VEVENT
DTSTART;TZID=UTC:20270810T110000
DTEND;TZID=UTC:20270810T120000
DTSTAMP:20260420T072148
CREATED:20250929T140307Z
LAST-MODIFIED:20251208T125515Z
UID:10000189-1817895600-1817899200@barnetcarers.org
SUMMARY:Carers Coffee and Chat
DESCRIPTION:Carers Community Weekly Group – Online\n				\n				\n			\n				\n				\n				\n				\n				Join Mike and Kezia at our offices in North Finchley for a coffee (or tea) and a chat.  This is an informal gathering that you can drop into.  If there are things we can do to help you\, we will do our best\, but it is also about having some friendly social time. \nWe look forward to seeing you there. \n3rd Floor (lift available)\nGlobal House\n303 Ballards Lane\nN12 8NP
URL:https://barnetcarers.org/event/carers-coffee-and-chat-2/2027-08-10/
LOCATION:Barnet Carers Centre\, Global House. 303 Ballards Lane\, North Finchley\, N12 8NP
CATEGORIES:Adult Carers,Information,Social
END:VEVENT
BEGIN:VEVENT
DTSTART;TZID=UTC:20270810T163000
DTEND;TZID=UTC:20270810T173000
DTSTAMP:20260420T072148
CREATED:20260109T102306Z
LAST-MODIFIED:20260109T102306Z
UID:10003383-1817915400-1817919000@barnetcarers.org
SUMMARY:Tuesday Yoga with Catherine
DESCRIPTION:Yoga is a great way of maintaining your well-being.  It is good for you both physically and mentally.  Catherine’s online classes are suitable for all – from the very beginner.  Why not give it a go? \nhttps://us02web.zoom.us/j/83692782693?pwd=0jqIgqqwL8CyVbvmmdRYryRiva6nms.1 \nMeeting ID: 836 9278 2693\nPasscode: 593370
URL:https://barnetcarers.org/event/tuesday-yoga-with-catherine/2027-08-10/
LOCATION:Online
CATEGORIES:Online,Relaxation,Wellbeing
END:VEVENT
BEGIN:VEVENT
DTSTART;TZID=UTC:20270811T140000
DTEND;TZID=UTC:20270811T150000
DTSTAMP:20260420T072148
CREATED:20250413T174130Z
LAST-MODIFIED:20250423T081350Z
UID:10000036-1817992800-1817996400@barnetcarers.org
SUMMARY:Barnet Carers Support Group
DESCRIPTION:Carers Community Weekly Group – Online\n				\n				\n			\n				\n				\n				\n				\n				This meeting\, hosted by Killian\, provides a safe\, friendly and informal environment for carers to interact and socialise; to provide information and advice to one another on various issues and to help those carers who may want to just forget about their caring role for an hour. The meeting is held on the second Wednesday of every month from 2pm to 3pm by Zoom. \nThe link to join zoom is the same each month https://us02web.zoom.us/j/85784464525?pwd=Mlp0V2xNR2Y4ZkgvSjY5YXJncHBDQT09\nOr you can join using Meeting ID: 857 8446 4525\, Passcode: 777540
URL:https://barnetcarers.org/event/barnet-carers-support-group/2027-08-11/
LOCATION:Online
END:VEVENT
BEGIN:VEVENT
DTSTART;TZID=UTC:20270811T183000
DTEND;TZID=UTC:20270811T200000
DTSTAMP:20260420T072148
CREATED:20260119T092356Z
LAST-MODIFIED:20260119T092407Z
UID:10003877-1818009000-1818014400@barnetcarers.org
SUMMARY:Carers Community Weekly Group - Online
DESCRIPTION:Carers Community Weekly Group – Online\n				\n				\n			\n				\n				\n				\n				\n				Join us by Zoom every week for the Carers Community.  This meeting is all about you so we will be experimenting to make sure we get a format that is right for people.  It will be led mostly by Mike Rich\, CEO at Barnet Carers but – when Mike is not available will be covered by others. \nWe would like to discuss a specific topic every week for part of the meeting and have a general discussion in the first part.  But we can discuss this as we go along. \nThe Zoom details are below:https://us02web.zoom.us/j/88417593825?pwd=tPmt4WJvRE4qT9hazKBwbxndYXpGmR.1Meeting ID: 884 1759 3825Passcode: 080384
URL:https://barnetcarers.org/event/carers-community-weekly-group-online/2027-08-11/
LOCATION:Online
CATEGORIES:Adult Carers,Online,Social
END:VEVENT
BEGIN:VEVENT
DTSTART;TZID=UTC:20270812T170000
DTEND;TZID=UTC:20270812T180000
DTSTAMP:20260420T072148
CREATED:20250413T173427Z
LAST-MODIFIED:20251224T161930Z
UID:10001373-1818090000-1818093600@barnetcarers.org
SUMMARY:Thursday Mindfulness with Lucy from Presence of Mind
DESCRIPTION:Carers Community Weekly Group – Online\n				\n				\n			\n				\n				\n				\n				\n				Mindfulness benefits carers by reducing stress\, improving emotional resilience\, and enhancing focus. It can help you stay present\, manage anxiety\, and prevent burnout\, leading to better decision-making and quality of care. Mindfulness also fosters self-compassion and emotional well-being\, allowing you to maintain a balanced\, healthier relationship with your responsibilities.  Join Lucy from Presence of Mind every Thursday to start\, or continue\, your mindfulness journey. \nLucy holds her mindfulness sessions on Zoom:\nMeeting ID: 858 3117 2416\nPasscode: 974166
URL:https://barnetcarers.org/event/thursday-mindfulness-with-lucy-from-presence-of-mind/2027-08-12/
LOCATION:Online
END:VEVENT
BEGIN:VEVENT
DTSTART;TZID=UTC:20270816T133000
DTEND;TZID=UTC:20270816T143000
DTSTAMP:20260420T072148
CREATED:20250413T172114Z
LAST-MODIFIED:20251224T162146Z
UID:10001635-1818423000-1818426600@barnetcarers.org
SUMMARY:Monday lunchtime Yoga with the Kindness Club
DESCRIPTION:Carers Community Weekly Group – Online\n				\n				\n			\n			\n				\n				\n				\n				\n			\n				\n				\n				\n				\n				\n				\n				\n				\n				\n				\n				Yoga can benefit you by relieving physical tension\, reducing stress\, and promoting relaxation. It enhances flexibility\, strength\, and energy levels\, helping manage the physical demands of your caring role. Additionally\, yoga improves mental clarity\, emotional balance\, and overall well-being\, enabling you to approach your responsibilities with greater patience and resilience. \nDai from the Kindness Club welcomes all experience levels to her friendly group.  Make the most of your Monday lunchtime. \nDai’s Yoga sessions are held on Zoom:\nhttps://us02web.zoom.us/j/6817515813\nPasscode: 3655 \n \n			\n				Join
URL:https://barnetcarers.org/event/monday-lunchtime-yoga-with-the-kindness-club/2027-08-16/
LOCATION:Online
END:VEVENT
BEGIN:VEVENT
DTSTART;TZID=UTC:20270816T163000
DTEND;TZID=UTC:20270816T173000
DTSTAMP:20260420T072148
CREATED:20260109T101153Z
LAST-MODIFIED:20260109T101612Z
UID:10003123-1818433800-1818437400@barnetcarers.org
SUMMARY:Monday Mindfulness with Catherine
DESCRIPTION:A great way to start your week.  Mindfulness can be a great way of getting you\, as a carer\, some space in otherwise very busy lives. \nThe link for the Zoom meeting is here:  https://us02web.zoom.us/j/83714857299?pwd=OZVIATiSbs5urAzEzleU8DaulB47NF.1 \nThe meeting details are:\nMeeting ID: 837 1485 7299\nPasscode: 478305
URL:https://barnetcarers.org/event/monday-mindfulness-with-catherine/2027-08-16/
LOCATION:Online
CATEGORIES:Online,Wellbeing
END:VEVENT
BEGIN:VEVENT
DTSTART;TZID=UTC:20270817T163000
DTEND;TZID=UTC:20270817T173000
DTSTAMP:20260420T072148
CREATED:20260109T102306Z
LAST-MODIFIED:20260109T102306Z
UID:10003384-1818520200-1818523800@barnetcarers.org
SUMMARY:Tuesday Yoga with Catherine
DESCRIPTION:Yoga is a great way of maintaining your well-being.  It is good for you both physically and mentally.  Catherine’s online classes are suitable for all – from the very beginner.  Why not give it a go? \nhttps://us02web.zoom.us/j/83692782693?pwd=0jqIgqqwL8CyVbvmmdRYryRiva6nms.1 \nMeeting ID: 836 9278 2693\nPasscode: 593370
URL:https://barnetcarers.org/event/tuesday-yoga-with-catherine/2027-08-17/
LOCATION:Online
CATEGORIES:Online,Relaxation,Wellbeing
END:VEVENT
BEGIN:VEVENT
DTSTART;TZID=UTC:20270818T183000
DTEND;TZID=UTC:20270818T200000
DTSTAMP:20260420T072148
CREATED:20260119T092356Z
LAST-MODIFIED:20260119T092407Z
UID:10003878-1818613800-1818619200@barnetcarers.org
SUMMARY:Carers Community Weekly Group - Online
DESCRIPTION:Carers Community Weekly Group – Online\n				\n				\n			\n				\n				\n				\n				\n				Join us by Zoom every week for the Carers Community.  This meeting is all about you so we will be experimenting to make sure we get a format that is right for people.  It will be led mostly by Mike Rich\, CEO at Barnet Carers but – when Mike is not available will be covered by others. \nWe would like to discuss a specific topic every week for part of the meeting and have a general discussion in the first part.  But we can discuss this as we go along. \nThe Zoom details are below:https://us02web.zoom.us/j/88417593825?pwd=tPmt4WJvRE4qT9hazKBwbxndYXpGmR.1Meeting ID: 884 1759 3825Passcode: 080384
URL:https://barnetcarers.org/event/carers-community-weekly-group-online/2027-08-18/
LOCATION:Online
CATEGORIES:Adult Carers,Online,Social
END:VEVENT
END:VCALENDAR