BEGIN:VCALENDAR
VERSION:2.0
PRODID:-//Barnet Carers - ECPv6.15.20//NONSGML v1.0//EN
CALSCALE:GREGORIAN
METHOD:PUBLISH
X-ORIGINAL-URL:https://barnetcarers.org
X-WR-CALDESC:Events for Barnet Carers
REFRESH-INTERVAL;VALUE=DURATION:PT1H
X-Robots-Tag:noindex
X-PUBLISHED-TTL:PT1H
BEGIN:VTIMEZONE
TZID:UTC
BEGIN:STANDARD
TZOFFSETFROM:+0000
TZOFFSETTO:+0000
TZNAME:UTC
DTSTART:20280101T000000
END:STANDARD
END:VTIMEZONE
BEGIN:VEVENT
DTSTART;TZID=UTC:20291217T163000
DTEND;TZID=UTC:20291217T173000
DTSTAMP:20260421T121928
CREATED:20260109T101153Z
LAST-MODIFIED:20260109T101612Z
UID:10003245-1892219400-1892223000@barnetcarers.org
SUMMARY:Monday Mindfulness with Catherine
DESCRIPTION:A great way to start your week.  Mindfulness can be a great way of getting you\, as a carer\, some space in otherwise very busy lives. \nThe link for the Zoom meeting is here:  https://us02web.zoom.us/j/83714857299?pwd=OZVIATiSbs5urAzEzleU8DaulB47NF.1 \nThe meeting details are:\nMeeting ID: 837 1485 7299\nPasscode: 478305
URL:https://barnetcarers.org/event/monday-mindfulness-with-catherine/2029-12-17/
LOCATION:Online
CATEGORIES:Online,Wellbeing
END:VEVENT
BEGIN:VEVENT
DTSTART;TZID=UTC:20291218T163000
DTEND;TZID=UTC:20291218T173000
DTSTAMP:20260421T121928
CREATED:20260109T102306Z
LAST-MODIFIED:20260109T102306Z
UID:10003506-1892305800-1892309400@barnetcarers.org
SUMMARY:Tuesday Yoga with Catherine
DESCRIPTION:Yoga is a great way of maintaining your well-being.  It is good for you both physically and mentally.  Catherine’s online classes are suitable for all – from the very beginner.  Why not give it a go? \nhttps://us02web.zoom.us/j/83692782693?pwd=0jqIgqqwL8CyVbvmmdRYryRiva6nms.1 \nMeeting ID: 836 9278 2693\nPasscode: 593370
URL:https://barnetcarers.org/event/tuesday-yoga-with-catherine/2029-12-18/
LOCATION:Online
CATEGORIES:Online,Relaxation,Wellbeing
END:VEVENT
BEGIN:VEVENT
DTSTART;TZID=UTC:20291224T163000
DTEND;TZID=UTC:20291224T173000
DTSTAMP:20260421T121928
CREATED:20260109T101153Z
LAST-MODIFIED:20260109T101612Z
UID:10003246-1892824200-1892827800@barnetcarers.org
SUMMARY:Monday Mindfulness with Catherine
DESCRIPTION:A great way to start your week.  Mindfulness can be a great way of getting you\, as a carer\, some space in otherwise very busy lives. \nThe link for the Zoom meeting is here:  https://us02web.zoom.us/j/83714857299?pwd=OZVIATiSbs5urAzEzleU8DaulB47NF.1 \nThe meeting details are:\nMeeting ID: 837 1485 7299\nPasscode: 478305
URL:https://barnetcarers.org/event/monday-mindfulness-with-catherine/2029-12-24/
LOCATION:Online
CATEGORIES:Online,Wellbeing
END:VEVENT
BEGIN:VEVENT
DTSTART;TZID=UTC:20291225T163000
DTEND;TZID=UTC:20291225T173000
DTSTAMP:20260421T121928
CREATED:20260109T102306Z
LAST-MODIFIED:20260109T102306Z
UID:10003507-1892910600-1892914200@barnetcarers.org
SUMMARY:Tuesday Yoga with Catherine
DESCRIPTION:Yoga is a great way of maintaining your well-being.  It is good for you both physically and mentally.  Catherine’s online classes are suitable for all – from the very beginner.  Why not give it a go? \nhttps://us02web.zoom.us/j/83692782693?pwd=0jqIgqqwL8CyVbvmmdRYryRiva6nms.1 \nMeeting ID: 836 9278 2693\nPasscode: 593370
URL:https://barnetcarers.org/event/tuesday-yoga-with-catherine/2029-12-25/
LOCATION:Online
CATEGORIES:Online,Relaxation,Wellbeing
END:VEVENT
BEGIN:VEVENT
DTSTART;TZID=UTC:20291231T163000
DTEND;TZID=UTC:20291231T173000
DTSTAMP:20260421T121928
CREATED:20260109T101153Z
LAST-MODIFIED:20260109T101612Z
UID:10003247-1893429000-1893432600@barnetcarers.org
SUMMARY:Monday Mindfulness with Catherine
DESCRIPTION:A great way to start your week.  Mindfulness can be a great way of getting you\, as a carer\, some space in otherwise very busy lives. \nThe link for the Zoom meeting is here:  https://us02web.zoom.us/j/83714857299?pwd=OZVIATiSbs5urAzEzleU8DaulB47NF.1 \nThe meeting details are:\nMeeting ID: 837 1485 7299\nPasscode: 478305
URL:https://barnetcarers.org/event/monday-mindfulness-with-catherine/2029-12-31/
LOCATION:Online
CATEGORIES:Online,Wellbeing
END:VEVENT
BEGIN:VEVENT
DTSTART;TZID=UTC:20300101T163000
DTEND;TZID=UTC:20300101T173000
DTSTAMP:20260421T121928
CREATED:20260109T102306Z
LAST-MODIFIED:20260109T102306Z
UID:10003508-1893515400-1893519000@barnetcarers.org
SUMMARY:Tuesday Yoga with Catherine
DESCRIPTION:Yoga is a great way of maintaining your well-being.  It is good for you both physically and mentally.  Catherine’s online classes are suitable for all – from the very beginner.  Why not give it a go? \nhttps://us02web.zoom.us/j/83692782693?pwd=0jqIgqqwL8CyVbvmmdRYryRiva6nms.1 \nMeeting ID: 836 9278 2693\nPasscode: 593370
URL:https://barnetcarers.org/event/tuesday-yoga-with-catherine/2030-01-01/
LOCATION:Online
CATEGORIES:Online,Relaxation,Wellbeing
END:VEVENT
BEGIN:VEVENT
DTSTART;TZID=UTC:20300107T163000
DTEND;TZID=UTC:20300107T173000
DTSTAMP:20260421T121928
CREATED:20260109T101153Z
LAST-MODIFIED:20260109T101612Z
UID:10003248-1894033800-1894037400@barnetcarers.org
SUMMARY:Monday Mindfulness with Catherine
DESCRIPTION:A great way to start your week.  Mindfulness can be a great way of getting you\, as a carer\, some space in otherwise very busy lives. \nThe link for the Zoom meeting is here:  https://us02web.zoom.us/j/83714857299?pwd=OZVIATiSbs5urAzEzleU8DaulB47NF.1 \nThe meeting details are:\nMeeting ID: 837 1485 7299\nPasscode: 478305
URL:https://barnetcarers.org/event/monday-mindfulness-with-catherine/2030-01-07/
LOCATION:Online
CATEGORIES:Online,Wellbeing
END:VEVENT
BEGIN:VEVENT
DTSTART;TZID=UTC:20300108T163000
DTEND;TZID=UTC:20300108T173000
DTSTAMP:20260421T121928
CREATED:20260109T102306Z
LAST-MODIFIED:20260109T102306Z
UID:10003509-1894120200-1894123800@barnetcarers.org
SUMMARY:Tuesday Yoga with Catherine
DESCRIPTION:Yoga is a great way of maintaining your well-being.  It is good for you both physically and mentally.  Catherine’s online classes are suitable for all – from the very beginner.  Why not give it a go? \nhttps://us02web.zoom.us/j/83692782693?pwd=0jqIgqqwL8CyVbvmmdRYryRiva6nms.1 \nMeeting ID: 836 9278 2693\nPasscode: 593370
URL:https://barnetcarers.org/event/tuesday-yoga-with-catherine/2030-01-08/
LOCATION:Online
CATEGORIES:Online,Relaxation,Wellbeing
END:VEVENT
BEGIN:VEVENT
DTSTART;TZID=UTC:20300114T163000
DTEND;TZID=UTC:20300114T173000
DTSTAMP:20260421T121928
CREATED:20260109T101153Z
LAST-MODIFIED:20260109T101612Z
UID:10003249-1894638600-1894642200@barnetcarers.org
SUMMARY:Monday Mindfulness with Catherine
DESCRIPTION:A great way to start your week.  Mindfulness can be a great way of getting you\, as a carer\, some space in otherwise very busy lives. \nThe link for the Zoom meeting is here:  https://us02web.zoom.us/j/83714857299?pwd=OZVIATiSbs5urAzEzleU8DaulB47NF.1 \nThe meeting details are:\nMeeting ID: 837 1485 7299\nPasscode: 478305
URL:https://barnetcarers.org/event/monday-mindfulness-with-catherine/2030-01-14/
LOCATION:Online
CATEGORIES:Online,Wellbeing
END:VEVENT
BEGIN:VEVENT
DTSTART;TZID=UTC:20300115T163000
DTEND;TZID=UTC:20300115T173000
DTSTAMP:20260421T121928
CREATED:20260109T102306Z
LAST-MODIFIED:20260109T102306Z
UID:10003510-1894725000-1894728600@barnetcarers.org
SUMMARY:Tuesday Yoga with Catherine
DESCRIPTION:Yoga is a great way of maintaining your well-being.  It is good for you both physically and mentally.  Catherine’s online classes are suitable for all – from the very beginner.  Why not give it a go? \nhttps://us02web.zoom.us/j/83692782693?pwd=0jqIgqqwL8CyVbvmmdRYryRiva6nms.1 \nMeeting ID: 836 9278 2693\nPasscode: 593370
URL:https://barnetcarers.org/event/tuesday-yoga-with-catherine/2030-01-15/
LOCATION:Online
CATEGORIES:Online,Relaxation,Wellbeing
END:VEVENT
BEGIN:VEVENT
DTSTART;TZID=UTC:20300121T163000
DTEND;TZID=UTC:20300121T173000
DTSTAMP:20260421T121928
CREATED:20260109T101153Z
LAST-MODIFIED:20260109T101612Z
UID:10003250-1895243400-1895247000@barnetcarers.org
SUMMARY:Monday Mindfulness with Catherine
DESCRIPTION:A great way to start your week.  Mindfulness can be a great way of getting you\, as a carer\, some space in otherwise very busy lives. \nThe link for the Zoom meeting is here:  https://us02web.zoom.us/j/83714857299?pwd=OZVIATiSbs5urAzEzleU8DaulB47NF.1 \nThe meeting details are:\nMeeting ID: 837 1485 7299\nPasscode: 478305
URL:https://barnetcarers.org/event/monday-mindfulness-with-catherine/2030-01-21/
LOCATION:Online
CATEGORIES:Online,Wellbeing
END:VEVENT
BEGIN:VEVENT
DTSTART;TZID=UTC:20300122T163000
DTEND;TZID=UTC:20300122T173000
DTSTAMP:20260421T121928
CREATED:20260109T102306Z
LAST-MODIFIED:20260109T102306Z
UID:10003511-1895329800-1895333400@barnetcarers.org
SUMMARY:Tuesday Yoga with Catherine
DESCRIPTION:Yoga is a great way of maintaining your well-being.  It is good for you both physically and mentally.  Catherine’s online classes are suitable for all – from the very beginner.  Why not give it a go? \nhttps://us02web.zoom.us/j/83692782693?pwd=0jqIgqqwL8CyVbvmmdRYryRiva6nms.1 \nMeeting ID: 836 9278 2693\nPasscode: 593370
URL:https://barnetcarers.org/event/tuesday-yoga-with-catherine/2030-01-22/
LOCATION:Online
CATEGORIES:Online,Relaxation,Wellbeing
END:VEVENT
BEGIN:VEVENT
DTSTART;TZID=UTC:20300128T163000
DTEND;TZID=UTC:20300128T173000
DTSTAMP:20260421T121928
CREATED:20260109T101153Z
LAST-MODIFIED:20260109T101612Z
UID:10003251-1895848200-1895851800@barnetcarers.org
SUMMARY:Monday Mindfulness with Catherine
DESCRIPTION:A great way to start your week.  Mindfulness can be a great way of getting you\, as a carer\, some space in otherwise very busy lives. \nThe link for the Zoom meeting is here:  https://us02web.zoom.us/j/83714857299?pwd=OZVIATiSbs5urAzEzleU8DaulB47NF.1 \nThe meeting details are:\nMeeting ID: 837 1485 7299\nPasscode: 478305
URL:https://barnetcarers.org/event/monday-mindfulness-with-catherine/2030-01-28/
LOCATION:Online
CATEGORIES:Online,Wellbeing
END:VEVENT
BEGIN:VEVENT
DTSTART;TZID=UTC:20300129T163000
DTEND;TZID=UTC:20300129T173000
DTSTAMP:20260421T121928
CREATED:20260109T102306Z
LAST-MODIFIED:20260109T102306Z
UID:10003512-1895934600-1895938200@barnetcarers.org
SUMMARY:Tuesday Yoga with Catherine
DESCRIPTION:Yoga is a great way of maintaining your well-being.  It is good for you both physically and mentally.  Catherine’s online classes are suitable for all – from the very beginner.  Why not give it a go? \nhttps://us02web.zoom.us/j/83692782693?pwd=0jqIgqqwL8CyVbvmmdRYryRiva6nms.1 \nMeeting ID: 836 9278 2693\nPasscode: 593370
URL:https://barnetcarers.org/event/tuesday-yoga-with-catherine/2030-01-29/
LOCATION:Online
CATEGORIES:Online,Relaxation,Wellbeing
END:VEVENT
BEGIN:VEVENT
DTSTART;TZID=UTC:20300204T163000
DTEND;TZID=UTC:20300204T173000
DTSTAMP:20260421T121928
CREATED:20260109T101153Z
LAST-MODIFIED:20260109T101612Z
UID:10003252-1896453000-1896456600@barnetcarers.org
SUMMARY:Monday Mindfulness with Catherine
DESCRIPTION:A great way to start your week.  Mindfulness can be a great way of getting you\, as a carer\, some space in otherwise very busy lives. \nThe link for the Zoom meeting is here:  https://us02web.zoom.us/j/83714857299?pwd=OZVIATiSbs5urAzEzleU8DaulB47NF.1 \nThe meeting details are:\nMeeting ID: 837 1485 7299\nPasscode: 478305
URL:https://barnetcarers.org/event/monday-mindfulness-with-catherine/2030-02-04/
LOCATION:Online
CATEGORIES:Online,Wellbeing
END:VEVENT
BEGIN:VEVENT
DTSTART;TZID=UTC:20300205T163000
DTEND;TZID=UTC:20300205T173000
DTSTAMP:20260421T121928
CREATED:20260109T102306Z
LAST-MODIFIED:20260109T102306Z
UID:10003513-1896539400-1896543000@barnetcarers.org
SUMMARY:Tuesday Yoga with Catherine
DESCRIPTION:Yoga is a great way of maintaining your well-being.  It is good for you both physically and mentally.  Catherine’s online classes are suitable for all – from the very beginner.  Why not give it a go? \nhttps://us02web.zoom.us/j/83692782693?pwd=0jqIgqqwL8CyVbvmmdRYryRiva6nms.1 \nMeeting ID: 836 9278 2693\nPasscode: 593370
URL:https://barnetcarers.org/event/tuesday-yoga-with-catherine/2030-02-05/
LOCATION:Online
CATEGORIES:Online,Relaxation,Wellbeing
END:VEVENT
BEGIN:VEVENT
DTSTART;TZID=UTC:20300211T163000
DTEND;TZID=UTC:20300211T173000
DTSTAMP:20260421T121928
CREATED:20260109T101153Z
LAST-MODIFIED:20260109T101612Z
UID:10003253-1897057800-1897061400@barnetcarers.org
SUMMARY:Monday Mindfulness with Catherine
DESCRIPTION:A great way to start your week.  Mindfulness can be a great way of getting you\, as a carer\, some space in otherwise very busy lives. \nThe link for the Zoom meeting is here:  https://us02web.zoom.us/j/83714857299?pwd=OZVIATiSbs5urAzEzleU8DaulB47NF.1 \nThe meeting details are:\nMeeting ID: 837 1485 7299\nPasscode: 478305
URL:https://barnetcarers.org/event/monday-mindfulness-with-catherine/2030-02-11/
LOCATION:Online
CATEGORIES:Online,Wellbeing
END:VEVENT
BEGIN:VEVENT
DTSTART;TZID=UTC:20300212T163000
DTEND;TZID=UTC:20300212T173000
DTSTAMP:20260421T121928
CREATED:20260109T102306Z
LAST-MODIFIED:20260109T102306Z
UID:10003514-1897144200-1897147800@barnetcarers.org
SUMMARY:Tuesday Yoga with Catherine
DESCRIPTION:Yoga is a great way of maintaining your well-being.  It is good for you both physically and mentally.  Catherine’s online classes are suitable for all – from the very beginner.  Why not give it a go? \nhttps://us02web.zoom.us/j/83692782693?pwd=0jqIgqqwL8CyVbvmmdRYryRiva6nms.1 \nMeeting ID: 836 9278 2693\nPasscode: 593370
URL:https://barnetcarers.org/event/tuesday-yoga-with-catherine/2030-02-12/
LOCATION:Online
CATEGORIES:Online,Relaxation,Wellbeing
END:VEVENT
BEGIN:VEVENT
DTSTART;TZID=UTC:20300218T163000
DTEND;TZID=UTC:20300218T173000
DTSTAMP:20260421T121928
CREATED:20260109T101153Z
LAST-MODIFIED:20260109T101612Z
UID:10003254-1897662600-1897666200@barnetcarers.org
SUMMARY:Monday Mindfulness with Catherine
DESCRIPTION:A great way to start your week.  Mindfulness can be a great way of getting you\, as a carer\, some space in otherwise very busy lives. \nThe link for the Zoom meeting is here:  https://us02web.zoom.us/j/83714857299?pwd=OZVIATiSbs5urAzEzleU8DaulB47NF.1 \nThe meeting details are:\nMeeting ID: 837 1485 7299\nPasscode: 478305
URL:https://barnetcarers.org/event/monday-mindfulness-with-catherine/2030-02-18/
LOCATION:Online
CATEGORIES:Online,Wellbeing
END:VEVENT
BEGIN:VEVENT
DTSTART;TZID=UTC:20300219T163000
DTEND;TZID=UTC:20300219T173000
DTSTAMP:20260421T121928
CREATED:20260109T102306Z
LAST-MODIFIED:20260109T102306Z
UID:10003515-1897749000-1897752600@barnetcarers.org
SUMMARY:Tuesday Yoga with Catherine
DESCRIPTION:Yoga is a great way of maintaining your well-being.  It is good for you both physically and mentally.  Catherine’s online classes are suitable for all – from the very beginner.  Why not give it a go? \nhttps://us02web.zoom.us/j/83692782693?pwd=0jqIgqqwL8CyVbvmmdRYryRiva6nms.1 \nMeeting ID: 836 9278 2693\nPasscode: 593370
URL:https://barnetcarers.org/event/tuesday-yoga-with-catherine/2030-02-19/
LOCATION:Online
CATEGORIES:Online,Relaxation,Wellbeing
END:VEVENT
BEGIN:VEVENT
DTSTART;TZID=UTC:20300225T163000
DTEND;TZID=UTC:20300225T173000
DTSTAMP:20260421T121928
CREATED:20260109T101153Z
LAST-MODIFIED:20260109T101612Z
UID:10003255-1898267400-1898271000@barnetcarers.org
SUMMARY:Monday Mindfulness with Catherine
DESCRIPTION:A great way to start your week.  Mindfulness can be a great way of getting you\, as a carer\, some space in otherwise very busy lives. \nThe link for the Zoom meeting is here:  https://us02web.zoom.us/j/83714857299?pwd=OZVIATiSbs5urAzEzleU8DaulB47NF.1 \nThe meeting details are:\nMeeting ID: 837 1485 7299\nPasscode: 478305
URL:https://barnetcarers.org/event/monday-mindfulness-with-catherine/2030-02-25/
LOCATION:Online
CATEGORIES:Online,Wellbeing
END:VEVENT
BEGIN:VEVENT
DTSTART;TZID=UTC:20300226T163000
DTEND;TZID=UTC:20300226T173000
DTSTAMP:20260421T121928
CREATED:20260109T102306Z
LAST-MODIFIED:20260109T102306Z
UID:10003516-1898353800-1898357400@barnetcarers.org
SUMMARY:Tuesday Yoga with Catherine
DESCRIPTION:Yoga is a great way of maintaining your well-being.  It is good for you both physically and mentally.  Catherine’s online classes are suitable for all – from the very beginner.  Why not give it a go? \nhttps://us02web.zoom.us/j/83692782693?pwd=0jqIgqqwL8CyVbvmmdRYryRiva6nms.1 \nMeeting ID: 836 9278 2693\nPasscode: 593370
URL:https://barnetcarers.org/event/tuesday-yoga-with-catherine/2030-02-26/
LOCATION:Online
CATEGORIES:Online,Relaxation,Wellbeing
END:VEVENT
BEGIN:VEVENT
DTSTART;TZID=UTC:20300304T163000
DTEND;TZID=UTC:20300304T173000
DTSTAMP:20260421T121928
CREATED:20260109T101153Z
LAST-MODIFIED:20260109T101612Z
UID:10003256-1898872200-1898875800@barnetcarers.org
SUMMARY:Monday Mindfulness with Catherine
DESCRIPTION:A great way to start your week.  Mindfulness can be a great way of getting you\, as a carer\, some space in otherwise very busy lives. \nThe link for the Zoom meeting is here:  https://us02web.zoom.us/j/83714857299?pwd=OZVIATiSbs5urAzEzleU8DaulB47NF.1 \nThe meeting details are:\nMeeting ID: 837 1485 7299\nPasscode: 478305
URL:https://barnetcarers.org/event/monday-mindfulness-with-catherine/2030-03-04/
LOCATION:Online
CATEGORIES:Online,Wellbeing
END:VEVENT
BEGIN:VEVENT
DTSTART;TZID=UTC:20300305T163000
DTEND;TZID=UTC:20300305T173000
DTSTAMP:20260421T121928
CREATED:20260109T102306Z
LAST-MODIFIED:20260109T102306Z
UID:10003517-1898958600-1898962200@barnetcarers.org
SUMMARY:Tuesday Yoga with Catherine
DESCRIPTION:Yoga is a great way of maintaining your well-being.  It is good for you both physically and mentally.  Catherine’s online classes are suitable for all – from the very beginner.  Why not give it a go? \nhttps://us02web.zoom.us/j/83692782693?pwd=0jqIgqqwL8CyVbvmmdRYryRiva6nms.1 \nMeeting ID: 836 9278 2693\nPasscode: 593370
URL:https://barnetcarers.org/event/tuesday-yoga-with-catherine/2030-03-05/
LOCATION:Online
CATEGORIES:Online,Relaxation,Wellbeing
END:VEVENT
BEGIN:VEVENT
DTSTART;TZID=UTC:20300311T163000
DTEND;TZID=UTC:20300311T173000
DTSTAMP:20260421T121928
CREATED:20260109T101153Z
LAST-MODIFIED:20260109T101612Z
UID:10003257-1899477000-1899480600@barnetcarers.org
SUMMARY:Monday Mindfulness with Catherine
DESCRIPTION:A great way to start your week.  Mindfulness can be a great way of getting you\, as a carer\, some space in otherwise very busy lives. \nThe link for the Zoom meeting is here:  https://us02web.zoom.us/j/83714857299?pwd=OZVIATiSbs5urAzEzleU8DaulB47NF.1 \nThe meeting details are:\nMeeting ID: 837 1485 7299\nPasscode: 478305
URL:https://barnetcarers.org/event/monday-mindfulness-with-catherine/2030-03-11/
LOCATION:Online
CATEGORIES:Online,Wellbeing
END:VEVENT
BEGIN:VEVENT
DTSTART;TZID=UTC:20300312T163000
DTEND;TZID=UTC:20300312T173000
DTSTAMP:20260421T121928
CREATED:20260109T102306Z
LAST-MODIFIED:20260109T102306Z
UID:10003518-1899563400-1899567000@barnetcarers.org
SUMMARY:Tuesday Yoga with Catherine
DESCRIPTION:Yoga is a great way of maintaining your well-being.  It is good for you both physically and mentally.  Catherine’s online classes are suitable for all – from the very beginner.  Why not give it a go? \nhttps://us02web.zoom.us/j/83692782693?pwd=0jqIgqqwL8CyVbvmmdRYryRiva6nms.1 \nMeeting ID: 836 9278 2693\nPasscode: 593370
URL:https://barnetcarers.org/event/tuesday-yoga-with-catherine/2030-03-12/
LOCATION:Online
CATEGORIES:Online,Relaxation,Wellbeing
END:VEVENT
BEGIN:VEVENT
DTSTART;TZID=UTC:20300318T163000
DTEND;TZID=UTC:20300318T173000
DTSTAMP:20260421T121928
CREATED:20260109T101153Z
LAST-MODIFIED:20260109T101612Z
UID:10003258-1900081800-1900085400@barnetcarers.org
SUMMARY:Monday Mindfulness with Catherine
DESCRIPTION:A great way to start your week.  Mindfulness can be a great way of getting you\, as a carer\, some space in otherwise very busy lives. \nThe link for the Zoom meeting is here:  https://us02web.zoom.us/j/83714857299?pwd=OZVIATiSbs5urAzEzleU8DaulB47NF.1 \nThe meeting details are:\nMeeting ID: 837 1485 7299\nPasscode: 478305
URL:https://barnetcarers.org/event/monday-mindfulness-with-catherine/2030-03-18/
LOCATION:Online
CATEGORIES:Online,Wellbeing
END:VEVENT
BEGIN:VEVENT
DTSTART;TZID=UTC:20300319T163000
DTEND;TZID=UTC:20300319T173000
DTSTAMP:20260421T121928
CREATED:20260109T102306Z
LAST-MODIFIED:20260109T102306Z
UID:10003519-1900168200-1900171800@barnetcarers.org
SUMMARY:Tuesday Yoga with Catherine
DESCRIPTION:Yoga is a great way of maintaining your well-being.  It is good for you both physically and mentally.  Catherine’s online classes are suitable for all – from the very beginner.  Why not give it a go? \nhttps://us02web.zoom.us/j/83692782693?pwd=0jqIgqqwL8CyVbvmmdRYryRiva6nms.1 \nMeeting ID: 836 9278 2693\nPasscode: 593370
URL:https://barnetcarers.org/event/tuesday-yoga-with-catherine/2030-03-19/
LOCATION:Online
CATEGORIES:Online,Relaxation,Wellbeing
END:VEVENT
BEGIN:VEVENT
DTSTART;TZID=UTC:20300325T163000
DTEND;TZID=UTC:20300325T173000
DTSTAMP:20260421T121928
CREATED:20260109T101153Z
LAST-MODIFIED:20260109T101612Z
UID:10003259-1900686600-1900690200@barnetcarers.org
SUMMARY:Monday Mindfulness with Catherine
DESCRIPTION:A great way to start your week.  Mindfulness can be a great way of getting you\, as a carer\, some space in otherwise very busy lives. \nThe link for the Zoom meeting is here:  https://us02web.zoom.us/j/83714857299?pwd=OZVIATiSbs5urAzEzleU8DaulB47NF.1 \nThe meeting details are:\nMeeting ID: 837 1485 7299\nPasscode: 478305
URL:https://barnetcarers.org/event/monday-mindfulness-with-catherine/2030-03-25/
LOCATION:Online
CATEGORIES:Online,Wellbeing
END:VEVENT
BEGIN:VEVENT
DTSTART;TZID=UTC:20300326T163000
DTEND;TZID=UTC:20300326T173000
DTSTAMP:20260421T121928
CREATED:20260109T102306Z
LAST-MODIFIED:20260109T102306Z
UID:10003520-1900773000-1900776600@barnetcarers.org
SUMMARY:Tuesday Yoga with Catherine
DESCRIPTION:Yoga is a great way of maintaining your well-being.  It is good for you both physically and mentally.  Catherine’s online classes are suitable for all – from the very beginner.  Why not give it a go? \nhttps://us02web.zoom.us/j/83692782693?pwd=0jqIgqqwL8CyVbvmmdRYryRiva6nms.1 \nMeeting ID: 836 9278 2693\nPasscode: 593370
URL:https://barnetcarers.org/event/tuesday-yoga-with-catherine/2030-03-26/
LOCATION:Online
CATEGORIES:Online,Relaxation,Wellbeing
END:VEVENT
END:VCALENDAR