BEGIN:VCALENDAR
VERSION:2.0
PRODID:-//Barnet Carers - ECPv6.15.20//NONSGML v1.0//EN
CALSCALE:GREGORIAN
METHOD:PUBLISH
X-WR-CALNAME:Barnet Carers
X-ORIGINAL-URL:https://barnetcarers.org
X-WR-CALDESC:Events for Barnet Carers
REFRESH-INTERVAL;VALUE=DURATION:PT1H
X-Robots-Tag:noindex
X-PUBLISHED-TTL:PT1H
BEGIN:VTIMEZONE
TZID:UTC
BEGIN:STANDARD
TZOFFSETFROM:+0000
TZOFFSETTO:+0000
TZNAME:UTC
DTSTART:20290101T000000
END:STANDARD
END:VTIMEZONE
BEGIN:VEVENT
DTSTART;TZID=UTC:20300218T163000
DTEND;TZID=UTC:20300218T173000
DTSTAMP:20260421T152511
CREATED:20260109T101153Z
LAST-MODIFIED:20260109T101612Z
UID:10003254-1897662600-1897666200@barnetcarers.org
SUMMARY:Monday Mindfulness with Catherine
DESCRIPTION:A great way to start your week.  Mindfulness can be a great way of getting you\, as a carer\, some space in otherwise very busy lives. \nThe link for the Zoom meeting is here:  https://us02web.zoom.us/j/83714857299?pwd=OZVIATiSbs5urAzEzleU8DaulB47NF.1 \nThe meeting details are:\nMeeting ID: 837 1485 7299\nPasscode: 478305
URL:https://barnetcarers.org/event/monday-mindfulness-with-catherine/2030-02-18/
LOCATION:Online
CATEGORIES:Online,Wellbeing
END:VEVENT
BEGIN:VEVENT
DTSTART;TZID=UTC:20300219T163000
DTEND;TZID=UTC:20300219T173000
DTSTAMP:20260421T152511
CREATED:20260109T102306Z
LAST-MODIFIED:20260109T102306Z
UID:10003515-1897749000-1897752600@barnetcarers.org
SUMMARY:Tuesday Yoga with Catherine
DESCRIPTION:Yoga is a great way of maintaining your well-being.  It is good for you both physically and mentally.  Catherine’s online classes are suitable for all – from the very beginner.  Why not give it a go? \nhttps://us02web.zoom.us/j/83692782693?pwd=0jqIgqqwL8CyVbvmmdRYryRiva6nms.1 \nMeeting ID: 836 9278 2693\nPasscode: 593370
URL:https://barnetcarers.org/event/tuesday-yoga-with-catherine/2030-02-19/
LOCATION:Online
CATEGORIES:Online,Relaxation,Wellbeing
END:VEVENT
BEGIN:VEVENT
DTSTART;TZID=UTC:20300225T163000
DTEND;TZID=UTC:20300225T173000
DTSTAMP:20260421T152511
CREATED:20260109T101153Z
LAST-MODIFIED:20260109T101612Z
UID:10003255-1898267400-1898271000@barnetcarers.org
SUMMARY:Monday Mindfulness with Catherine
DESCRIPTION:A great way to start your week.  Mindfulness can be a great way of getting you\, as a carer\, some space in otherwise very busy lives. \nThe link for the Zoom meeting is here:  https://us02web.zoom.us/j/83714857299?pwd=OZVIATiSbs5urAzEzleU8DaulB47NF.1 \nThe meeting details are:\nMeeting ID: 837 1485 7299\nPasscode: 478305
URL:https://barnetcarers.org/event/monday-mindfulness-with-catherine/2030-02-25/
LOCATION:Online
CATEGORIES:Online,Wellbeing
END:VEVENT
BEGIN:VEVENT
DTSTART;TZID=UTC:20300226T163000
DTEND;TZID=UTC:20300226T173000
DTSTAMP:20260421T152511
CREATED:20260109T102306Z
LAST-MODIFIED:20260109T102306Z
UID:10003516-1898353800-1898357400@barnetcarers.org
SUMMARY:Tuesday Yoga with Catherine
DESCRIPTION:Yoga is a great way of maintaining your well-being.  It is good for you both physically and mentally.  Catherine’s online classes are suitable for all – from the very beginner.  Why not give it a go? \nhttps://us02web.zoom.us/j/83692782693?pwd=0jqIgqqwL8CyVbvmmdRYryRiva6nms.1 \nMeeting ID: 836 9278 2693\nPasscode: 593370
URL:https://barnetcarers.org/event/tuesday-yoga-with-catherine/2030-02-26/
LOCATION:Online
CATEGORIES:Online,Relaxation,Wellbeing
END:VEVENT
BEGIN:VEVENT
DTSTART;TZID=UTC:20300304T163000
DTEND;TZID=UTC:20300304T173000
DTSTAMP:20260421T152511
CREATED:20260109T101153Z
LAST-MODIFIED:20260109T101612Z
UID:10003256-1898872200-1898875800@barnetcarers.org
SUMMARY:Monday Mindfulness with Catherine
DESCRIPTION:A great way to start your week.  Mindfulness can be a great way of getting you\, as a carer\, some space in otherwise very busy lives. \nThe link for the Zoom meeting is here:  https://us02web.zoom.us/j/83714857299?pwd=OZVIATiSbs5urAzEzleU8DaulB47NF.1 \nThe meeting details are:\nMeeting ID: 837 1485 7299\nPasscode: 478305
URL:https://barnetcarers.org/event/monday-mindfulness-with-catherine/2030-03-04/
LOCATION:Online
CATEGORIES:Online,Wellbeing
END:VEVENT
BEGIN:VEVENT
DTSTART;TZID=UTC:20300305T163000
DTEND;TZID=UTC:20300305T173000
DTSTAMP:20260421T152511
CREATED:20260109T102306Z
LAST-MODIFIED:20260109T102306Z
UID:10003517-1898958600-1898962200@barnetcarers.org
SUMMARY:Tuesday Yoga with Catherine
DESCRIPTION:Yoga is a great way of maintaining your well-being.  It is good for you both physically and mentally.  Catherine’s online classes are suitable for all – from the very beginner.  Why not give it a go? \nhttps://us02web.zoom.us/j/83692782693?pwd=0jqIgqqwL8CyVbvmmdRYryRiva6nms.1 \nMeeting ID: 836 9278 2693\nPasscode: 593370
URL:https://barnetcarers.org/event/tuesday-yoga-with-catherine/2030-03-05/
LOCATION:Online
CATEGORIES:Online,Relaxation,Wellbeing
END:VEVENT
BEGIN:VEVENT
DTSTART;TZID=UTC:20300311T163000
DTEND;TZID=UTC:20300311T173000
DTSTAMP:20260421T152511
CREATED:20260109T101153Z
LAST-MODIFIED:20260109T101612Z
UID:10003257-1899477000-1899480600@barnetcarers.org
SUMMARY:Monday Mindfulness with Catherine
DESCRIPTION:A great way to start your week.  Mindfulness can be a great way of getting you\, as a carer\, some space in otherwise very busy lives. \nThe link for the Zoom meeting is here:  https://us02web.zoom.us/j/83714857299?pwd=OZVIATiSbs5urAzEzleU8DaulB47NF.1 \nThe meeting details are:\nMeeting ID: 837 1485 7299\nPasscode: 478305
URL:https://barnetcarers.org/event/monday-mindfulness-with-catherine/2030-03-11/
LOCATION:Online
CATEGORIES:Online,Wellbeing
END:VEVENT
BEGIN:VEVENT
DTSTART;TZID=UTC:20300312T163000
DTEND;TZID=UTC:20300312T173000
DTSTAMP:20260421T152511
CREATED:20260109T102306Z
LAST-MODIFIED:20260109T102306Z
UID:10003518-1899563400-1899567000@barnetcarers.org
SUMMARY:Tuesday Yoga with Catherine
DESCRIPTION:Yoga is a great way of maintaining your well-being.  It is good for you both physically and mentally.  Catherine’s online classes are suitable for all – from the very beginner.  Why not give it a go? \nhttps://us02web.zoom.us/j/83692782693?pwd=0jqIgqqwL8CyVbvmmdRYryRiva6nms.1 \nMeeting ID: 836 9278 2693\nPasscode: 593370
URL:https://barnetcarers.org/event/tuesday-yoga-with-catherine/2030-03-12/
LOCATION:Online
CATEGORIES:Online,Relaxation,Wellbeing
END:VEVENT
BEGIN:VEVENT
DTSTART;TZID=UTC:20300318T163000
DTEND;TZID=UTC:20300318T173000
DTSTAMP:20260421T152511
CREATED:20260109T101153Z
LAST-MODIFIED:20260109T101612Z
UID:10003258-1900081800-1900085400@barnetcarers.org
SUMMARY:Monday Mindfulness with Catherine
DESCRIPTION:A great way to start your week.  Mindfulness can be a great way of getting you\, as a carer\, some space in otherwise very busy lives. \nThe link for the Zoom meeting is here:  https://us02web.zoom.us/j/83714857299?pwd=OZVIATiSbs5urAzEzleU8DaulB47NF.1 \nThe meeting details are:\nMeeting ID: 837 1485 7299\nPasscode: 478305
URL:https://barnetcarers.org/event/monday-mindfulness-with-catherine/2030-03-18/
LOCATION:Online
CATEGORIES:Online,Wellbeing
END:VEVENT
BEGIN:VEVENT
DTSTART;TZID=UTC:20300319T163000
DTEND;TZID=UTC:20300319T173000
DTSTAMP:20260421T152511
CREATED:20260109T102306Z
LAST-MODIFIED:20260109T102306Z
UID:10003519-1900168200-1900171800@barnetcarers.org
SUMMARY:Tuesday Yoga with Catherine
DESCRIPTION:Yoga is a great way of maintaining your well-being.  It is good for you both physically and mentally.  Catherine’s online classes are suitable for all – from the very beginner.  Why not give it a go? \nhttps://us02web.zoom.us/j/83692782693?pwd=0jqIgqqwL8CyVbvmmdRYryRiva6nms.1 \nMeeting ID: 836 9278 2693\nPasscode: 593370
URL:https://barnetcarers.org/event/tuesday-yoga-with-catherine/2030-03-19/
LOCATION:Online
CATEGORIES:Online,Relaxation,Wellbeing
END:VEVENT
BEGIN:VEVENT
DTSTART;TZID=UTC:20300325T163000
DTEND;TZID=UTC:20300325T173000
DTSTAMP:20260421T152511
CREATED:20260109T101153Z
LAST-MODIFIED:20260109T101612Z
UID:10003259-1900686600-1900690200@barnetcarers.org
SUMMARY:Monday Mindfulness with Catherine
DESCRIPTION:A great way to start your week.  Mindfulness can be a great way of getting you\, as a carer\, some space in otherwise very busy lives. \nThe link for the Zoom meeting is here:  https://us02web.zoom.us/j/83714857299?pwd=OZVIATiSbs5urAzEzleU8DaulB47NF.1 \nThe meeting details are:\nMeeting ID: 837 1485 7299\nPasscode: 478305
URL:https://barnetcarers.org/event/monday-mindfulness-with-catherine/2030-03-25/
LOCATION:Online
CATEGORIES:Online,Wellbeing
END:VEVENT
BEGIN:VEVENT
DTSTART;TZID=UTC:20300326T163000
DTEND;TZID=UTC:20300326T173000
DTSTAMP:20260421T152511
CREATED:20260109T102306Z
LAST-MODIFIED:20260109T102306Z
UID:10003520-1900773000-1900776600@barnetcarers.org
SUMMARY:Tuesday Yoga with Catherine
DESCRIPTION:Yoga is a great way of maintaining your well-being.  It is good for you both physically and mentally.  Catherine’s online classes are suitable for all – from the very beginner.  Why not give it a go? \nhttps://us02web.zoom.us/j/83692782693?pwd=0jqIgqqwL8CyVbvmmdRYryRiva6nms.1 \nMeeting ID: 836 9278 2693\nPasscode: 593370
URL:https://barnetcarers.org/event/tuesday-yoga-with-catherine/2030-03-26/
LOCATION:Online
CATEGORIES:Online,Relaxation,Wellbeing
END:VEVENT
BEGIN:VEVENT
DTSTART;TZID=UTC:20300401T163000
DTEND;TZID=UTC:20300401T173000
DTSTAMP:20260421T152511
CREATED:20260109T101153Z
LAST-MODIFIED:20260109T101612Z
UID:10003260-1901291400-1901295000@barnetcarers.org
SUMMARY:Monday Mindfulness with Catherine
DESCRIPTION:A great way to start your week.  Mindfulness can be a great way of getting you\, as a carer\, some space in otherwise very busy lives. \nThe link for the Zoom meeting is here:  https://us02web.zoom.us/j/83714857299?pwd=OZVIATiSbs5urAzEzleU8DaulB47NF.1 \nThe meeting details are:\nMeeting ID: 837 1485 7299\nPasscode: 478305
URL:https://barnetcarers.org/event/monday-mindfulness-with-catherine/2030-04-01/
LOCATION:Online
CATEGORIES:Online,Wellbeing
END:VEVENT
BEGIN:VEVENT
DTSTART;TZID=UTC:20300402T163000
DTEND;TZID=UTC:20300402T173000
DTSTAMP:20260421T152511
CREATED:20260109T102306Z
LAST-MODIFIED:20260109T102306Z
UID:10003521-1901377800-1901381400@barnetcarers.org
SUMMARY:Tuesday Yoga with Catherine
DESCRIPTION:Yoga is a great way of maintaining your well-being.  It is good for you both physically and mentally.  Catherine’s online classes are suitable for all – from the very beginner.  Why not give it a go? \nhttps://us02web.zoom.us/j/83692782693?pwd=0jqIgqqwL8CyVbvmmdRYryRiva6nms.1 \nMeeting ID: 836 9278 2693\nPasscode: 593370
URL:https://barnetcarers.org/event/tuesday-yoga-with-catherine/2030-04-02/
LOCATION:Online
CATEGORIES:Online,Relaxation,Wellbeing
END:VEVENT
BEGIN:VEVENT
DTSTART;TZID=UTC:20300408T163000
DTEND;TZID=UTC:20300408T173000
DTSTAMP:20260421T152511
CREATED:20260109T101153Z
LAST-MODIFIED:20260109T101612Z
UID:10003261-1901896200-1901899800@barnetcarers.org
SUMMARY:Monday Mindfulness with Catherine
DESCRIPTION:A great way to start your week.  Mindfulness can be a great way of getting you\, as a carer\, some space in otherwise very busy lives. \nThe link for the Zoom meeting is here:  https://us02web.zoom.us/j/83714857299?pwd=OZVIATiSbs5urAzEzleU8DaulB47NF.1 \nThe meeting details are:\nMeeting ID: 837 1485 7299\nPasscode: 478305
URL:https://barnetcarers.org/event/monday-mindfulness-with-catherine/2030-04-08/
LOCATION:Online
CATEGORIES:Online,Wellbeing
END:VEVENT
BEGIN:VEVENT
DTSTART;TZID=UTC:20300409T163000
DTEND;TZID=UTC:20300409T173000
DTSTAMP:20260421T152511
CREATED:20260109T102306Z
LAST-MODIFIED:20260109T102306Z
UID:10003522-1901982600-1901986200@barnetcarers.org
SUMMARY:Tuesday Yoga with Catherine
DESCRIPTION:Yoga is a great way of maintaining your well-being.  It is good for you both physically and mentally.  Catherine’s online classes are suitable for all – from the very beginner.  Why not give it a go? \nhttps://us02web.zoom.us/j/83692782693?pwd=0jqIgqqwL8CyVbvmmdRYryRiva6nms.1 \nMeeting ID: 836 9278 2693\nPasscode: 593370
URL:https://barnetcarers.org/event/tuesday-yoga-with-catherine/2030-04-09/
LOCATION:Online
CATEGORIES:Online,Relaxation,Wellbeing
END:VEVENT
BEGIN:VEVENT
DTSTART;TZID=UTC:20300415T163000
DTEND;TZID=UTC:20300415T173000
DTSTAMP:20260421T152511
CREATED:20260109T101153Z
LAST-MODIFIED:20260109T101612Z
UID:10003262-1902501000-1902504600@barnetcarers.org
SUMMARY:Monday Mindfulness with Catherine
DESCRIPTION:A great way to start your week.  Mindfulness can be a great way of getting you\, as a carer\, some space in otherwise very busy lives. \nThe link for the Zoom meeting is here:  https://us02web.zoom.us/j/83714857299?pwd=OZVIATiSbs5urAzEzleU8DaulB47NF.1 \nThe meeting details are:\nMeeting ID: 837 1485 7299\nPasscode: 478305
URL:https://barnetcarers.org/event/monday-mindfulness-with-catherine/2030-04-15/
LOCATION:Online
CATEGORIES:Online,Wellbeing
END:VEVENT
BEGIN:VEVENT
DTSTART;TZID=UTC:20300416T163000
DTEND;TZID=UTC:20300416T173000
DTSTAMP:20260421T152511
CREATED:20260109T102306Z
LAST-MODIFIED:20260109T102306Z
UID:10003523-1902587400-1902591000@barnetcarers.org
SUMMARY:Tuesday Yoga with Catherine
DESCRIPTION:Yoga is a great way of maintaining your well-being.  It is good for you both physically and mentally.  Catherine’s online classes are suitable for all – from the very beginner.  Why not give it a go? \nhttps://us02web.zoom.us/j/83692782693?pwd=0jqIgqqwL8CyVbvmmdRYryRiva6nms.1 \nMeeting ID: 836 9278 2693\nPasscode: 593370
URL:https://barnetcarers.org/event/tuesday-yoga-with-catherine/2030-04-16/
LOCATION:Online
CATEGORIES:Online,Relaxation,Wellbeing
END:VEVENT
BEGIN:VEVENT
DTSTART;TZID=UTC:20300422T163000
DTEND;TZID=UTC:20300422T173000
DTSTAMP:20260421T152511
CREATED:20260109T101153Z
LAST-MODIFIED:20260109T101612Z
UID:10003263-1903105800-1903109400@barnetcarers.org
SUMMARY:Monday Mindfulness with Catherine
DESCRIPTION:A great way to start your week.  Mindfulness can be a great way of getting you\, as a carer\, some space in otherwise very busy lives. \nThe link for the Zoom meeting is here:  https://us02web.zoom.us/j/83714857299?pwd=OZVIATiSbs5urAzEzleU8DaulB47NF.1 \nThe meeting details are:\nMeeting ID: 837 1485 7299\nPasscode: 478305
URL:https://barnetcarers.org/event/monday-mindfulness-with-catherine/2030-04-22/
LOCATION:Online
CATEGORIES:Online,Wellbeing
END:VEVENT
BEGIN:VEVENT
DTSTART;TZID=UTC:20300423T163000
DTEND;TZID=UTC:20300423T173000
DTSTAMP:20260421T152511
CREATED:20260109T102306Z
LAST-MODIFIED:20260109T102306Z
UID:10003524-1903192200-1903195800@barnetcarers.org
SUMMARY:Tuesday Yoga with Catherine
DESCRIPTION:Yoga is a great way of maintaining your well-being.  It is good for you both physically and mentally.  Catherine’s online classes are suitable for all – from the very beginner.  Why not give it a go? \nhttps://us02web.zoom.us/j/83692782693?pwd=0jqIgqqwL8CyVbvmmdRYryRiva6nms.1 \nMeeting ID: 836 9278 2693\nPasscode: 593370
URL:https://barnetcarers.org/event/tuesday-yoga-with-catherine/2030-04-23/
LOCATION:Online
CATEGORIES:Online,Relaxation,Wellbeing
END:VEVENT
BEGIN:VEVENT
DTSTART;TZID=UTC:20300429T163000
DTEND;TZID=UTC:20300429T173000
DTSTAMP:20260421T152511
CREATED:20260109T101153Z
LAST-MODIFIED:20260109T101612Z
UID:10003264-1903710600-1903714200@barnetcarers.org
SUMMARY:Monday Mindfulness with Catherine
DESCRIPTION:A great way to start your week.  Mindfulness can be a great way of getting you\, as a carer\, some space in otherwise very busy lives. \nThe link for the Zoom meeting is here:  https://us02web.zoom.us/j/83714857299?pwd=OZVIATiSbs5urAzEzleU8DaulB47NF.1 \nThe meeting details are:\nMeeting ID: 837 1485 7299\nPasscode: 478305
URL:https://barnetcarers.org/event/monday-mindfulness-with-catherine/2030-04-29/
LOCATION:Online
CATEGORIES:Online,Wellbeing
END:VEVENT
BEGIN:VEVENT
DTSTART;TZID=UTC:20300430T163000
DTEND;TZID=UTC:20300430T173000
DTSTAMP:20260421T152511
CREATED:20260109T102306Z
LAST-MODIFIED:20260109T102306Z
UID:10003525-1903797000-1903800600@barnetcarers.org
SUMMARY:Tuesday Yoga with Catherine
DESCRIPTION:Yoga is a great way of maintaining your well-being.  It is good for you both physically and mentally.  Catherine’s online classes are suitable for all – from the very beginner.  Why not give it a go? \nhttps://us02web.zoom.us/j/83692782693?pwd=0jqIgqqwL8CyVbvmmdRYryRiva6nms.1 \nMeeting ID: 836 9278 2693\nPasscode: 593370
URL:https://barnetcarers.org/event/tuesday-yoga-with-catherine/2030-04-30/
LOCATION:Online
CATEGORIES:Online,Relaxation,Wellbeing
END:VEVENT
BEGIN:VEVENT
DTSTART;TZID=UTC:20300506T163000
DTEND;TZID=UTC:20300506T173000
DTSTAMP:20260421T152511
CREATED:20260109T101153Z
LAST-MODIFIED:20260109T101612Z
UID:10003265-1904315400-1904319000@barnetcarers.org
SUMMARY:Monday Mindfulness with Catherine
DESCRIPTION:A great way to start your week.  Mindfulness can be a great way of getting you\, as a carer\, some space in otherwise very busy lives. \nThe link for the Zoom meeting is here:  https://us02web.zoom.us/j/83714857299?pwd=OZVIATiSbs5urAzEzleU8DaulB47NF.1 \nThe meeting details are:\nMeeting ID: 837 1485 7299\nPasscode: 478305
URL:https://barnetcarers.org/event/monday-mindfulness-with-catherine/2030-05-06/
LOCATION:Online
CATEGORIES:Online,Wellbeing
END:VEVENT
BEGIN:VEVENT
DTSTART;TZID=UTC:20300507T163000
DTEND;TZID=UTC:20300507T173000
DTSTAMP:20260421T152511
CREATED:20260109T102306Z
LAST-MODIFIED:20260109T102306Z
UID:10003526-1904401800-1904405400@barnetcarers.org
SUMMARY:Tuesday Yoga with Catherine
DESCRIPTION:Yoga is a great way of maintaining your well-being.  It is good for you both physically and mentally.  Catherine’s online classes are suitable for all – from the very beginner.  Why not give it a go? \nhttps://us02web.zoom.us/j/83692782693?pwd=0jqIgqqwL8CyVbvmmdRYryRiva6nms.1 \nMeeting ID: 836 9278 2693\nPasscode: 593370
URL:https://barnetcarers.org/event/tuesday-yoga-with-catherine/2030-05-07/
LOCATION:Online
CATEGORIES:Online,Relaxation,Wellbeing
END:VEVENT
BEGIN:VEVENT
DTSTART;TZID=UTC:20300513T163000
DTEND;TZID=UTC:20300513T173000
DTSTAMP:20260421T152511
CREATED:20260109T101153Z
LAST-MODIFIED:20260109T101612Z
UID:10003266-1904920200-1904923800@barnetcarers.org
SUMMARY:Monday Mindfulness with Catherine
DESCRIPTION:A great way to start your week.  Mindfulness can be a great way of getting you\, as a carer\, some space in otherwise very busy lives. \nThe link for the Zoom meeting is here:  https://us02web.zoom.us/j/83714857299?pwd=OZVIATiSbs5urAzEzleU8DaulB47NF.1 \nThe meeting details are:\nMeeting ID: 837 1485 7299\nPasscode: 478305
URL:https://barnetcarers.org/event/monday-mindfulness-with-catherine/2030-05-13/
LOCATION:Online
CATEGORIES:Online,Wellbeing
END:VEVENT
BEGIN:VEVENT
DTSTART;TZID=UTC:20300514T163000
DTEND;TZID=UTC:20300514T173000
DTSTAMP:20260421T152511
CREATED:20260109T102306Z
LAST-MODIFIED:20260109T102306Z
UID:10003527-1905006600-1905010200@barnetcarers.org
SUMMARY:Tuesday Yoga with Catherine
DESCRIPTION:Yoga is a great way of maintaining your well-being.  It is good for you both physically and mentally.  Catherine’s online classes are suitable for all – from the very beginner.  Why not give it a go? \nhttps://us02web.zoom.us/j/83692782693?pwd=0jqIgqqwL8CyVbvmmdRYryRiva6nms.1 \nMeeting ID: 836 9278 2693\nPasscode: 593370
URL:https://barnetcarers.org/event/tuesday-yoga-with-catherine/2030-05-14/
LOCATION:Online
CATEGORIES:Online,Relaxation,Wellbeing
END:VEVENT
BEGIN:VEVENT
DTSTART;TZID=UTC:20300520T163000
DTEND;TZID=UTC:20300520T173000
DTSTAMP:20260421T152511
CREATED:20260109T101153Z
LAST-MODIFIED:20260109T101612Z
UID:10003267-1905525000-1905528600@barnetcarers.org
SUMMARY:Monday Mindfulness with Catherine
DESCRIPTION:A great way to start your week.  Mindfulness can be a great way of getting you\, as a carer\, some space in otherwise very busy lives. \nThe link for the Zoom meeting is here:  https://us02web.zoom.us/j/83714857299?pwd=OZVIATiSbs5urAzEzleU8DaulB47NF.1 \nThe meeting details are:\nMeeting ID: 837 1485 7299\nPasscode: 478305
URL:https://barnetcarers.org/event/monday-mindfulness-with-catherine/2030-05-20/
LOCATION:Online
CATEGORIES:Online,Wellbeing
END:VEVENT
BEGIN:VEVENT
DTSTART;TZID=UTC:20300521T163000
DTEND;TZID=UTC:20300521T173000
DTSTAMP:20260421T152511
CREATED:20260109T102306Z
LAST-MODIFIED:20260109T102306Z
UID:10003528-1905611400-1905615000@barnetcarers.org
SUMMARY:Tuesday Yoga with Catherine
DESCRIPTION:Yoga is a great way of maintaining your well-being.  It is good for you both physically and mentally.  Catherine’s online classes are suitable for all – from the very beginner.  Why not give it a go? \nhttps://us02web.zoom.us/j/83692782693?pwd=0jqIgqqwL8CyVbvmmdRYryRiva6nms.1 \nMeeting ID: 836 9278 2693\nPasscode: 593370
URL:https://barnetcarers.org/event/tuesday-yoga-with-catherine/2030-05-21/
LOCATION:Online
CATEGORIES:Online,Relaxation,Wellbeing
END:VEVENT
BEGIN:VEVENT
DTSTART;TZID=UTC:20300527T163000
DTEND;TZID=UTC:20300527T173000
DTSTAMP:20260421T152511
CREATED:20260109T101153Z
LAST-MODIFIED:20260109T101612Z
UID:10003268-1906129800-1906133400@barnetcarers.org
SUMMARY:Monday Mindfulness with Catherine
DESCRIPTION:A great way to start your week.  Mindfulness can be a great way of getting you\, as a carer\, some space in otherwise very busy lives. \nThe link for the Zoom meeting is here:  https://us02web.zoom.us/j/83714857299?pwd=OZVIATiSbs5urAzEzleU8DaulB47NF.1 \nThe meeting details are:\nMeeting ID: 837 1485 7299\nPasscode: 478305
URL:https://barnetcarers.org/event/monday-mindfulness-with-catherine/2030-05-27/
LOCATION:Online
CATEGORIES:Online,Wellbeing
END:VEVENT
BEGIN:VEVENT
DTSTART;TZID=UTC:20300528T163000
DTEND;TZID=UTC:20300528T173000
DTSTAMP:20260421T152511
CREATED:20260109T102306Z
LAST-MODIFIED:20260109T102306Z
UID:10003529-1906216200-1906219800@barnetcarers.org
SUMMARY:Tuesday Yoga with Catherine
DESCRIPTION:Yoga is a great way of maintaining your well-being.  It is good for you both physically and mentally.  Catherine’s online classes are suitable for all – from the very beginner.  Why not give it a go? \nhttps://us02web.zoom.us/j/83692782693?pwd=0jqIgqqwL8CyVbvmmdRYryRiva6nms.1 \nMeeting ID: 836 9278 2693\nPasscode: 593370
URL:https://barnetcarers.org/event/tuesday-yoga-with-catherine/2030-05-28/
LOCATION:Online
CATEGORIES:Online,Relaxation,Wellbeing
END:VEVENT
END:VCALENDAR