BEGIN:VCALENDAR
VERSION:2.0
PRODID:-//Barnet Carers - ECPv6.15.20//NONSGML v1.0//EN
CALSCALE:GREGORIAN
METHOD:PUBLISH
X-ORIGINAL-URL:https://barnetcarers.org
X-WR-CALDESC:Events for Barnet Carers
REFRESH-INTERVAL;VALUE=DURATION:PT1H
X-Robots-Tag:noindex
X-PUBLISHED-TTL:PT1H
BEGIN:VTIMEZONE
TZID:UTC
BEGIN:STANDARD
TZOFFSETFROM:+0000
TZOFFSETTO:+0000
TZNAME:UTC
DTSTART:20280101T000000
END:STANDARD
END:VTIMEZONE
BEGIN:VEVENT
DTSTART;TZID=UTC:20290122T163000
DTEND;TZID=UTC:20290122T173000
DTSTAMP:20260420T173603
CREATED:20260109T101153Z
LAST-MODIFIED:20260109T101612Z
UID:10003198-1863793800-1863797400@barnetcarers.org
SUMMARY:Monday Mindfulness with Catherine
DESCRIPTION:A great way to start your week.  Mindfulness can be a great way of getting you\, as a carer\, some space in otherwise very busy lives. \nThe link for the Zoom meeting is here:  https://us02web.zoom.us/j/83714857299?pwd=OZVIATiSbs5urAzEzleU8DaulB47NF.1 \nThe meeting details are:\nMeeting ID: 837 1485 7299\nPasscode: 478305
URL:https://barnetcarers.org/event/monday-mindfulness-with-catherine/2029-01-22/
LOCATION:Online
CATEGORIES:Online,Wellbeing
END:VEVENT
BEGIN:VEVENT
DTSTART;TZID=UTC:20290123T163000
DTEND;TZID=UTC:20290123T173000
DTSTAMP:20260420T173603
CREATED:20260109T102306Z
LAST-MODIFIED:20260109T102306Z
UID:10003459-1863880200-1863883800@barnetcarers.org
SUMMARY:Tuesday Yoga with Catherine
DESCRIPTION:Yoga is a great way of maintaining your well-being.  It is good for you both physically and mentally.  Catherine’s online classes are suitable for all – from the very beginner.  Why not give it a go? \nhttps://us02web.zoom.us/j/83692782693?pwd=0jqIgqqwL8CyVbvmmdRYryRiva6nms.1 \nMeeting ID: 836 9278 2693\nPasscode: 593370
URL:https://barnetcarers.org/event/tuesday-yoga-with-catherine/2029-01-23/
LOCATION:Online
CATEGORIES:Online,Relaxation,Wellbeing
END:VEVENT
BEGIN:VEVENT
DTSTART;TZID=UTC:20290129T163000
DTEND;TZID=UTC:20290129T173000
DTSTAMP:20260420T173603
CREATED:20260109T101153Z
LAST-MODIFIED:20260109T101612Z
UID:10003199-1864398600-1864402200@barnetcarers.org
SUMMARY:Monday Mindfulness with Catherine
DESCRIPTION:A great way to start your week.  Mindfulness can be a great way of getting you\, as a carer\, some space in otherwise very busy lives. \nThe link for the Zoom meeting is here:  https://us02web.zoom.us/j/83714857299?pwd=OZVIATiSbs5urAzEzleU8DaulB47NF.1 \nThe meeting details are:\nMeeting ID: 837 1485 7299\nPasscode: 478305
URL:https://barnetcarers.org/event/monday-mindfulness-with-catherine/2029-01-29/
LOCATION:Online
CATEGORIES:Online,Wellbeing
END:VEVENT
BEGIN:VEVENT
DTSTART;TZID=UTC:20290130T163000
DTEND;TZID=UTC:20290130T173000
DTSTAMP:20260420T173603
CREATED:20260109T102306Z
LAST-MODIFIED:20260109T102306Z
UID:10003460-1864485000-1864488600@barnetcarers.org
SUMMARY:Tuesday Yoga with Catherine
DESCRIPTION:Yoga is a great way of maintaining your well-being.  It is good for you both physically and mentally.  Catherine’s online classes are suitable for all – from the very beginner.  Why not give it a go? \nhttps://us02web.zoom.us/j/83692782693?pwd=0jqIgqqwL8CyVbvmmdRYryRiva6nms.1 \nMeeting ID: 836 9278 2693\nPasscode: 593370
URL:https://barnetcarers.org/event/tuesday-yoga-with-catherine/2029-01-30/
LOCATION:Online
CATEGORIES:Online,Relaxation,Wellbeing
END:VEVENT
BEGIN:VEVENT
DTSTART;TZID=UTC:20290205T163000
DTEND;TZID=UTC:20290205T173000
DTSTAMP:20260420T173603
CREATED:20260109T101153Z
LAST-MODIFIED:20260109T101612Z
UID:10003200-1865003400-1865007000@barnetcarers.org
SUMMARY:Monday Mindfulness with Catherine
DESCRIPTION:A great way to start your week.  Mindfulness can be a great way of getting you\, as a carer\, some space in otherwise very busy lives. \nThe link for the Zoom meeting is here:  https://us02web.zoom.us/j/83714857299?pwd=OZVIATiSbs5urAzEzleU8DaulB47NF.1 \nThe meeting details are:\nMeeting ID: 837 1485 7299\nPasscode: 478305
URL:https://barnetcarers.org/event/monday-mindfulness-with-catherine/2029-02-05/
LOCATION:Online
CATEGORIES:Online,Wellbeing
END:VEVENT
BEGIN:VEVENT
DTSTART;TZID=UTC:20290206T163000
DTEND;TZID=UTC:20290206T173000
DTSTAMP:20260420T173603
CREATED:20260109T102306Z
LAST-MODIFIED:20260109T102306Z
UID:10003461-1865089800-1865093400@barnetcarers.org
SUMMARY:Tuesday Yoga with Catherine
DESCRIPTION:Yoga is a great way of maintaining your well-being.  It is good for you both physically and mentally.  Catherine’s online classes are suitable for all – from the very beginner.  Why not give it a go? \nhttps://us02web.zoom.us/j/83692782693?pwd=0jqIgqqwL8CyVbvmmdRYryRiva6nms.1 \nMeeting ID: 836 9278 2693\nPasscode: 593370
URL:https://barnetcarers.org/event/tuesday-yoga-with-catherine/2029-02-06/
LOCATION:Online
CATEGORIES:Online,Relaxation,Wellbeing
END:VEVENT
BEGIN:VEVENT
DTSTART;TZID=UTC:20290212T163000
DTEND;TZID=UTC:20290212T173000
DTSTAMP:20260420T173603
CREATED:20260109T101153Z
LAST-MODIFIED:20260109T101612Z
UID:10003201-1865608200-1865611800@barnetcarers.org
SUMMARY:Monday Mindfulness with Catherine
DESCRIPTION:A great way to start your week.  Mindfulness can be a great way of getting you\, as a carer\, some space in otherwise very busy lives. \nThe link for the Zoom meeting is here:  https://us02web.zoom.us/j/83714857299?pwd=OZVIATiSbs5urAzEzleU8DaulB47NF.1 \nThe meeting details are:\nMeeting ID: 837 1485 7299\nPasscode: 478305
URL:https://barnetcarers.org/event/monday-mindfulness-with-catherine/2029-02-12/
LOCATION:Online
CATEGORIES:Online,Wellbeing
END:VEVENT
BEGIN:VEVENT
DTSTART;TZID=UTC:20290213T163000
DTEND;TZID=UTC:20290213T173000
DTSTAMP:20260420T173603
CREATED:20260109T102306Z
LAST-MODIFIED:20260109T102306Z
UID:10003462-1865694600-1865698200@barnetcarers.org
SUMMARY:Tuesday Yoga with Catherine
DESCRIPTION:Yoga is a great way of maintaining your well-being.  It is good for you both physically and mentally.  Catherine’s online classes are suitable for all – from the very beginner.  Why not give it a go? \nhttps://us02web.zoom.us/j/83692782693?pwd=0jqIgqqwL8CyVbvmmdRYryRiva6nms.1 \nMeeting ID: 836 9278 2693\nPasscode: 593370
URL:https://barnetcarers.org/event/tuesday-yoga-with-catherine/2029-02-13/
LOCATION:Online
CATEGORIES:Online,Relaxation,Wellbeing
END:VEVENT
BEGIN:VEVENT
DTSTART;TZID=UTC:20290219T163000
DTEND;TZID=UTC:20290219T173000
DTSTAMP:20260420T173603
CREATED:20260109T101153Z
LAST-MODIFIED:20260109T101612Z
UID:10003202-1866213000-1866216600@barnetcarers.org
SUMMARY:Monday Mindfulness with Catherine
DESCRIPTION:A great way to start your week.  Mindfulness can be a great way of getting you\, as a carer\, some space in otherwise very busy lives. \nThe link for the Zoom meeting is here:  https://us02web.zoom.us/j/83714857299?pwd=OZVIATiSbs5urAzEzleU8DaulB47NF.1 \nThe meeting details are:\nMeeting ID: 837 1485 7299\nPasscode: 478305
URL:https://barnetcarers.org/event/monday-mindfulness-with-catherine/2029-02-19/
LOCATION:Online
CATEGORIES:Online,Wellbeing
END:VEVENT
BEGIN:VEVENT
DTSTART;TZID=UTC:20290220T163000
DTEND;TZID=UTC:20290220T173000
DTSTAMP:20260420T173603
CREATED:20260109T102306Z
LAST-MODIFIED:20260109T102306Z
UID:10003463-1866299400-1866303000@barnetcarers.org
SUMMARY:Tuesday Yoga with Catherine
DESCRIPTION:Yoga is a great way of maintaining your well-being.  It is good for you both physically and mentally.  Catherine’s online classes are suitable for all – from the very beginner.  Why not give it a go? \nhttps://us02web.zoom.us/j/83692782693?pwd=0jqIgqqwL8CyVbvmmdRYryRiva6nms.1 \nMeeting ID: 836 9278 2693\nPasscode: 593370
URL:https://barnetcarers.org/event/tuesday-yoga-with-catherine/2029-02-20/
LOCATION:Online
CATEGORIES:Online,Relaxation,Wellbeing
END:VEVENT
BEGIN:VEVENT
DTSTART;TZID=UTC:20290226T163000
DTEND;TZID=UTC:20290226T173000
DTSTAMP:20260420T173603
CREATED:20260109T101153Z
LAST-MODIFIED:20260109T101612Z
UID:10003203-1866817800-1866821400@barnetcarers.org
SUMMARY:Monday Mindfulness with Catherine
DESCRIPTION:A great way to start your week.  Mindfulness can be a great way of getting you\, as a carer\, some space in otherwise very busy lives. \nThe link for the Zoom meeting is here:  https://us02web.zoom.us/j/83714857299?pwd=OZVIATiSbs5urAzEzleU8DaulB47NF.1 \nThe meeting details are:\nMeeting ID: 837 1485 7299\nPasscode: 478305
URL:https://barnetcarers.org/event/monday-mindfulness-with-catherine/2029-02-26/
LOCATION:Online
CATEGORIES:Online,Wellbeing
END:VEVENT
BEGIN:VEVENT
DTSTART;TZID=UTC:20290227T163000
DTEND;TZID=UTC:20290227T173000
DTSTAMP:20260420T173603
CREATED:20260109T102306Z
LAST-MODIFIED:20260109T102306Z
UID:10003464-1866904200-1866907800@barnetcarers.org
SUMMARY:Tuesday Yoga with Catherine
DESCRIPTION:Yoga is a great way of maintaining your well-being.  It is good for you both physically and mentally.  Catherine’s online classes are suitable for all – from the very beginner.  Why not give it a go? \nhttps://us02web.zoom.us/j/83692782693?pwd=0jqIgqqwL8CyVbvmmdRYryRiva6nms.1 \nMeeting ID: 836 9278 2693\nPasscode: 593370
URL:https://barnetcarers.org/event/tuesday-yoga-with-catherine/2029-02-27/
LOCATION:Online
CATEGORIES:Online,Relaxation,Wellbeing
END:VEVENT
BEGIN:VEVENT
DTSTART;TZID=UTC:20290305T163000
DTEND;TZID=UTC:20290305T173000
DTSTAMP:20260420T173603
CREATED:20260109T101153Z
LAST-MODIFIED:20260109T101612Z
UID:10003204-1867422600-1867426200@barnetcarers.org
SUMMARY:Monday Mindfulness with Catherine
DESCRIPTION:A great way to start your week.  Mindfulness can be a great way of getting you\, as a carer\, some space in otherwise very busy lives. \nThe link for the Zoom meeting is here:  https://us02web.zoom.us/j/83714857299?pwd=OZVIATiSbs5urAzEzleU8DaulB47NF.1 \nThe meeting details are:\nMeeting ID: 837 1485 7299\nPasscode: 478305
URL:https://barnetcarers.org/event/monday-mindfulness-with-catherine/2029-03-05/
LOCATION:Online
CATEGORIES:Online,Wellbeing
END:VEVENT
BEGIN:VEVENT
DTSTART;TZID=UTC:20290306T163000
DTEND;TZID=UTC:20290306T173000
DTSTAMP:20260420T173603
CREATED:20260109T102306Z
LAST-MODIFIED:20260109T102306Z
UID:10003465-1867509000-1867512600@barnetcarers.org
SUMMARY:Tuesday Yoga with Catherine
DESCRIPTION:Yoga is a great way of maintaining your well-being.  It is good for you both physically and mentally.  Catherine’s online classes are suitable for all – from the very beginner.  Why not give it a go? \nhttps://us02web.zoom.us/j/83692782693?pwd=0jqIgqqwL8CyVbvmmdRYryRiva6nms.1 \nMeeting ID: 836 9278 2693\nPasscode: 593370
URL:https://barnetcarers.org/event/tuesday-yoga-with-catherine/2029-03-06/
LOCATION:Online
CATEGORIES:Online,Relaxation,Wellbeing
END:VEVENT
BEGIN:VEVENT
DTSTART;TZID=UTC:20290312T163000
DTEND;TZID=UTC:20290312T173000
DTSTAMP:20260420T173603
CREATED:20260109T101153Z
LAST-MODIFIED:20260109T101612Z
UID:10003205-1868027400-1868031000@barnetcarers.org
SUMMARY:Monday Mindfulness with Catherine
DESCRIPTION:A great way to start your week.  Mindfulness can be a great way of getting you\, as a carer\, some space in otherwise very busy lives. \nThe link for the Zoom meeting is here:  https://us02web.zoom.us/j/83714857299?pwd=OZVIATiSbs5urAzEzleU8DaulB47NF.1 \nThe meeting details are:\nMeeting ID: 837 1485 7299\nPasscode: 478305
URL:https://barnetcarers.org/event/monday-mindfulness-with-catherine/2029-03-12/
LOCATION:Online
CATEGORIES:Online,Wellbeing
END:VEVENT
BEGIN:VEVENT
DTSTART;TZID=UTC:20290313T163000
DTEND;TZID=UTC:20290313T173000
DTSTAMP:20260420T173603
CREATED:20260109T102306Z
LAST-MODIFIED:20260109T102306Z
UID:10003466-1868113800-1868117400@barnetcarers.org
SUMMARY:Tuesday Yoga with Catherine
DESCRIPTION:Yoga is a great way of maintaining your well-being.  It is good for you both physically and mentally.  Catherine’s online classes are suitable for all – from the very beginner.  Why not give it a go? \nhttps://us02web.zoom.us/j/83692782693?pwd=0jqIgqqwL8CyVbvmmdRYryRiva6nms.1 \nMeeting ID: 836 9278 2693\nPasscode: 593370
URL:https://barnetcarers.org/event/tuesday-yoga-with-catherine/2029-03-13/
LOCATION:Online
CATEGORIES:Online,Relaxation,Wellbeing
END:VEVENT
BEGIN:VEVENT
DTSTART;TZID=UTC:20290319T163000
DTEND;TZID=UTC:20290319T173000
DTSTAMP:20260420T173603
CREATED:20260109T101153Z
LAST-MODIFIED:20260109T101612Z
UID:10003206-1868632200-1868635800@barnetcarers.org
SUMMARY:Monday Mindfulness with Catherine
DESCRIPTION:A great way to start your week.  Mindfulness can be a great way of getting you\, as a carer\, some space in otherwise very busy lives. \nThe link for the Zoom meeting is here:  https://us02web.zoom.us/j/83714857299?pwd=OZVIATiSbs5urAzEzleU8DaulB47NF.1 \nThe meeting details are:\nMeeting ID: 837 1485 7299\nPasscode: 478305
URL:https://barnetcarers.org/event/monday-mindfulness-with-catherine/2029-03-19/
LOCATION:Online
CATEGORIES:Online,Wellbeing
END:VEVENT
BEGIN:VEVENT
DTSTART;TZID=UTC:20290320T163000
DTEND;TZID=UTC:20290320T173000
DTSTAMP:20260420T173603
CREATED:20260109T102306Z
LAST-MODIFIED:20260109T102306Z
UID:10003467-1868718600-1868722200@barnetcarers.org
SUMMARY:Tuesday Yoga with Catherine
DESCRIPTION:Yoga is a great way of maintaining your well-being.  It is good for you both physically and mentally.  Catherine’s online classes are suitable for all – from the very beginner.  Why not give it a go? \nhttps://us02web.zoom.us/j/83692782693?pwd=0jqIgqqwL8CyVbvmmdRYryRiva6nms.1 \nMeeting ID: 836 9278 2693\nPasscode: 593370
URL:https://barnetcarers.org/event/tuesday-yoga-with-catherine/2029-03-20/
LOCATION:Online
CATEGORIES:Online,Relaxation,Wellbeing
END:VEVENT
BEGIN:VEVENT
DTSTART;TZID=UTC:20290326T163000
DTEND;TZID=UTC:20290326T173000
DTSTAMP:20260420T173603
CREATED:20260109T101153Z
LAST-MODIFIED:20260109T101612Z
UID:10003207-1869237000-1869240600@barnetcarers.org
SUMMARY:Monday Mindfulness with Catherine
DESCRIPTION:A great way to start your week.  Mindfulness can be a great way of getting you\, as a carer\, some space in otherwise very busy lives. \nThe link for the Zoom meeting is here:  https://us02web.zoom.us/j/83714857299?pwd=OZVIATiSbs5urAzEzleU8DaulB47NF.1 \nThe meeting details are:\nMeeting ID: 837 1485 7299\nPasscode: 478305
URL:https://barnetcarers.org/event/monday-mindfulness-with-catherine/2029-03-26/
LOCATION:Online
CATEGORIES:Online,Wellbeing
END:VEVENT
BEGIN:VEVENT
DTSTART;TZID=UTC:20290327T163000
DTEND;TZID=UTC:20290327T173000
DTSTAMP:20260420T173603
CREATED:20260109T102306Z
LAST-MODIFIED:20260109T102306Z
UID:10003468-1869323400-1869327000@barnetcarers.org
SUMMARY:Tuesday Yoga with Catherine
DESCRIPTION:Yoga is a great way of maintaining your well-being.  It is good for you both physically and mentally.  Catherine’s online classes are suitable for all – from the very beginner.  Why not give it a go? \nhttps://us02web.zoom.us/j/83692782693?pwd=0jqIgqqwL8CyVbvmmdRYryRiva6nms.1 \nMeeting ID: 836 9278 2693\nPasscode: 593370
URL:https://barnetcarers.org/event/tuesday-yoga-with-catherine/2029-03-27/
LOCATION:Online
CATEGORIES:Online,Relaxation,Wellbeing
END:VEVENT
BEGIN:VEVENT
DTSTART;TZID=UTC:20290402T163000
DTEND;TZID=UTC:20290402T173000
DTSTAMP:20260420T173603
CREATED:20260109T101153Z
LAST-MODIFIED:20260109T101612Z
UID:10003208-1869841800-1869845400@barnetcarers.org
SUMMARY:Monday Mindfulness with Catherine
DESCRIPTION:A great way to start your week.  Mindfulness can be a great way of getting you\, as a carer\, some space in otherwise very busy lives. \nThe link for the Zoom meeting is here:  https://us02web.zoom.us/j/83714857299?pwd=OZVIATiSbs5urAzEzleU8DaulB47NF.1 \nThe meeting details are:\nMeeting ID: 837 1485 7299\nPasscode: 478305
URL:https://barnetcarers.org/event/monday-mindfulness-with-catherine/2029-04-02/
LOCATION:Online
CATEGORIES:Online,Wellbeing
END:VEVENT
BEGIN:VEVENT
DTSTART;TZID=UTC:20290403T163000
DTEND;TZID=UTC:20290403T173000
DTSTAMP:20260420T173603
CREATED:20260109T102306Z
LAST-MODIFIED:20260109T102306Z
UID:10003469-1869928200-1869931800@barnetcarers.org
SUMMARY:Tuesday Yoga with Catherine
DESCRIPTION:Yoga is a great way of maintaining your well-being.  It is good for you both physically and mentally.  Catherine’s online classes are suitable for all – from the very beginner.  Why not give it a go? \nhttps://us02web.zoom.us/j/83692782693?pwd=0jqIgqqwL8CyVbvmmdRYryRiva6nms.1 \nMeeting ID: 836 9278 2693\nPasscode: 593370
URL:https://barnetcarers.org/event/tuesday-yoga-with-catherine/2029-04-03/
LOCATION:Online
CATEGORIES:Online,Relaxation,Wellbeing
END:VEVENT
BEGIN:VEVENT
DTSTART;TZID=UTC:20290409T163000
DTEND;TZID=UTC:20290409T173000
DTSTAMP:20260420T173603
CREATED:20260109T101153Z
LAST-MODIFIED:20260109T101612Z
UID:10003209-1870446600-1870450200@barnetcarers.org
SUMMARY:Monday Mindfulness with Catherine
DESCRIPTION:A great way to start your week.  Mindfulness can be a great way of getting you\, as a carer\, some space in otherwise very busy lives. \nThe link for the Zoom meeting is here:  https://us02web.zoom.us/j/83714857299?pwd=OZVIATiSbs5urAzEzleU8DaulB47NF.1 \nThe meeting details are:\nMeeting ID: 837 1485 7299\nPasscode: 478305
URL:https://barnetcarers.org/event/monday-mindfulness-with-catherine/2029-04-09/
LOCATION:Online
CATEGORIES:Online,Wellbeing
END:VEVENT
BEGIN:VEVENT
DTSTART;TZID=UTC:20290410T163000
DTEND;TZID=UTC:20290410T173000
DTSTAMP:20260420T173603
CREATED:20260109T102306Z
LAST-MODIFIED:20260109T102306Z
UID:10003470-1870533000-1870536600@barnetcarers.org
SUMMARY:Tuesday Yoga with Catherine
DESCRIPTION:Yoga is a great way of maintaining your well-being.  It is good for you both physically and mentally.  Catherine’s online classes are suitable for all – from the very beginner.  Why not give it a go? \nhttps://us02web.zoom.us/j/83692782693?pwd=0jqIgqqwL8CyVbvmmdRYryRiva6nms.1 \nMeeting ID: 836 9278 2693\nPasscode: 593370
URL:https://barnetcarers.org/event/tuesday-yoga-with-catherine/2029-04-10/
LOCATION:Online
CATEGORIES:Online,Relaxation,Wellbeing
END:VEVENT
BEGIN:VEVENT
DTSTART;TZID=UTC:20290416T163000
DTEND;TZID=UTC:20290416T173000
DTSTAMP:20260420T173603
CREATED:20260109T101153Z
LAST-MODIFIED:20260109T101612Z
UID:10003210-1871051400-1871055000@barnetcarers.org
SUMMARY:Monday Mindfulness with Catherine
DESCRIPTION:A great way to start your week.  Mindfulness can be a great way of getting you\, as a carer\, some space in otherwise very busy lives. \nThe link for the Zoom meeting is here:  https://us02web.zoom.us/j/83714857299?pwd=OZVIATiSbs5urAzEzleU8DaulB47NF.1 \nThe meeting details are:\nMeeting ID: 837 1485 7299\nPasscode: 478305
URL:https://barnetcarers.org/event/monday-mindfulness-with-catherine/2029-04-16/
LOCATION:Online
CATEGORIES:Online,Wellbeing
END:VEVENT
BEGIN:VEVENT
DTSTART;TZID=UTC:20290417T163000
DTEND;TZID=UTC:20290417T173000
DTSTAMP:20260420T173603
CREATED:20260109T102306Z
LAST-MODIFIED:20260109T102306Z
UID:10003471-1871137800-1871141400@barnetcarers.org
SUMMARY:Tuesday Yoga with Catherine
DESCRIPTION:Yoga is a great way of maintaining your well-being.  It is good for you both physically and mentally.  Catherine’s online classes are suitable for all – from the very beginner.  Why not give it a go? \nhttps://us02web.zoom.us/j/83692782693?pwd=0jqIgqqwL8CyVbvmmdRYryRiva6nms.1 \nMeeting ID: 836 9278 2693\nPasscode: 593370
URL:https://barnetcarers.org/event/tuesday-yoga-with-catherine/2029-04-17/
LOCATION:Online
CATEGORIES:Online,Relaxation,Wellbeing
END:VEVENT
BEGIN:VEVENT
DTSTART;TZID=UTC:20290423T163000
DTEND;TZID=UTC:20290423T173000
DTSTAMP:20260420T173603
CREATED:20260109T101153Z
LAST-MODIFIED:20260109T101612Z
UID:10003211-1871656200-1871659800@barnetcarers.org
SUMMARY:Monday Mindfulness with Catherine
DESCRIPTION:A great way to start your week.  Mindfulness can be a great way of getting you\, as a carer\, some space in otherwise very busy lives. \nThe link for the Zoom meeting is here:  https://us02web.zoom.us/j/83714857299?pwd=OZVIATiSbs5urAzEzleU8DaulB47NF.1 \nThe meeting details are:\nMeeting ID: 837 1485 7299\nPasscode: 478305
URL:https://barnetcarers.org/event/monday-mindfulness-with-catherine/2029-04-23/
LOCATION:Online
CATEGORIES:Online,Wellbeing
END:VEVENT
BEGIN:VEVENT
DTSTART;TZID=UTC:20290424T163000
DTEND;TZID=UTC:20290424T173000
DTSTAMP:20260420T173603
CREATED:20260109T102306Z
LAST-MODIFIED:20260109T102306Z
UID:10003472-1871742600-1871746200@barnetcarers.org
SUMMARY:Tuesday Yoga with Catherine
DESCRIPTION:Yoga is a great way of maintaining your well-being.  It is good for you both physically and mentally.  Catherine’s online classes are suitable for all – from the very beginner.  Why not give it a go? \nhttps://us02web.zoom.us/j/83692782693?pwd=0jqIgqqwL8CyVbvmmdRYryRiva6nms.1 \nMeeting ID: 836 9278 2693\nPasscode: 593370
URL:https://barnetcarers.org/event/tuesday-yoga-with-catherine/2029-04-24/
LOCATION:Online
CATEGORIES:Online,Relaxation,Wellbeing
END:VEVENT
BEGIN:VEVENT
DTSTART;TZID=UTC:20290430T163000
DTEND;TZID=UTC:20290430T173000
DTSTAMP:20260420T173603
CREATED:20260109T101153Z
LAST-MODIFIED:20260109T101612Z
UID:10003212-1872261000-1872264600@barnetcarers.org
SUMMARY:Monday Mindfulness with Catherine
DESCRIPTION:A great way to start your week.  Mindfulness can be a great way of getting you\, as a carer\, some space in otherwise very busy lives. \nThe link for the Zoom meeting is here:  https://us02web.zoom.us/j/83714857299?pwd=OZVIATiSbs5urAzEzleU8DaulB47NF.1 \nThe meeting details are:\nMeeting ID: 837 1485 7299\nPasscode: 478305
URL:https://barnetcarers.org/event/monday-mindfulness-with-catherine/2029-04-30/
LOCATION:Online
CATEGORIES:Online,Wellbeing
END:VEVENT
BEGIN:VEVENT
DTSTART;TZID=UTC:20290501T163000
DTEND;TZID=UTC:20290501T173000
DTSTAMP:20260420T173603
CREATED:20260109T102306Z
LAST-MODIFIED:20260109T102306Z
UID:10003473-1872347400-1872351000@barnetcarers.org
SUMMARY:Tuesday Yoga with Catherine
DESCRIPTION:Yoga is a great way of maintaining your well-being.  It is good for you both physically and mentally.  Catherine’s online classes are suitable for all – from the very beginner.  Why not give it a go? \nhttps://us02web.zoom.us/j/83692782693?pwd=0jqIgqqwL8CyVbvmmdRYryRiva6nms.1 \nMeeting ID: 836 9278 2693\nPasscode: 593370
URL:https://barnetcarers.org/event/tuesday-yoga-with-catherine/2029-05-01/
LOCATION:Online
CATEGORIES:Online,Relaxation,Wellbeing
END:VEVENT
END:VCALENDAR