BEGIN:VCALENDAR
VERSION:2.0
PRODID:-//Barnet Carers - ECPv6.15.20//NONSGML v1.0//EN
CALSCALE:GREGORIAN
METHOD:PUBLISH
X-ORIGINAL-URL:https://barnetcarers.org
X-WR-CALDESC:Events for Barnet Carers
REFRESH-INTERVAL;VALUE=DURATION:PT1H
X-Robots-Tag:noindex
X-PUBLISHED-TTL:PT1H
BEGIN:VTIMEZONE
TZID:UTC
BEGIN:STANDARD
TZOFFSETFROM:+0000
TZOFFSETTO:+0000
TZNAME:UTC
DTSTART:20270101T000000
END:STANDARD
END:VTIMEZONE
BEGIN:VEVENT
DTSTART;TZID=UTC:20280718T163000
DTEND;TZID=UTC:20280718T173000
DTSTAMP:20260420T070558
CREATED:20260109T102306Z
LAST-MODIFIED:20260109T102306Z
UID:10003432-1847550600-1847554200@barnetcarers.org
SUMMARY:Tuesday Yoga with Catherine
DESCRIPTION:Yoga is a great way of maintaining your well-being.  It is good for you both physically and mentally.  Catherine’s online classes are suitable for all – from the very beginner.  Why not give it a go? \nhttps://us02web.zoom.us/j/83692782693?pwd=0jqIgqqwL8CyVbvmmdRYryRiva6nms.1 \nMeeting ID: 836 9278 2693\nPasscode: 593370
URL:https://barnetcarers.org/event/tuesday-yoga-with-catherine/2028-07-18/
LOCATION:Online
CATEGORIES:Online,Relaxation,Wellbeing
END:VEVENT
BEGIN:VEVENT
DTSTART;TZID=UTC:20280724T163000
DTEND;TZID=UTC:20280724T173000
DTSTAMP:20260420T070558
CREATED:20260109T101153Z
LAST-MODIFIED:20260109T101612Z
UID:10003172-1848069000-1848072600@barnetcarers.org
SUMMARY:Monday Mindfulness with Catherine
DESCRIPTION:A great way to start your week.  Mindfulness can be a great way of getting you\, as a carer\, some space in otherwise very busy lives. \nThe link for the Zoom meeting is here:  https://us02web.zoom.us/j/83714857299?pwd=OZVIATiSbs5urAzEzleU8DaulB47NF.1 \nThe meeting details are:\nMeeting ID: 837 1485 7299\nPasscode: 478305
URL:https://barnetcarers.org/event/monday-mindfulness-with-catherine/2028-07-24/
LOCATION:Online
CATEGORIES:Online,Wellbeing
END:VEVENT
BEGIN:VEVENT
DTSTART;TZID=UTC:20280725T163000
DTEND;TZID=UTC:20280725T173000
DTSTAMP:20260420T070558
CREATED:20260109T102306Z
LAST-MODIFIED:20260109T102306Z
UID:10003433-1848155400-1848159000@barnetcarers.org
SUMMARY:Tuesday Yoga with Catherine
DESCRIPTION:Yoga is a great way of maintaining your well-being.  It is good for you both physically and mentally.  Catherine’s online classes are suitable for all – from the very beginner.  Why not give it a go? \nhttps://us02web.zoom.us/j/83692782693?pwd=0jqIgqqwL8CyVbvmmdRYryRiva6nms.1 \nMeeting ID: 836 9278 2693\nPasscode: 593370
URL:https://barnetcarers.org/event/tuesday-yoga-with-catherine/2028-07-25/
LOCATION:Online
CATEGORIES:Online,Relaxation,Wellbeing
END:VEVENT
BEGIN:VEVENT
DTSTART;TZID=UTC:20280731T163000
DTEND;TZID=UTC:20280731T173000
DTSTAMP:20260420T070558
CREATED:20260109T101153Z
LAST-MODIFIED:20260109T101612Z
UID:10003173-1848673800-1848677400@barnetcarers.org
SUMMARY:Monday Mindfulness with Catherine
DESCRIPTION:A great way to start your week.  Mindfulness can be a great way of getting you\, as a carer\, some space in otherwise very busy lives. \nThe link for the Zoom meeting is here:  https://us02web.zoom.us/j/83714857299?pwd=OZVIATiSbs5urAzEzleU8DaulB47NF.1 \nThe meeting details are:\nMeeting ID: 837 1485 7299\nPasscode: 478305
URL:https://barnetcarers.org/event/monday-mindfulness-with-catherine/2028-07-31/
LOCATION:Online
CATEGORIES:Online,Wellbeing
END:VEVENT
BEGIN:VEVENT
DTSTART;TZID=UTC:20280801T163000
DTEND;TZID=UTC:20280801T173000
DTSTAMP:20260420T070558
CREATED:20260109T102306Z
LAST-MODIFIED:20260109T102306Z
UID:10003434-1848760200-1848763800@barnetcarers.org
SUMMARY:Tuesday Yoga with Catherine
DESCRIPTION:Yoga is a great way of maintaining your well-being.  It is good for you both physically and mentally.  Catherine’s online classes are suitable for all – from the very beginner.  Why not give it a go? \nhttps://us02web.zoom.us/j/83692782693?pwd=0jqIgqqwL8CyVbvmmdRYryRiva6nms.1 \nMeeting ID: 836 9278 2693\nPasscode: 593370
URL:https://barnetcarers.org/event/tuesday-yoga-with-catherine/2028-08-01/
LOCATION:Online
CATEGORIES:Online,Relaxation,Wellbeing
END:VEVENT
BEGIN:VEVENT
DTSTART;TZID=UTC:20280807T163000
DTEND;TZID=UTC:20280807T173000
DTSTAMP:20260420T070558
CREATED:20260109T101153Z
LAST-MODIFIED:20260109T101612Z
UID:10003174-1849278600-1849282200@barnetcarers.org
SUMMARY:Monday Mindfulness with Catherine
DESCRIPTION:A great way to start your week.  Mindfulness can be a great way of getting you\, as a carer\, some space in otherwise very busy lives. \nThe link for the Zoom meeting is here:  https://us02web.zoom.us/j/83714857299?pwd=OZVIATiSbs5urAzEzleU8DaulB47NF.1 \nThe meeting details are:\nMeeting ID: 837 1485 7299\nPasscode: 478305
URL:https://barnetcarers.org/event/monday-mindfulness-with-catherine/2028-08-07/
LOCATION:Online
CATEGORIES:Online,Wellbeing
END:VEVENT
BEGIN:VEVENT
DTSTART;TZID=UTC:20280808T163000
DTEND;TZID=UTC:20280808T173000
DTSTAMP:20260420T070558
CREATED:20260109T102306Z
LAST-MODIFIED:20260109T102306Z
UID:10003435-1849365000-1849368600@barnetcarers.org
SUMMARY:Tuesday Yoga with Catherine
DESCRIPTION:Yoga is a great way of maintaining your well-being.  It is good for you both physically and mentally.  Catherine’s online classes are suitable for all – from the very beginner.  Why not give it a go? \nhttps://us02web.zoom.us/j/83692782693?pwd=0jqIgqqwL8CyVbvmmdRYryRiva6nms.1 \nMeeting ID: 836 9278 2693\nPasscode: 593370
URL:https://barnetcarers.org/event/tuesday-yoga-with-catherine/2028-08-08/
LOCATION:Online
CATEGORIES:Online,Relaxation,Wellbeing
END:VEVENT
BEGIN:VEVENT
DTSTART;TZID=UTC:20280814T163000
DTEND;TZID=UTC:20280814T173000
DTSTAMP:20260420T070558
CREATED:20260109T101153Z
LAST-MODIFIED:20260109T101612Z
UID:10003175-1849883400-1849887000@barnetcarers.org
SUMMARY:Monday Mindfulness with Catherine
DESCRIPTION:A great way to start your week.  Mindfulness can be a great way of getting you\, as a carer\, some space in otherwise very busy lives. \nThe link for the Zoom meeting is here:  https://us02web.zoom.us/j/83714857299?pwd=OZVIATiSbs5urAzEzleU8DaulB47NF.1 \nThe meeting details are:\nMeeting ID: 837 1485 7299\nPasscode: 478305
URL:https://barnetcarers.org/event/monday-mindfulness-with-catherine/2028-08-14/
LOCATION:Online
CATEGORIES:Online,Wellbeing
END:VEVENT
BEGIN:VEVENT
DTSTART;TZID=UTC:20280815T163000
DTEND;TZID=UTC:20280815T173000
DTSTAMP:20260420T070559
CREATED:20260109T102306Z
LAST-MODIFIED:20260109T102306Z
UID:10003436-1849969800-1849973400@barnetcarers.org
SUMMARY:Tuesday Yoga with Catherine
DESCRIPTION:Yoga is a great way of maintaining your well-being.  It is good for you both physically and mentally.  Catherine’s online classes are suitable for all – from the very beginner.  Why not give it a go? \nhttps://us02web.zoom.us/j/83692782693?pwd=0jqIgqqwL8CyVbvmmdRYryRiva6nms.1 \nMeeting ID: 836 9278 2693\nPasscode: 593370
URL:https://barnetcarers.org/event/tuesday-yoga-with-catherine/2028-08-15/
LOCATION:Online
CATEGORIES:Online,Relaxation,Wellbeing
END:VEVENT
BEGIN:VEVENT
DTSTART;TZID=UTC:20280821T163000
DTEND;TZID=UTC:20280821T173000
DTSTAMP:20260420T070559
CREATED:20260109T101153Z
LAST-MODIFIED:20260109T101612Z
UID:10003176-1850488200-1850491800@barnetcarers.org
SUMMARY:Monday Mindfulness with Catherine
DESCRIPTION:A great way to start your week.  Mindfulness can be a great way of getting you\, as a carer\, some space in otherwise very busy lives. \nThe link for the Zoom meeting is here:  https://us02web.zoom.us/j/83714857299?pwd=OZVIATiSbs5urAzEzleU8DaulB47NF.1 \nThe meeting details are:\nMeeting ID: 837 1485 7299\nPasscode: 478305
URL:https://barnetcarers.org/event/monday-mindfulness-with-catherine/2028-08-21/
LOCATION:Online
CATEGORIES:Online,Wellbeing
END:VEVENT
BEGIN:VEVENT
DTSTART;TZID=UTC:20280822T163000
DTEND;TZID=UTC:20280822T173000
DTSTAMP:20260420T070559
CREATED:20260109T102306Z
LAST-MODIFIED:20260109T102306Z
UID:10003437-1850574600-1850578200@barnetcarers.org
SUMMARY:Tuesday Yoga with Catherine
DESCRIPTION:Yoga is a great way of maintaining your well-being.  It is good for you both physically and mentally.  Catherine’s online classes are suitable for all – from the very beginner.  Why not give it a go? \nhttps://us02web.zoom.us/j/83692782693?pwd=0jqIgqqwL8CyVbvmmdRYryRiva6nms.1 \nMeeting ID: 836 9278 2693\nPasscode: 593370
URL:https://barnetcarers.org/event/tuesday-yoga-with-catherine/2028-08-22/
LOCATION:Online
CATEGORIES:Online,Relaxation,Wellbeing
END:VEVENT
BEGIN:VEVENT
DTSTART;TZID=UTC:20280828T163000
DTEND;TZID=UTC:20280828T173000
DTSTAMP:20260420T070559
CREATED:20260109T101153Z
LAST-MODIFIED:20260109T101612Z
UID:10003177-1851093000-1851096600@barnetcarers.org
SUMMARY:Monday Mindfulness with Catherine
DESCRIPTION:A great way to start your week.  Mindfulness can be a great way of getting you\, as a carer\, some space in otherwise very busy lives. \nThe link for the Zoom meeting is here:  https://us02web.zoom.us/j/83714857299?pwd=OZVIATiSbs5urAzEzleU8DaulB47NF.1 \nThe meeting details are:\nMeeting ID: 837 1485 7299\nPasscode: 478305
URL:https://barnetcarers.org/event/monday-mindfulness-with-catherine/2028-08-28/
LOCATION:Online
CATEGORIES:Online,Wellbeing
END:VEVENT
BEGIN:VEVENT
DTSTART;TZID=UTC:20280829T163000
DTEND;TZID=UTC:20280829T173000
DTSTAMP:20260420T070559
CREATED:20260109T102306Z
LAST-MODIFIED:20260109T102306Z
UID:10003438-1851179400-1851183000@barnetcarers.org
SUMMARY:Tuesday Yoga with Catherine
DESCRIPTION:Yoga is a great way of maintaining your well-being.  It is good for you both physically and mentally.  Catherine’s online classes are suitable for all – from the very beginner.  Why not give it a go? \nhttps://us02web.zoom.us/j/83692782693?pwd=0jqIgqqwL8CyVbvmmdRYryRiva6nms.1 \nMeeting ID: 836 9278 2693\nPasscode: 593370
URL:https://barnetcarers.org/event/tuesday-yoga-with-catherine/2028-08-29/
LOCATION:Online
CATEGORIES:Online,Relaxation,Wellbeing
END:VEVENT
BEGIN:VEVENT
DTSTART;TZID=UTC:20280904T163000
DTEND;TZID=UTC:20280904T173000
DTSTAMP:20260420T070559
CREATED:20260109T101153Z
LAST-MODIFIED:20260109T101612Z
UID:10003178-1851697800-1851701400@barnetcarers.org
SUMMARY:Monday Mindfulness with Catherine
DESCRIPTION:A great way to start your week.  Mindfulness can be a great way of getting you\, as a carer\, some space in otherwise very busy lives. \nThe link for the Zoom meeting is here:  https://us02web.zoom.us/j/83714857299?pwd=OZVIATiSbs5urAzEzleU8DaulB47NF.1 \nThe meeting details are:\nMeeting ID: 837 1485 7299\nPasscode: 478305
URL:https://barnetcarers.org/event/monday-mindfulness-with-catherine/2028-09-04/
LOCATION:Online
CATEGORIES:Online,Wellbeing
END:VEVENT
BEGIN:VEVENT
DTSTART;TZID=UTC:20280905T163000
DTEND;TZID=UTC:20280905T173000
DTSTAMP:20260420T070559
CREATED:20260109T102306Z
LAST-MODIFIED:20260109T102306Z
UID:10003439-1851784200-1851787800@barnetcarers.org
SUMMARY:Tuesday Yoga with Catherine
DESCRIPTION:Yoga is a great way of maintaining your well-being.  It is good for you both physically and mentally.  Catherine’s online classes are suitable for all – from the very beginner.  Why not give it a go? \nhttps://us02web.zoom.us/j/83692782693?pwd=0jqIgqqwL8CyVbvmmdRYryRiva6nms.1 \nMeeting ID: 836 9278 2693\nPasscode: 593370
URL:https://barnetcarers.org/event/tuesday-yoga-with-catherine/2028-09-05/
LOCATION:Online
CATEGORIES:Online,Relaxation,Wellbeing
END:VEVENT
BEGIN:VEVENT
DTSTART;TZID=UTC:20280911T163000
DTEND;TZID=UTC:20280911T173000
DTSTAMP:20260420T070559
CREATED:20260109T101153Z
LAST-MODIFIED:20260109T101612Z
UID:10003179-1852302600-1852306200@barnetcarers.org
SUMMARY:Monday Mindfulness with Catherine
DESCRIPTION:A great way to start your week.  Mindfulness can be a great way of getting you\, as a carer\, some space in otherwise very busy lives. \nThe link for the Zoom meeting is here:  https://us02web.zoom.us/j/83714857299?pwd=OZVIATiSbs5urAzEzleU8DaulB47NF.1 \nThe meeting details are:\nMeeting ID: 837 1485 7299\nPasscode: 478305
URL:https://barnetcarers.org/event/monday-mindfulness-with-catherine/2028-09-11/
LOCATION:Online
CATEGORIES:Online,Wellbeing
END:VEVENT
BEGIN:VEVENT
DTSTART;TZID=UTC:20280912T163000
DTEND;TZID=UTC:20280912T173000
DTSTAMP:20260420T070559
CREATED:20260109T102306Z
LAST-MODIFIED:20260109T102306Z
UID:10003440-1852389000-1852392600@barnetcarers.org
SUMMARY:Tuesday Yoga with Catherine
DESCRIPTION:Yoga is a great way of maintaining your well-being.  It is good for you both physically and mentally.  Catherine’s online classes are suitable for all – from the very beginner.  Why not give it a go? \nhttps://us02web.zoom.us/j/83692782693?pwd=0jqIgqqwL8CyVbvmmdRYryRiva6nms.1 \nMeeting ID: 836 9278 2693\nPasscode: 593370
URL:https://barnetcarers.org/event/tuesday-yoga-with-catherine/2028-09-12/
LOCATION:Online
CATEGORIES:Online,Relaxation,Wellbeing
END:VEVENT
BEGIN:VEVENT
DTSTART;TZID=UTC:20280918T163000
DTEND;TZID=UTC:20280918T173000
DTSTAMP:20260420T070559
CREATED:20260109T101153Z
LAST-MODIFIED:20260109T101612Z
UID:10003180-1852907400-1852911000@barnetcarers.org
SUMMARY:Monday Mindfulness with Catherine
DESCRIPTION:A great way to start your week.  Mindfulness can be a great way of getting you\, as a carer\, some space in otherwise very busy lives. \nThe link for the Zoom meeting is here:  https://us02web.zoom.us/j/83714857299?pwd=OZVIATiSbs5urAzEzleU8DaulB47NF.1 \nThe meeting details are:\nMeeting ID: 837 1485 7299\nPasscode: 478305
URL:https://barnetcarers.org/event/monday-mindfulness-with-catherine/2028-09-18/
LOCATION:Online
CATEGORIES:Online,Wellbeing
END:VEVENT
BEGIN:VEVENT
DTSTART;TZID=UTC:20280919T163000
DTEND;TZID=UTC:20280919T173000
DTSTAMP:20260420T070559
CREATED:20260109T102306Z
LAST-MODIFIED:20260109T102306Z
UID:10003441-1852993800-1852997400@barnetcarers.org
SUMMARY:Tuesday Yoga with Catherine
DESCRIPTION:Yoga is a great way of maintaining your well-being.  It is good for you both physically and mentally.  Catherine’s online classes are suitable for all – from the very beginner.  Why not give it a go? \nhttps://us02web.zoom.us/j/83692782693?pwd=0jqIgqqwL8CyVbvmmdRYryRiva6nms.1 \nMeeting ID: 836 9278 2693\nPasscode: 593370
URL:https://barnetcarers.org/event/tuesday-yoga-with-catherine/2028-09-19/
LOCATION:Online
CATEGORIES:Online,Relaxation,Wellbeing
END:VEVENT
BEGIN:VEVENT
DTSTART;TZID=UTC:20280925T163000
DTEND;TZID=UTC:20280925T173000
DTSTAMP:20260420T070559
CREATED:20260109T101153Z
LAST-MODIFIED:20260109T101612Z
UID:10003181-1853512200-1853515800@barnetcarers.org
SUMMARY:Monday Mindfulness with Catherine
DESCRIPTION:A great way to start your week.  Mindfulness can be a great way of getting you\, as a carer\, some space in otherwise very busy lives. \nThe link for the Zoom meeting is here:  https://us02web.zoom.us/j/83714857299?pwd=OZVIATiSbs5urAzEzleU8DaulB47NF.1 \nThe meeting details are:\nMeeting ID: 837 1485 7299\nPasscode: 478305
URL:https://barnetcarers.org/event/monday-mindfulness-with-catherine/2028-09-25/
LOCATION:Online
CATEGORIES:Online,Wellbeing
END:VEVENT
BEGIN:VEVENT
DTSTART;TZID=UTC:20280926T163000
DTEND;TZID=UTC:20280926T173000
DTSTAMP:20260420T070559
CREATED:20260109T102306Z
LAST-MODIFIED:20260109T102306Z
UID:10003442-1853598600-1853602200@barnetcarers.org
SUMMARY:Tuesday Yoga with Catherine
DESCRIPTION:Yoga is a great way of maintaining your well-being.  It is good for you both physically and mentally.  Catherine’s online classes are suitable for all – from the very beginner.  Why not give it a go? \nhttps://us02web.zoom.us/j/83692782693?pwd=0jqIgqqwL8CyVbvmmdRYryRiva6nms.1 \nMeeting ID: 836 9278 2693\nPasscode: 593370
URL:https://barnetcarers.org/event/tuesday-yoga-with-catherine/2028-09-26/
LOCATION:Online
CATEGORIES:Online,Relaxation,Wellbeing
END:VEVENT
BEGIN:VEVENT
DTSTART;TZID=UTC:20281002T163000
DTEND;TZID=UTC:20281002T173000
DTSTAMP:20260420T070559
CREATED:20260109T101153Z
LAST-MODIFIED:20260109T101612Z
UID:10003182-1854117000-1854120600@barnetcarers.org
SUMMARY:Monday Mindfulness with Catherine
DESCRIPTION:A great way to start your week.  Mindfulness can be a great way of getting you\, as a carer\, some space in otherwise very busy lives. \nThe link for the Zoom meeting is here:  https://us02web.zoom.us/j/83714857299?pwd=OZVIATiSbs5urAzEzleU8DaulB47NF.1 \nThe meeting details are:\nMeeting ID: 837 1485 7299\nPasscode: 478305
URL:https://barnetcarers.org/event/monday-mindfulness-with-catherine/2028-10-02/
LOCATION:Online
CATEGORIES:Online,Wellbeing
END:VEVENT
BEGIN:VEVENT
DTSTART;TZID=UTC:20281003T163000
DTEND;TZID=UTC:20281003T173000
DTSTAMP:20260420T070559
CREATED:20260109T102306Z
LAST-MODIFIED:20260109T102306Z
UID:10003443-1854203400-1854207000@barnetcarers.org
SUMMARY:Tuesday Yoga with Catherine
DESCRIPTION:Yoga is a great way of maintaining your well-being.  It is good for you both physically and mentally.  Catherine’s online classes are suitable for all – from the very beginner.  Why not give it a go? \nhttps://us02web.zoom.us/j/83692782693?pwd=0jqIgqqwL8CyVbvmmdRYryRiva6nms.1 \nMeeting ID: 836 9278 2693\nPasscode: 593370
URL:https://barnetcarers.org/event/tuesday-yoga-with-catherine/2028-10-03/
LOCATION:Online
CATEGORIES:Online,Relaxation,Wellbeing
END:VEVENT
BEGIN:VEVENT
DTSTART;TZID=UTC:20281009T163000
DTEND;TZID=UTC:20281009T173000
DTSTAMP:20260420T070559
CREATED:20260109T101153Z
LAST-MODIFIED:20260109T101612Z
UID:10003183-1854721800-1854725400@barnetcarers.org
SUMMARY:Monday Mindfulness with Catherine
DESCRIPTION:A great way to start your week.  Mindfulness can be a great way of getting you\, as a carer\, some space in otherwise very busy lives. \nThe link for the Zoom meeting is here:  https://us02web.zoom.us/j/83714857299?pwd=OZVIATiSbs5urAzEzleU8DaulB47NF.1 \nThe meeting details are:\nMeeting ID: 837 1485 7299\nPasscode: 478305
URL:https://barnetcarers.org/event/monday-mindfulness-with-catherine/2028-10-09/
LOCATION:Online
CATEGORIES:Online,Wellbeing
END:VEVENT
BEGIN:VEVENT
DTSTART;TZID=UTC:20281010T163000
DTEND;TZID=UTC:20281010T173000
DTSTAMP:20260420T070559
CREATED:20260109T102306Z
LAST-MODIFIED:20260109T102306Z
UID:10003444-1854808200-1854811800@barnetcarers.org
SUMMARY:Tuesday Yoga with Catherine
DESCRIPTION:Yoga is a great way of maintaining your well-being.  It is good for you both physically and mentally.  Catherine’s online classes are suitable for all – from the very beginner.  Why not give it a go? \nhttps://us02web.zoom.us/j/83692782693?pwd=0jqIgqqwL8CyVbvmmdRYryRiva6nms.1 \nMeeting ID: 836 9278 2693\nPasscode: 593370
URL:https://barnetcarers.org/event/tuesday-yoga-with-catherine/2028-10-10/
LOCATION:Online
CATEGORIES:Online,Relaxation,Wellbeing
END:VEVENT
BEGIN:VEVENT
DTSTART;TZID=UTC:20281016T163000
DTEND;TZID=UTC:20281016T173000
DTSTAMP:20260420T070559
CREATED:20260109T101153Z
LAST-MODIFIED:20260109T101612Z
UID:10003184-1855326600-1855330200@barnetcarers.org
SUMMARY:Monday Mindfulness with Catherine
DESCRIPTION:A great way to start your week.  Mindfulness can be a great way of getting you\, as a carer\, some space in otherwise very busy lives. \nThe link for the Zoom meeting is here:  https://us02web.zoom.us/j/83714857299?pwd=OZVIATiSbs5urAzEzleU8DaulB47NF.1 \nThe meeting details are:\nMeeting ID: 837 1485 7299\nPasscode: 478305
URL:https://barnetcarers.org/event/monday-mindfulness-with-catherine/2028-10-16/
LOCATION:Online
CATEGORIES:Online,Wellbeing
END:VEVENT
BEGIN:VEVENT
DTSTART;TZID=UTC:20281017T163000
DTEND;TZID=UTC:20281017T173000
DTSTAMP:20260420T070559
CREATED:20260109T102306Z
LAST-MODIFIED:20260109T102306Z
UID:10003445-1855413000-1855416600@barnetcarers.org
SUMMARY:Tuesday Yoga with Catherine
DESCRIPTION:Yoga is a great way of maintaining your well-being.  It is good for you both physically and mentally.  Catherine’s online classes are suitable for all – from the very beginner.  Why not give it a go? \nhttps://us02web.zoom.us/j/83692782693?pwd=0jqIgqqwL8CyVbvmmdRYryRiva6nms.1 \nMeeting ID: 836 9278 2693\nPasscode: 593370
URL:https://barnetcarers.org/event/tuesday-yoga-with-catherine/2028-10-17/
LOCATION:Online
CATEGORIES:Online,Relaxation,Wellbeing
END:VEVENT
BEGIN:VEVENT
DTSTART;TZID=UTC:20281023T163000
DTEND;TZID=UTC:20281023T173000
DTSTAMP:20260420T070559
CREATED:20260109T101153Z
LAST-MODIFIED:20260109T101612Z
UID:10003185-1855931400-1855935000@barnetcarers.org
SUMMARY:Monday Mindfulness with Catherine
DESCRIPTION:A great way to start your week.  Mindfulness can be a great way of getting you\, as a carer\, some space in otherwise very busy lives. \nThe link for the Zoom meeting is here:  https://us02web.zoom.us/j/83714857299?pwd=OZVIATiSbs5urAzEzleU8DaulB47NF.1 \nThe meeting details are:\nMeeting ID: 837 1485 7299\nPasscode: 478305
URL:https://barnetcarers.org/event/monday-mindfulness-with-catherine/2028-10-23/
LOCATION:Online
CATEGORIES:Online,Wellbeing
END:VEVENT
BEGIN:VEVENT
DTSTART;TZID=UTC:20281024T163000
DTEND;TZID=UTC:20281024T173000
DTSTAMP:20260420T070559
CREATED:20260109T102306Z
LAST-MODIFIED:20260109T102306Z
UID:10003446-1856017800-1856021400@barnetcarers.org
SUMMARY:Tuesday Yoga with Catherine
DESCRIPTION:Yoga is a great way of maintaining your well-being.  It is good for you both physically and mentally.  Catherine’s online classes are suitable for all – from the very beginner.  Why not give it a go? \nhttps://us02web.zoom.us/j/83692782693?pwd=0jqIgqqwL8CyVbvmmdRYryRiva6nms.1 \nMeeting ID: 836 9278 2693\nPasscode: 593370
URL:https://barnetcarers.org/event/tuesday-yoga-with-catherine/2028-10-24/
LOCATION:Online
CATEGORIES:Online,Relaxation,Wellbeing
END:VEVENT
BEGIN:VEVENT
DTSTART;TZID=UTC:20281030T163000
DTEND;TZID=UTC:20281030T173000
DTSTAMP:20260420T070559
CREATED:20260109T101153Z
LAST-MODIFIED:20260109T101612Z
UID:10003186-1856536200-1856539800@barnetcarers.org
SUMMARY:Monday Mindfulness with Catherine
DESCRIPTION:A great way to start your week.  Mindfulness can be a great way of getting you\, as a carer\, some space in otherwise very busy lives. \nThe link for the Zoom meeting is here:  https://us02web.zoom.us/j/83714857299?pwd=OZVIATiSbs5urAzEzleU8DaulB47NF.1 \nThe meeting details are:\nMeeting ID: 837 1485 7299\nPasscode: 478305
URL:https://barnetcarers.org/event/monday-mindfulness-with-catherine/2028-10-30/
LOCATION:Online
CATEGORIES:Online,Wellbeing
END:VEVENT
END:VCALENDAR