BEGIN:VCALENDAR
VERSION:2.0
PRODID:-//Barnet Carers - ECPv6.15.20//NONSGML v1.0//EN
CALSCALE:GREGORIAN
METHOD:PUBLISH
X-WR-CALNAME:Barnet Carers
X-ORIGINAL-URL:https://barnetcarers.org
X-WR-CALDESC:Events for Barnet Carers
REFRESH-INTERVAL;VALUE=DURATION:PT1H
X-Robots-Tag:noindex
X-PUBLISHED-TTL:PT1H
BEGIN:VTIMEZONE
TZID:UTC
BEGIN:STANDARD
TZOFFSETFROM:+0000
TZOFFSETTO:+0000
TZNAME:UTC
DTSTART:20280101T000000
END:STANDARD
END:VTIMEZONE
BEGIN:VEVENT
DTSTART;TZID=UTC:20290522T163000
DTEND;TZID=UTC:20290522T173000
DTSTAMP:20260420T070329
CREATED:20260109T102306Z
LAST-MODIFIED:20260109T102306Z
UID:10003476-1874161800-1874165400@barnetcarers.org
SUMMARY:Tuesday Yoga with Catherine
DESCRIPTION:Yoga is a great way of maintaining your well-being.  It is good for you both physically and mentally.  Catherine’s online classes are suitable for all – from the very beginner.  Why not give it a go? \nhttps://us02web.zoom.us/j/83692782693?pwd=0jqIgqqwL8CyVbvmmdRYryRiva6nms.1 \nMeeting ID: 836 9278 2693\nPasscode: 593370
URL:https://barnetcarers.org/event/tuesday-yoga-with-catherine/2029-05-22/
LOCATION:Online
CATEGORIES:Online,Relaxation,Wellbeing
END:VEVENT
BEGIN:VEVENT
DTSTART;TZID=UTC:20290529T163000
DTEND;TZID=UTC:20290529T173000
DTSTAMP:20260420T070329
CREATED:20260109T102306Z
LAST-MODIFIED:20260109T102306Z
UID:10003477-1874766600-1874770200@barnetcarers.org
SUMMARY:Tuesday Yoga with Catherine
DESCRIPTION:Yoga is a great way of maintaining your well-being.  It is good for you both physically and mentally.  Catherine’s online classes are suitable for all – from the very beginner.  Why not give it a go? \nhttps://us02web.zoom.us/j/83692782693?pwd=0jqIgqqwL8CyVbvmmdRYryRiva6nms.1 \nMeeting ID: 836 9278 2693\nPasscode: 593370
URL:https://barnetcarers.org/event/tuesday-yoga-with-catherine/2029-05-29/
LOCATION:Online
CATEGORIES:Online,Relaxation,Wellbeing
END:VEVENT
BEGIN:VEVENT
DTSTART;TZID=UTC:20290605T163000
DTEND;TZID=UTC:20290605T173000
DTSTAMP:20260420T070329
CREATED:20260109T102306Z
LAST-MODIFIED:20260109T102306Z
UID:10003478-1875371400-1875375000@barnetcarers.org
SUMMARY:Tuesday Yoga with Catherine
DESCRIPTION:Yoga is a great way of maintaining your well-being.  It is good for you both physically and mentally.  Catherine’s online classes are suitable for all – from the very beginner.  Why not give it a go? \nhttps://us02web.zoom.us/j/83692782693?pwd=0jqIgqqwL8CyVbvmmdRYryRiva6nms.1 \nMeeting ID: 836 9278 2693\nPasscode: 593370
URL:https://barnetcarers.org/event/tuesday-yoga-with-catherine/2029-06-05/
LOCATION:Online
CATEGORIES:Online,Relaxation,Wellbeing
END:VEVENT
BEGIN:VEVENT
DTSTART;TZID=UTC:20290612T163000
DTEND;TZID=UTC:20290612T173000
DTSTAMP:20260420T070329
CREATED:20260109T102306Z
LAST-MODIFIED:20260109T102306Z
UID:10003479-1875976200-1875979800@barnetcarers.org
SUMMARY:Tuesday Yoga with Catherine
DESCRIPTION:Yoga is a great way of maintaining your well-being.  It is good for you both physically and mentally.  Catherine’s online classes are suitable for all – from the very beginner.  Why not give it a go? \nhttps://us02web.zoom.us/j/83692782693?pwd=0jqIgqqwL8CyVbvmmdRYryRiva6nms.1 \nMeeting ID: 836 9278 2693\nPasscode: 593370
URL:https://barnetcarers.org/event/tuesday-yoga-with-catherine/2029-06-12/
LOCATION:Online
CATEGORIES:Online,Relaxation,Wellbeing
END:VEVENT
BEGIN:VEVENT
DTSTART;TZID=UTC:20290619T163000
DTEND;TZID=UTC:20290619T173000
DTSTAMP:20260420T070329
CREATED:20260109T102306Z
LAST-MODIFIED:20260109T102306Z
UID:10003480-1876581000-1876584600@barnetcarers.org
SUMMARY:Tuesday Yoga with Catherine
DESCRIPTION:Yoga is a great way of maintaining your well-being.  It is good for you both physically and mentally.  Catherine’s online classes are suitable for all – from the very beginner.  Why not give it a go? \nhttps://us02web.zoom.us/j/83692782693?pwd=0jqIgqqwL8CyVbvmmdRYryRiva6nms.1 \nMeeting ID: 836 9278 2693\nPasscode: 593370
URL:https://barnetcarers.org/event/tuesday-yoga-with-catherine/2029-06-19/
LOCATION:Online
CATEGORIES:Online,Relaxation,Wellbeing
END:VEVENT
BEGIN:VEVENT
DTSTART;TZID=UTC:20290626T163000
DTEND;TZID=UTC:20290626T173000
DTSTAMP:20260420T070329
CREATED:20260109T102306Z
LAST-MODIFIED:20260109T102306Z
UID:10003481-1877185800-1877189400@barnetcarers.org
SUMMARY:Tuesday Yoga with Catherine
DESCRIPTION:Yoga is a great way of maintaining your well-being.  It is good for you both physically and mentally.  Catherine’s online classes are suitable for all – from the very beginner.  Why not give it a go? \nhttps://us02web.zoom.us/j/83692782693?pwd=0jqIgqqwL8CyVbvmmdRYryRiva6nms.1 \nMeeting ID: 836 9278 2693\nPasscode: 593370
URL:https://barnetcarers.org/event/tuesday-yoga-with-catherine/2029-06-26/
LOCATION:Online
CATEGORIES:Online,Relaxation,Wellbeing
END:VEVENT
BEGIN:VEVENT
DTSTART;TZID=UTC:20290703T163000
DTEND;TZID=UTC:20290703T173000
DTSTAMP:20260420T070329
CREATED:20260109T102306Z
LAST-MODIFIED:20260109T102306Z
UID:10003482-1877790600-1877794200@barnetcarers.org
SUMMARY:Tuesday Yoga with Catherine
DESCRIPTION:Yoga is a great way of maintaining your well-being.  It is good for you both physically and mentally.  Catherine’s online classes are suitable for all – from the very beginner.  Why not give it a go? \nhttps://us02web.zoom.us/j/83692782693?pwd=0jqIgqqwL8CyVbvmmdRYryRiva6nms.1 \nMeeting ID: 836 9278 2693\nPasscode: 593370
URL:https://barnetcarers.org/event/tuesday-yoga-with-catherine/2029-07-03/
LOCATION:Online
CATEGORIES:Online,Relaxation,Wellbeing
END:VEVENT
BEGIN:VEVENT
DTSTART;TZID=UTC:20290710T163000
DTEND;TZID=UTC:20290710T173000
DTSTAMP:20260420T070329
CREATED:20260109T102306Z
LAST-MODIFIED:20260109T102306Z
UID:10003483-1878395400-1878399000@barnetcarers.org
SUMMARY:Tuesday Yoga with Catherine
DESCRIPTION:Yoga is a great way of maintaining your well-being.  It is good for you both physically and mentally.  Catherine’s online classes are suitable for all – from the very beginner.  Why not give it a go? \nhttps://us02web.zoom.us/j/83692782693?pwd=0jqIgqqwL8CyVbvmmdRYryRiva6nms.1 \nMeeting ID: 836 9278 2693\nPasscode: 593370
URL:https://barnetcarers.org/event/tuesday-yoga-with-catherine/2029-07-10/
LOCATION:Online
CATEGORIES:Online,Relaxation,Wellbeing
END:VEVENT
BEGIN:VEVENT
DTSTART;TZID=UTC:20290717T163000
DTEND;TZID=UTC:20290717T173000
DTSTAMP:20260420T070329
CREATED:20260109T102306Z
LAST-MODIFIED:20260109T102306Z
UID:10003484-1879000200-1879003800@barnetcarers.org
SUMMARY:Tuesday Yoga with Catherine
DESCRIPTION:Yoga is a great way of maintaining your well-being.  It is good for you both physically and mentally.  Catherine’s online classes are suitable for all – from the very beginner.  Why not give it a go? \nhttps://us02web.zoom.us/j/83692782693?pwd=0jqIgqqwL8CyVbvmmdRYryRiva6nms.1 \nMeeting ID: 836 9278 2693\nPasscode: 593370
URL:https://barnetcarers.org/event/tuesday-yoga-with-catherine/2029-07-17/
LOCATION:Online
CATEGORIES:Online,Relaxation,Wellbeing
END:VEVENT
BEGIN:VEVENT
DTSTART;TZID=UTC:20290724T163000
DTEND;TZID=UTC:20290724T173000
DTSTAMP:20260420T070329
CREATED:20260109T102306Z
LAST-MODIFIED:20260109T102306Z
UID:10003485-1879605000-1879608600@barnetcarers.org
SUMMARY:Tuesday Yoga with Catherine
DESCRIPTION:Yoga is a great way of maintaining your well-being.  It is good for you both physically and mentally.  Catherine’s online classes are suitable for all – from the very beginner.  Why not give it a go? \nhttps://us02web.zoom.us/j/83692782693?pwd=0jqIgqqwL8CyVbvmmdRYryRiva6nms.1 \nMeeting ID: 836 9278 2693\nPasscode: 593370
URL:https://barnetcarers.org/event/tuesday-yoga-with-catherine/2029-07-24/
LOCATION:Online
CATEGORIES:Online,Relaxation,Wellbeing
END:VEVENT
BEGIN:VEVENT
DTSTART;TZID=UTC:20290731T163000
DTEND;TZID=UTC:20290731T173000
DTSTAMP:20260420T070329
CREATED:20260109T102306Z
LAST-MODIFIED:20260109T102306Z
UID:10003486-1880209800-1880213400@barnetcarers.org
SUMMARY:Tuesday Yoga with Catherine
DESCRIPTION:Yoga is a great way of maintaining your well-being.  It is good for you both physically and mentally.  Catherine’s online classes are suitable for all – from the very beginner.  Why not give it a go? \nhttps://us02web.zoom.us/j/83692782693?pwd=0jqIgqqwL8CyVbvmmdRYryRiva6nms.1 \nMeeting ID: 836 9278 2693\nPasscode: 593370
URL:https://barnetcarers.org/event/tuesday-yoga-with-catherine/2029-07-31/
LOCATION:Online
CATEGORIES:Online,Relaxation,Wellbeing
END:VEVENT
BEGIN:VEVENT
DTSTART;TZID=UTC:20290807T163000
DTEND;TZID=UTC:20290807T173000
DTSTAMP:20260420T070329
CREATED:20260109T102306Z
LAST-MODIFIED:20260109T102306Z
UID:10003487-1880814600-1880818200@barnetcarers.org
SUMMARY:Tuesday Yoga with Catherine
DESCRIPTION:Yoga is a great way of maintaining your well-being.  It is good for you both physically and mentally.  Catherine’s online classes are suitable for all – from the very beginner.  Why not give it a go? \nhttps://us02web.zoom.us/j/83692782693?pwd=0jqIgqqwL8CyVbvmmdRYryRiva6nms.1 \nMeeting ID: 836 9278 2693\nPasscode: 593370
URL:https://barnetcarers.org/event/tuesday-yoga-with-catherine/2029-08-07/
LOCATION:Online
CATEGORIES:Online,Relaxation,Wellbeing
END:VEVENT
BEGIN:VEVENT
DTSTART;TZID=UTC:20290814T163000
DTEND;TZID=UTC:20290814T173000
DTSTAMP:20260420T070329
CREATED:20260109T102306Z
LAST-MODIFIED:20260109T102306Z
UID:10003488-1881419400-1881423000@barnetcarers.org
SUMMARY:Tuesday Yoga with Catherine
DESCRIPTION:Yoga is a great way of maintaining your well-being.  It is good for you both physically and mentally.  Catherine’s online classes are suitable for all – from the very beginner.  Why not give it a go? \nhttps://us02web.zoom.us/j/83692782693?pwd=0jqIgqqwL8CyVbvmmdRYryRiva6nms.1 \nMeeting ID: 836 9278 2693\nPasscode: 593370
URL:https://barnetcarers.org/event/tuesday-yoga-with-catherine/2029-08-14/
LOCATION:Online
CATEGORIES:Online,Relaxation,Wellbeing
END:VEVENT
BEGIN:VEVENT
DTSTART;TZID=UTC:20290821T163000
DTEND;TZID=UTC:20290821T173000
DTSTAMP:20260420T070329
CREATED:20260109T102306Z
LAST-MODIFIED:20260109T102306Z
UID:10003489-1882024200-1882027800@barnetcarers.org
SUMMARY:Tuesday Yoga with Catherine
DESCRIPTION:Yoga is a great way of maintaining your well-being.  It is good for you both physically and mentally.  Catherine’s online classes are suitable for all – from the very beginner.  Why not give it a go? \nhttps://us02web.zoom.us/j/83692782693?pwd=0jqIgqqwL8CyVbvmmdRYryRiva6nms.1 \nMeeting ID: 836 9278 2693\nPasscode: 593370
URL:https://barnetcarers.org/event/tuesday-yoga-with-catherine/2029-08-21/
LOCATION:Online
CATEGORIES:Online,Relaxation,Wellbeing
END:VEVENT
BEGIN:VEVENT
DTSTART;TZID=UTC:20290828T163000
DTEND;TZID=UTC:20290828T173000
DTSTAMP:20260420T070329
CREATED:20260109T102306Z
LAST-MODIFIED:20260109T102306Z
UID:10003490-1882629000-1882632600@barnetcarers.org
SUMMARY:Tuesday Yoga with Catherine
DESCRIPTION:Yoga is a great way of maintaining your well-being.  It is good for you both physically and mentally.  Catherine’s online classes are suitable for all – from the very beginner.  Why not give it a go? \nhttps://us02web.zoom.us/j/83692782693?pwd=0jqIgqqwL8CyVbvmmdRYryRiva6nms.1 \nMeeting ID: 836 9278 2693\nPasscode: 593370
URL:https://barnetcarers.org/event/tuesday-yoga-with-catherine/2029-08-28/
LOCATION:Online
CATEGORIES:Online,Relaxation,Wellbeing
END:VEVENT
BEGIN:VEVENT
DTSTART;TZID=UTC:20290904T163000
DTEND;TZID=UTC:20290904T173000
DTSTAMP:20260420T070329
CREATED:20260109T102306Z
LAST-MODIFIED:20260109T102306Z
UID:10003491-1883233800-1883237400@barnetcarers.org
SUMMARY:Tuesday Yoga with Catherine
DESCRIPTION:Yoga is a great way of maintaining your well-being.  It is good for you both physically and mentally.  Catherine’s online classes are suitable for all – from the very beginner.  Why not give it a go? \nhttps://us02web.zoom.us/j/83692782693?pwd=0jqIgqqwL8CyVbvmmdRYryRiva6nms.1 \nMeeting ID: 836 9278 2693\nPasscode: 593370
URL:https://barnetcarers.org/event/tuesday-yoga-with-catherine/2029-09-04/
LOCATION:Online
CATEGORIES:Online,Relaxation,Wellbeing
END:VEVENT
BEGIN:VEVENT
DTSTART;TZID=UTC:20290911T163000
DTEND;TZID=UTC:20290911T173000
DTSTAMP:20260420T070329
CREATED:20260109T102306Z
LAST-MODIFIED:20260109T102306Z
UID:10003492-1883838600-1883842200@barnetcarers.org
SUMMARY:Tuesday Yoga with Catherine
DESCRIPTION:Yoga is a great way of maintaining your well-being.  It is good for you both physically and mentally.  Catherine’s online classes are suitable for all – from the very beginner.  Why not give it a go? \nhttps://us02web.zoom.us/j/83692782693?pwd=0jqIgqqwL8CyVbvmmdRYryRiva6nms.1 \nMeeting ID: 836 9278 2693\nPasscode: 593370
URL:https://barnetcarers.org/event/tuesday-yoga-with-catherine/2029-09-11/
LOCATION:Online
CATEGORIES:Online,Relaxation,Wellbeing
END:VEVENT
BEGIN:VEVENT
DTSTART;TZID=UTC:20290918T163000
DTEND;TZID=UTC:20290918T173000
DTSTAMP:20260420T070329
CREATED:20260109T102306Z
LAST-MODIFIED:20260109T102306Z
UID:10003493-1884443400-1884447000@barnetcarers.org
SUMMARY:Tuesday Yoga with Catherine
DESCRIPTION:Yoga is a great way of maintaining your well-being.  It is good for you both physically and mentally.  Catherine’s online classes are suitable for all – from the very beginner.  Why not give it a go? \nhttps://us02web.zoom.us/j/83692782693?pwd=0jqIgqqwL8CyVbvmmdRYryRiva6nms.1 \nMeeting ID: 836 9278 2693\nPasscode: 593370
URL:https://barnetcarers.org/event/tuesday-yoga-with-catherine/2029-09-18/
LOCATION:Online
CATEGORIES:Online,Relaxation,Wellbeing
END:VEVENT
BEGIN:VEVENT
DTSTART;TZID=UTC:20290925T163000
DTEND;TZID=UTC:20290925T173000
DTSTAMP:20260420T070329
CREATED:20260109T102306Z
LAST-MODIFIED:20260109T102306Z
UID:10003494-1885048200-1885051800@barnetcarers.org
SUMMARY:Tuesday Yoga with Catherine
DESCRIPTION:Yoga is a great way of maintaining your well-being.  It is good for you both physically and mentally.  Catherine’s online classes are suitable for all – from the very beginner.  Why not give it a go? \nhttps://us02web.zoom.us/j/83692782693?pwd=0jqIgqqwL8CyVbvmmdRYryRiva6nms.1 \nMeeting ID: 836 9278 2693\nPasscode: 593370
URL:https://barnetcarers.org/event/tuesday-yoga-with-catherine/2029-09-25/
LOCATION:Online
CATEGORIES:Online,Relaxation,Wellbeing
END:VEVENT
BEGIN:VEVENT
DTSTART;TZID=UTC:20291002T163000
DTEND;TZID=UTC:20291002T173000
DTSTAMP:20260420T070329
CREATED:20260109T102306Z
LAST-MODIFIED:20260109T102306Z
UID:10003495-1885653000-1885656600@barnetcarers.org
SUMMARY:Tuesday Yoga with Catherine
DESCRIPTION:Yoga is a great way of maintaining your well-being.  It is good for you both physically and mentally.  Catherine’s online classes are suitable for all – from the very beginner.  Why not give it a go? \nhttps://us02web.zoom.us/j/83692782693?pwd=0jqIgqqwL8CyVbvmmdRYryRiva6nms.1 \nMeeting ID: 836 9278 2693\nPasscode: 593370
URL:https://barnetcarers.org/event/tuesday-yoga-with-catherine/2029-10-02/
LOCATION:Online
CATEGORIES:Online,Relaxation,Wellbeing
END:VEVENT
BEGIN:VEVENT
DTSTART;TZID=UTC:20291009T163000
DTEND;TZID=UTC:20291009T173000
DTSTAMP:20260420T070329
CREATED:20260109T102306Z
LAST-MODIFIED:20260109T102306Z
UID:10003496-1886257800-1886261400@barnetcarers.org
SUMMARY:Tuesday Yoga with Catherine
DESCRIPTION:Yoga is a great way of maintaining your well-being.  It is good for you both physically and mentally.  Catherine’s online classes are suitable for all – from the very beginner.  Why not give it a go? \nhttps://us02web.zoom.us/j/83692782693?pwd=0jqIgqqwL8CyVbvmmdRYryRiva6nms.1 \nMeeting ID: 836 9278 2693\nPasscode: 593370
URL:https://barnetcarers.org/event/tuesday-yoga-with-catherine/2029-10-09/
LOCATION:Online
CATEGORIES:Online,Relaxation,Wellbeing
END:VEVENT
BEGIN:VEVENT
DTSTART;TZID=UTC:20291016T163000
DTEND;TZID=UTC:20291016T173000
DTSTAMP:20260420T070329
CREATED:20260109T102306Z
LAST-MODIFIED:20260109T102306Z
UID:10003497-1886862600-1886866200@barnetcarers.org
SUMMARY:Tuesday Yoga with Catherine
DESCRIPTION:Yoga is a great way of maintaining your well-being.  It is good for you both physically and mentally.  Catherine’s online classes are suitable for all – from the very beginner.  Why not give it a go? \nhttps://us02web.zoom.us/j/83692782693?pwd=0jqIgqqwL8CyVbvmmdRYryRiva6nms.1 \nMeeting ID: 836 9278 2693\nPasscode: 593370
URL:https://barnetcarers.org/event/tuesday-yoga-with-catherine/2029-10-16/
LOCATION:Online
CATEGORIES:Online,Relaxation,Wellbeing
END:VEVENT
BEGIN:VEVENT
DTSTART;TZID=UTC:20291023T163000
DTEND;TZID=UTC:20291023T173000
DTSTAMP:20260420T070329
CREATED:20260109T102306Z
LAST-MODIFIED:20260109T102306Z
UID:10003498-1887467400-1887471000@barnetcarers.org
SUMMARY:Tuesday Yoga with Catherine
DESCRIPTION:Yoga is a great way of maintaining your well-being.  It is good for you both physically and mentally.  Catherine’s online classes are suitable for all – from the very beginner.  Why not give it a go? \nhttps://us02web.zoom.us/j/83692782693?pwd=0jqIgqqwL8CyVbvmmdRYryRiva6nms.1 \nMeeting ID: 836 9278 2693\nPasscode: 593370
URL:https://barnetcarers.org/event/tuesday-yoga-with-catherine/2029-10-23/
LOCATION:Online
CATEGORIES:Online,Relaxation,Wellbeing
END:VEVENT
BEGIN:VEVENT
DTSTART;TZID=UTC:20291030T163000
DTEND;TZID=UTC:20291030T173000
DTSTAMP:20260420T070329
CREATED:20260109T102306Z
LAST-MODIFIED:20260109T102306Z
UID:10003499-1888072200-1888075800@barnetcarers.org
SUMMARY:Tuesday Yoga with Catherine
DESCRIPTION:Yoga is a great way of maintaining your well-being.  It is good for you both physically and mentally.  Catherine’s online classes are suitable for all – from the very beginner.  Why not give it a go? \nhttps://us02web.zoom.us/j/83692782693?pwd=0jqIgqqwL8CyVbvmmdRYryRiva6nms.1 \nMeeting ID: 836 9278 2693\nPasscode: 593370
URL:https://barnetcarers.org/event/tuesday-yoga-with-catherine/2029-10-30/
LOCATION:Online
CATEGORIES:Online,Relaxation,Wellbeing
END:VEVENT
BEGIN:VEVENT
DTSTART;TZID=UTC:20291106T163000
DTEND;TZID=UTC:20291106T173000
DTSTAMP:20260420T070329
CREATED:20260109T102306Z
LAST-MODIFIED:20260109T102306Z
UID:10003500-1888677000-1888680600@barnetcarers.org
SUMMARY:Tuesday Yoga with Catherine
DESCRIPTION:Yoga is a great way of maintaining your well-being.  It is good for you both physically and mentally.  Catherine’s online classes are suitable for all – from the very beginner.  Why not give it a go? \nhttps://us02web.zoom.us/j/83692782693?pwd=0jqIgqqwL8CyVbvmmdRYryRiva6nms.1 \nMeeting ID: 836 9278 2693\nPasscode: 593370
URL:https://barnetcarers.org/event/tuesday-yoga-with-catherine/2029-11-06/
LOCATION:Online
CATEGORIES:Online,Relaxation,Wellbeing
END:VEVENT
BEGIN:VEVENT
DTSTART;TZID=UTC:20291113T163000
DTEND;TZID=UTC:20291113T173000
DTSTAMP:20260420T070329
CREATED:20260109T102306Z
LAST-MODIFIED:20260109T102306Z
UID:10003501-1889281800-1889285400@barnetcarers.org
SUMMARY:Tuesday Yoga with Catherine
DESCRIPTION:Yoga is a great way of maintaining your well-being.  It is good for you both physically and mentally.  Catherine’s online classes are suitable for all – from the very beginner.  Why not give it a go? \nhttps://us02web.zoom.us/j/83692782693?pwd=0jqIgqqwL8CyVbvmmdRYryRiva6nms.1 \nMeeting ID: 836 9278 2693\nPasscode: 593370
URL:https://barnetcarers.org/event/tuesday-yoga-with-catherine/2029-11-13/
LOCATION:Online
CATEGORIES:Online,Relaxation,Wellbeing
END:VEVENT
BEGIN:VEVENT
DTSTART;TZID=UTC:20291120T163000
DTEND;TZID=UTC:20291120T173000
DTSTAMP:20260420T070329
CREATED:20260109T102306Z
LAST-MODIFIED:20260109T102306Z
UID:10003502-1889886600-1889890200@barnetcarers.org
SUMMARY:Tuesday Yoga with Catherine
DESCRIPTION:Yoga is a great way of maintaining your well-being.  It is good for you both physically and mentally.  Catherine’s online classes are suitable for all – from the very beginner.  Why not give it a go? \nhttps://us02web.zoom.us/j/83692782693?pwd=0jqIgqqwL8CyVbvmmdRYryRiva6nms.1 \nMeeting ID: 836 9278 2693\nPasscode: 593370
URL:https://barnetcarers.org/event/tuesday-yoga-with-catherine/2029-11-20/
LOCATION:Online
CATEGORIES:Online,Relaxation,Wellbeing
END:VEVENT
BEGIN:VEVENT
DTSTART;TZID=UTC:20291127T163000
DTEND;TZID=UTC:20291127T173000
DTSTAMP:20260420T070329
CREATED:20260109T102306Z
LAST-MODIFIED:20260109T102306Z
UID:10003503-1890491400-1890495000@barnetcarers.org
SUMMARY:Tuesday Yoga with Catherine
DESCRIPTION:Yoga is a great way of maintaining your well-being.  It is good for you both physically and mentally.  Catherine’s online classes are suitable for all – from the very beginner.  Why not give it a go? \nhttps://us02web.zoom.us/j/83692782693?pwd=0jqIgqqwL8CyVbvmmdRYryRiva6nms.1 \nMeeting ID: 836 9278 2693\nPasscode: 593370
URL:https://barnetcarers.org/event/tuesday-yoga-with-catherine/2029-11-27/
LOCATION:Online
CATEGORIES:Online,Relaxation,Wellbeing
END:VEVENT
BEGIN:VEVENT
DTSTART;TZID=UTC:20291204T163000
DTEND;TZID=UTC:20291204T173000
DTSTAMP:20260420T070329
CREATED:20260109T102306Z
LAST-MODIFIED:20260109T102306Z
UID:10003504-1891096200-1891099800@barnetcarers.org
SUMMARY:Tuesday Yoga with Catherine
DESCRIPTION:Yoga is a great way of maintaining your well-being.  It is good for you both physically and mentally.  Catherine’s online classes are suitable for all – from the very beginner.  Why not give it a go? \nhttps://us02web.zoom.us/j/83692782693?pwd=0jqIgqqwL8CyVbvmmdRYryRiva6nms.1 \nMeeting ID: 836 9278 2693\nPasscode: 593370
URL:https://barnetcarers.org/event/tuesday-yoga-with-catherine/2029-12-04/
LOCATION:Online
CATEGORIES:Online,Relaxation,Wellbeing
END:VEVENT
BEGIN:VEVENT
DTSTART;TZID=UTC:20291211T163000
DTEND;TZID=UTC:20291211T173000
DTSTAMP:20260420T070329
CREATED:20260109T102306Z
LAST-MODIFIED:20260109T102306Z
UID:10003505-1891701000-1891704600@barnetcarers.org
SUMMARY:Tuesday Yoga with Catherine
DESCRIPTION:Yoga is a great way of maintaining your well-being.  It is good for you both physically and mentally.  Catherine’s online classes are suitable for all – from the very beginner.  Why not give it a go? \nhttps://us02web.zoom.us/j/83692782693?pwd=0jqIgqqwL8CyVbvmmdRYryRiva6nms.1 \nMeeting ID: 836 9278 2693\nPasscode: 593370
URL:https://barnetcarers.org/event/tuesday-yoga-with-catherine/2029-12-11/
LOCATION:Online
CATEGORIES:Online,Relaxation,Wellbeing
END:VEVENT
END:VCALENDAR