BEGIN:VCALENDAR
VERSION:2.0
PRODID:-//Barnet Carers - ECPv6.15.20//NONSGML v1.0//EN
CALSCALE:GREGORIAN
METHOD:PUBLISH
X-ORIGINAL-URL:https://barnetcarers.org
X-WR-CALDESC:Events for Barnet Carers
REFRESH-INTERVAL;VALUE=DURATION:PT1H
X-Robots-Tag:noindex
X-PUBLISHED-TTL:PT1H
BEGIN:VTIMEZONE
TZID:UTC
BEGIN:STANDARD
TZOFFSETFROM:+0000
TZOFFSETTO:+0000
TZNAME:UTC
DTSTART:20260101T000000
END:STANDARD
END:VTIMEZONE
BEGIN:VEVENT
DTSTART;TZID=UTC:20270622T163000
DTEND;TZID=UTC:20270622T173000
DTSTAMP:20260419T224629
CREATED:20260109T102306Z
LAST-MODIFIED:20260109T102306Z
UID:10003376-1813681800-1813685400@barnetcarers.org
SUMMARY:Tuesday Yoga with Catherine
DESCRIPTION:Yoga is a great way of maintaining your well-being.  It is good for you both physically and mentally.  Catherine’s online classes are suitable for all – from the very beginner.  Why not give it a go? \nhttps://us02web.zoom.us/j/83692782693?pwd=0jqIgqqwL8CyVbvmmdRYryRiva6nms.1 \nMeeting ID: 836 9278 2693\nPasscode: 593370
URL:https://barnetcarers.org/event/tuesday-yoga-with-catherine/2027-06-22/
LOCATION:Online
CATEGORIES:Online,Relaxation,Wellbeing
END:VEVENT
BEGIN:VEVENT
DTSTART;TZID=UTC:20270623T140000
DTEND;TZID=UTC:20270623T153000
DTSTAMP:20260419T224629
CREATED:20260109T122117Z
LAST-MODIFIED:20260109T122117Z
UID:10003637-1813759200-1813764600@barnetcarers.org
SUMMARY:Kick off with a Verse
DESCRIPTION:FREE WEEKLY ONLINE SESSIONS\nFOR UNPAID CARERS OF SOMEONE LIVING WITH DEMENTIA AND FORMER CARERS ADJUSTING\nWednesdays 2.00 to 3.30 pm\nand\nThursdays 7.00 to 8.30 pm \nWhat happens in a 90-minute session? We….\n• check in with other carers in a confidential space\n• have a little stretch\n• practice relaxation skills\n• listen to a poem which is a springboard for talking about our own experiences and finding our own words to say it as it is \nPlease email Karen to join and for more information or to organise a telephone call.\nkarindenovellis@gmail.com \nSome things participants have said about the sessions\n“You feel you are not on your own and that your experience is normal.”\n“You can lose yourself doing something creative.”\n“It – the group\, the time – was for us; this one hour and a half was ours and it felt safe.” \nPlease note this is not an event organised by Barnet Carers Centre
URL:https://barnetcarers.org/event/kick-off-with-a-verse/2027-06-23/
LOCATION:Online
CATEGORIES:Adult Carers,Relaxation,Social
END:VEVENT
BEGIN:VEVENT
DTSTART;TZID=UTC:20270624T190000
DTEND;TZID=UTC:20270624T203000
DTSTAMP:20260419T224629
CREATED:20260109T122338Z
LAST-MODIFIED:20260109T122338Z
UID:10003793-1813863600-1813869000@barnetcarers.org
SUMMARY:Kick off with a Verse
DESCRIPTION:FREE WEEKLY ONLINE SESSIONS\nFOR UNPAID CARERS OF SOMEONE LIVING WITH DEMENTIA AND FORMER CARERS ADJUSTING\nWednesdays 2.00 to 3.30 pm\nand\nThursdays 7.00 to 8.30 pm \nWhat happens in a 90-minute session? We….\n• check in with other carers in a confidential space\n• have a little stretch\n• practice relaxation skills\n• listen to a poem which is a springboard for talking about our own experiences and finding our own words to say it as it is \nPlease email Karen to join and for more information or to organise a telephone call.\nkarindenovellis@gmail.com \nSome things participants have said about the sessions\n“You feel you are not on your own and that your experience is normal.”\n“You can lose yourself doing something creative.”\n“It – the group\, the time – was for us; this one hour and a half was ours and it felt safe.” \nPlease note this is not an event organised by Barnet Carers Centre
URL:https://barnetcarers.org/event/kick-off-with-a-verse-2/2027-06-24/
LOCATION:Online
CATEGORIES:Adult Carers,Relaxation,Social
END:VEVENT
BEGIN:VEVENT
DTSTART;TZID=UTC:20270629T163000
DTEND;TZID=UTC:20270629T173000
DTSTAMP:20260419T224629
CREATED:20260109T102306Z
LAST-MODIFIED:20260109T102306Z
UID:10003377-1814286600-1814290200@barnetcarers.org
SUMMARY:Tuesday Yoga with Catherine
DESCRIPTION:Yoga is a great way of maintaining your well-being.  It is good for you both physically and mentally.  Catherine’s online classes are suitable for all – from the very beginner.  Why not give it a go? \nhttps://us02web.zoom.us/j/83692782693?pwd=0jqIgqqwL8CyVbvmmdRYryRiva6nms.1 \nMeeting ID: 836 9278 2693\nPasscode: 593370
URL:https://barnetcarers.org/event/tuesday-yoga-with-catherine/2027-06-29/
LOCATION:Online
CATEGORIES:Online,Relaxation,Wellbeing
END:VEVENT
BEGIN:VEVENT
DTSTART;TZID=UTC:20270630T140000
DTEND;TZID=UTC:20270630T153000
DTSTAMP:20260419T224629
CREATED:20260109T122117Z
LAST-MODIFIED:20260109T122117Z
UID:10003638-1814364000-1814369400@barnetcarers.org
SUMMARY:Kick off with a Verse
DESCRIPTION:FREE WEEKLY ONLINE SESSIONS\nFOR UNPAID CARERS OF SOMEONE LIVING WITH DEMENTIA AND FORMER CARERS ADJUSTING\nWednesdays 2.00 to 3.30 pm\nand\nThursdays 7.00 to 8.30 pm \nWhat happens in a 90-minute session? We….\n• check in with other carers in a confidential space\n• have a little stretch\n• practice relaxation skills\n• listen to a poem which is a springboard for talking about our own experiences and finding our own words to say it as it is \nPlease email Karen to join and for more information or to organise a telephone call.\nkarindenovellis@gmail.com \nSome things participants have said about the sessions\n“You feel you are not on your own and that your experience is normal.”\n“You can lose yourself doing something creative.”\n“It – the group\, the time – was for us; this one hour and a half was ours and it felt safe.” \nPlease note this is not an event organised by Barnet Carers Centre
URL:https://barnetcarers.org/event/kick-off-with-a-verse/2027-06-30/
LOCATION:Online
CATEGORIES:Adult Carers,Relaxation,Social
END:VEVENT
BEGIN:VEVENT
DTSTART;TZID=UTC:20270701T190000
DTEND;TZID=UTC:20270701T203000
DTSTAMP:20260419T224629
CREATED:20260109T122338Z
LAST-MODIFIED:20260109T122338Z
UID:10003794-1814468400-1814473800@barnetcarers.org
SUMMARY:Kick off with a Verse
DESCRIPTION:FREE WEEKLY ONLINE SESSIONS\nFOR UNPAID CARERS OF SOMEONE LIVING WITH DEMENTIA AND FORMER CARERS ADJUSTING\nWednesdays 2.00 to 3.30 pm\nand\nThursdays 7.00 to 8.30 pm \nWhat happens in a 90-minute session? We….\n• check in with other carers in a confidential space\n• have a little stretch\n• practice relaxation skills\n• listen to a poem which is a springboard for talking about our own experiences and finding our own words to say it as it is \nPlease email Karen to join and for more information or to organise a telephone call.\nkarindenovellis@gmail.com \nSome things participants have said about the sessions\n“You feel you are not on your own and that your experience is normal.”\n“You can lose yourself doing something creative.”\n“It – the group\, the time – was for us; this one hour and a half was ours and it felt safe.” \nPlease note this is not an event organised by Barnet Carers Centre
URL:https://barnetcarers.org/event/kick-off-with-a-verse-2/2027-07-01/
LOCATION:Online
CATEGORIES:Adult Carers,Relaxation,Social
END:VEVENT
BEGIN:VEVENT
DTSTART;TZID=UTC:20270706T163000
DTEND;TZID=UTC:20270706T173000
DTSTAMP:20260419T224629
CREATED:20260109T102306Z
LAST-MODIFIED:20260109T102306Z
UID:10003378-1814891400-1814895000@barnetcarers.org
SUMMARY:Tuesday Yoga with Catherine
DESCRIPTION:Yoga is a great way of maintaining your well-being.  It is good for you both physically and mentally.  Catherine’s online classes are suitable for all – from the very beginner.  Why not give it a go? \nhttps://us02web.zoom.us/j/83692782693?pwd=0jqIgqqwL8CyVbvmmdRYryRiva6nms.1 \nMeeting ID: 836 9278 2693\nPasscode: 593370
URL:https://barnetcarers.org/event/tuesday-yoga-with-catherine/2027-07-06/
LOCATION:Online
CATEGORIES:Online,Relaxation,Wellbeing
END:VEVENT
BEGIN:VEVENT
DTSTART;TZID=UTC:20270707T140000
DTEND;TZID=UTC:20270707T153000
DTSTAMP:20260419T224629
CREATED:20260109T122117Z
LAST-MODIFIED:20260109T122117Z
UID:10003639-1814968800-1814974200@barnetcarers.org
SUMMARY:Kick off with a Verse
DESCRIPTION:FREE WEEKLY ONLINE SESSIONS\nFOR UNPAID CARERS OF SOMEONE LIVING WITH DEMENTIA AND FORMER CARERS ADJUSTING\nWednesdays 2.00 to 3.30 pm\nand\nThursdays 7.00 to 8.30 pm \nWhat happens in a 90-minute session? We….\n• check in with other carers in a confidential space\n• have a little stretch\n• practice relaxation skills\n• listen to a poem which is a springboard for talking about our own experiences and finding our own words to say it as it is \nPlease email Karen to join and for more information or to organise a telephone call.\nkarindenovellis@gmail.com \nSome things participants have said about the sessions\n“You feel you are not on your own and that your experience is normal.”\n“You can lose yourself doing something creative.”\n“It – the group\, the time – was for us; this one hour and a half was ours and it felt safe.” \nPlease note this is not an event organised by Barnet Carers Centre
URL:https://barnetcarers.org/event/kick-off-with-a-verse/2027-07-07/
LOCATION:Online
CATEGORIES:Adult Carers,Relaxation,Social
END:VEVENT
BEGIN:VEVENT
DTSTART;TZID=UTC:20270713T163000
DTEND;TZID=UTC:20270713T173000
DTSTAMP:20260419T224629
CREATED:20260109T102306Z
LAST-MODIFIED:20260109T102306Z
UID:10003379-1815496200-1815499800@barnetcarers.org
SUMMARY:Tuesday Yoga with Catherine
DESCRIPTION:Yoga is a great way of maintaining your well-being.  It is good for you both physically and mentally.  Catherine’s online classes are suitable for all – from the very beginner.  Why not give it a go? \nhttps://us02web.zoom.us/j/83692782693?pwd=0jqIgqqwL8CyVbvmmdRYryRiva6nms.1 \nMeeting ID: 836 9278 2693\nPasscode: 593370
URL:https://barnetcarers.org/event/tuesday-yoga-with-catherine/2027-07-13/
LOCATION:Online
CATEGORIES:Online,Relaxation,Wellbeing
END:VEVENT
BEGIN:VEVENT
DTSTART;TZID=UTC:20270720T163000
DTEND;TZID=UTC:20270720T173000
DTSTAMP:20260419T224629
CREATED:20260109T102306Z
LAST-MODIFIED:20260109T102306Z
UID:10003380-1816101000-1816104600@barnetcarers.org
SUMMARY:Tuesday Yoga with Catherine
DESCRIPTION:Yoga is a great way of maintaining your well-being.  It is good for you both physically and mentally.  Catherine’s online classes are suitable for all – from the very beginner.  Why not give it a go? \nhttps://us02web.zoom.us/j/83692782693?pwd=0jqIgqqwL8CyVbvmmdRYryRiva6nms.1 \nMeeting ID: 836 9278 2693\nPasscode: 593370
URL:https://barnetcarers.org/event/tuesday-yoga-with-catherine/2027-07-20/
LOCATION:Online
CATEGORIES:Online,Relaxation,Wellbeing
END:VEVENT
BEGIN:VEVENT
DTSTART;TZID=UTC:20270727T163000
DTEND;TZID=UTC:20270727T173000
DTSTAMP:20260419T224629
CREATED:20260109T102306Z
LAST-MODIFIED:20260109T102306Z
UID:10003381-1816705800-1816709400@barnetcarers.org
SUMMARY:Tuesday Yoga with Catherine
DESCRIPTION:Yoga is a great way of maintaining your well-being.  It is good for you both physically and mentally.  Catherine’s online classes are suitable for all – from the very beginner.  Why not give it a go? \nhttps://us02web.zoom.us/j/83692782693?pwd=0jqIgqqwL8CyVbvmmdRYryRiva6nms.1 \nMeeting ID: 836 9278 2693\nPasscode: 593370
URL:https://barnetcarers.org/event/tuesday-yoga-with-catherine/2027-07-27/
LOCATION:Online
CATEGORIES:Online,Relaxation,Wellbeing
END:VEVENT
BEGIN:VEVENT
DTSTART;TZID=UTC:20270803T163000
DTEND;TZID=UTC:20270803T173000
DTSTAMP:20260419T224629
CREATED:20260109T102306Z
LAST-MODIFIED:20260109T102306Z
UID:10003382-1817310600-1817314200@barnetcarers.org
SUMMARY:Tuesday Yoga with Catherine
DESCRIPTION:Yoga is a great way of maintaining your well-being.  It is good for you both physically and mentally.  Catherine’s online classes are suitable for all – from the very beginner.  Why not give it a go? \nhttps://us02web.zoom.us/j/83692782693?pwd=0jqIgqqwL8CyVbvmmdRYryRiva6nms.1 \nMeeting ID: 836 9278 2693\nPasscode: 593370
URL:https://barnetcarers.org/event/tuesday-yoga-with-catherine/2027-08-03/
LOCATION:Online
CATEGORIES:Online,Relaxation,Wellbeing
END:VEVENT
BEGIN:VEVENT
DTSTART;TZID=UTC:20270810T163000
DTEND;TZID=UTC:20270810T173000
DTSTAMP:20260419T224629
CREATED:20260109T102306Z
LAST-MODIFIED:20260109T102306Z
UID:10003383-1817915400-1817919000@barnetcarers.org
SUMMARY:Tuesday Yoga with Catherine
DESCRIPTION:Yoga is a great way of maintaining your well-being.  It is good for you both physically and mentally.  Catherine’s online classes are suitable for all – from the very beginner.  Why not give it a go? \nhttps://us02web.zoom.us/j/83692782693?pwd=0jqIgqqwL8CyVbvmmdRYryRiva6nms.1 \nMeeting ID: 836 9278 2693\nPasscode: 593370
URL:https://barnetcarers.org/event/tuesday-yoga-with-catherine/2027-08-10/
LOCATION:Online
CATEGORIES:Online,Relaxation,Wellbeing
END:VEVENT
BEGIN:VEVENT
DTSTART;TZID=UTC:20270817T163000
DTEND;TZID=UTC:20270817T173000
DTSTAMP:20260419T224629
CREATED:20260109T102306Z
LAST-MODIFIED:20260109T102306Z
UID:10003384-1818520200-1818523800@barnetcarers.org
SUMMARY:Tuesday Yoga with Catherine
DESCRIPTION:Yoga is a great way of maintaining your well-being.  It is good for you both physically and mentally.  Catherine’s online classes are suitable for all – from the very beginner.  Why not give it a go? \nhttps://us02web.zoom.us/j/83692782693?pwd=0jqIgqqwL8CyVbvmmdRYryRiva6nms.1 \nMeeting ID: 836 9278 2693\nPasscode: 593370
URL:https://barnetcarers.org/event/tuesday-yoga-with-catherine/2027-08-17/
LOCATION:Online
CATEGORIES:Online,Relaxation,Wellbeing
END:VEVENT
BEGIN:VEVENT
DTSTART;TZID=UTC:20270824T163000
DTEND;TZID=UTC:20270824T173000
DTSTAMP:20260419T224629
CREATED:20260109T102306Z
LAST-MODIFIED:20260109T102306Z
UID:10003385-1819125000-1819128600@barnetcarers.org
SUMMARY:Tuesday Yoga with Catherine
DESCRIPTION:Yoga is a great way of maintaining your well-being.  It is good for you both physically and mentally.  Catherine’s online classes are suitable for all – from the very beginner.  Why not give it a go? \nhttps://us02web.zoom.us/j/83692782693?pwd=0jqIgqqwL8CyVbvmmdRYryRiva6nms.1 \nMeeting ID: 836 9278 2693\nPasscode: 593370
URL:https://barnetcarers.org/event/tuesday-yoga-with-catherine/2027-08-24/
LOCATION:Online
CATEGORIES:Online,Relaxation,Wellbeing
END:VEVENT
BEGIN:VEVENT
DTSTART;TZID=UTC:20270831T163000
DTEND;TZID=UTC:20270831T173000
DTSTAMP:20260419T224629
CREATED:20260109T102306Z
LAST-MODIFIED:20260109T102306Z
UID:10003386-1819729800-1819733400@barnetcarers.org
SUMMARY:Tuesday Yoga with Catherine
DESCRIPTION:Yoga is a great way of maintaining your well-being.  It is good for you both physically and mentally.  Catherine’s online classes are suitable for all – from the very beginner.  Why not give it a go? \nhttps://us02web.zoom.us/j/83692782693?pwd=0jqIgqqwL8CyVbvmmdRYryRiva6nms.1 \nMeeting ID: 836 9278 2693\nPasscode: 593370
URL:https://barnetcarers.org/event/tuesday-yoga-with-catherine/2027-08-31/
LOCATION:Online
CATEGORIES:Online,Relaxation,Wellbeing
END:VEVENT
BEGIN:VEVENT
DTSTART;TZID=UTC:20270907T163000
DTEND;TZID=UTC:20270907T173000
DTSTAMP:20260419T224629
CREATED:20260109T102306Z
LAST-MODIFIED:20260109T102306Z
UID:10003387-1820334600-1820338200@barnetcarers.org
SUMMARY:Tuesday Yoga with Catherine
DESCRIPTION:Yoga is a great way of maintaining your well-being.  It is good for you both physically and mentally.  Catherine’s online classes are suitable for all – from the very beginner.  Why not give it a go? \nhttps://us02web.zoom.us/j/83692782693?pwd=0jqIgqqwL8CyVbvmmdRYryRiva6nms.1 \nMeeting ID: 836 9278 2693\nPasscode: 593370
URL:https://barnetcarers.org/event/tuesday-yoga-with-catherine/2027-09-07/
LOCATION:Online
CATEGORIES:Online,Relaxation,Wellbeing
END:VEVENT
BEGIN:VEVENT
DTSTART;TZID=UTC:20270914T163000
DTEND;TZID=UTC:20270914T173000
DTSTAMP:20260419T224629
CREATED:20260109T102306Z
LAST-MODIFIED:20260109T102306Z
UID:10003388-1820939400-1820943000@barnetcarers.org
SUMMARY:Tuesday Yoga with Catherine
DESCRIPTION:Yoga is a great way of maintaining your well-being.  It is good for you both physically and mentally.  Catherine’s online classes are suitable for all – from the very beginner.  Why not give it a go? \nhttps://us02web.zoom.us/j/83692782693?pwd=0jqIgqqwL8CyVbvmmdRYryRiva6nms.1 \nMeeting ID: 836 9278 2693\nPasscode: 593370
URL:https://barnetcarers.org/event/tuesday-yoga-with-catherine/2027-09-14/
LOCATION:Online
CATEGORIES:Online,Relaxation,Wellbeing
END:VEVENT
BEGIN:VEVENT
DTSTART;TZID=UTC:20270921T163000
DTEND;TZID=UTC:20270921T173000
DTSTAMP:20260419T224629
CREATED:20260109T102306Z
LAST-MODIFIED:20260109T102306Z
UID:10003389-1821544200-1821547800@barnetcarers.org
SUMMARY:Tuesday Yoga with Catherine
DESCRIPTION:Yoga is a great way of maintaining your well-being.  It is good for you both physically and mentally.  Catherine’s online classes are suitable for all – from the very beginner.  Why not give it a go? \nhttps://us02web.zoom.us/j/83692782693?pwd=0jqIgqqwL8CyVbvmmdRYryRiva6nms.1 \nMeeting ID: 836 9278 2693\nPasscode: 593370
URL:https://barnetcarers.org/event/tuesday-yoga-with-catherine/2027-09-21/
LOCATION:Online
CATEGORIES:Online,Relaxation,Wellbeing
END:VEVENT
BEGIN:VEVENT
DTSTART;TZID=UTC:20270928T163000
DTEND;TZID=UTC:20270928T173000
DTSTAMP:20260419T224629
CREATED:20260109T102306Z
LAST-MODIFIED:20260109T102306Z
UID:10003390-1822149000-1822152600@barnetcarers.org
SUMMARY:Tuesday Yoga with Catherine
DESCRIPTION:Yoga is a great way of maintaining your well-being.  It is good for you both physically and mentally.  Catherine’s online classes are suitable for all – from the very beginner.  Why not give it a go? \nhttps://us02web.zoom.us/j/83692782693?pwd=0jqIgqqwL8CyVbvmmdRYryRiva6nms.1 \nMeeting ID: 836 9278 2693\nPasscode: 593370
URL:https://barnetcarers.org/event/tuesday-yoga-with-catherine/2027-09-28/
LOCATION:Online
CATEGORIES:Online,Relaxation,Wellbeing
END:VEVENT
BEGIN:VEVENT
DTSTART;TZID=UTC:20271005T163000
DTEND;TZID=UTC:20271005T173000
DTSTAMP:20260419T224629
CREATED:20260109T102306Z
LAST-MODIFIED:20260109T102306Z
UID:10003391-1822753800-1822757400@barnetcarers.org
SUMMARY:Tuesday Yoga with Catherine
DESCRIPTION:Yoga is a great way of maintaining your well-being.  It is good for you both physically and mentally.  Catherine’s online classes are suitable for all – from the very beginner.  Why not give it a go? \nhttps://us02web.zoom.us/j/83692782693?pwd=0jqIgqqwL8CyVbvmmdRYryRiva6nms.1 \nMeeting ID: 836 9278 2693\nPasscode: 593370
URL:https://barnetcarers.org/event/tuesday-yoga-with-catherine/2027-10-05/
LOCATION:Online
CATEGORIES:Online,Relaxation,Wellbeing
END:VEVENT
BEGIN:VEVENT
DTSTART;TZID=UTC:20271012T163000
DTEND;TZID=UTC:20271012T173000
DTSTAMP:20260419T224629
CREATED:20260109T102306Z
LAST-MODIFIED:20260109T102306Z
UID:10003392-1823358600-1823362200@barnetcarers.org
SUMMARY:Tuesday Yoga with Catherine
DESCRIPTION:Yoga is a great way of maintaining your well-being.  It is good for you both physically and mentally.  Catherine’s online classes are suitable for all – from the very beginner.  Why not give it a go? \nhttps://us02web.zoom.us/j/83692782693?pwd=0jqIgqqwL8CyVbvmmdRYryRiva6nms.1 \nMeeting ID: 836 9278 2693\nPasscode: 593370
URL:https://barnetcarers.org/event/tuesday-yoga-with-catherine/2027-10-12/
LOCATION:Online
CATEGORIES:Online,Relaxation,Wellbeing
END:VEVENT
BEGIN:VEVENT
DTSTART;TZID=UTC:20271019T163000
DTEND;TZID=UTC:20271019T173000
DTSTAMP:20260419T224629
CREATED:20260109T102306Z
LAST-MODIFIED:20260109T102306Z
UID:10003393-1823963400-1823967000@barnetcarers.org
SUMMARY:Tuesday Yoga with Catherine
DESCRIPTION:Yoga is a great way of maintaining your well-being.  It is good for you both physically and mentally.  Catherine’s online classes are suitable for all – from the very beginner.  Why not give it a go? \nhttps://us02web.zoom.us/j/83692782693?pwd=0jqIgqqwL8CyVbvmmdRYryRiva6nms.1 \nMeeting ID: 836 9278 2693\nPasscode: 593370
URL:https://barnetcarers.org/event/tuesday-yoga-with-catherine/2027-10-19/
LOCATION:Online
CATEGORIES:Online,Relaxation,Wellbeing
END:VEVENT
BEGIN:VEVENT
DTSTART;TZID=UTC:20271026T163000
DTEND;TZID=UTC:20271026T173000
DTSTAMP:20260419T224629
CREATED:20260109T102306Z
LAST-MODIFIED:20260109T102306Z
UID:10003394-1824568200-1824571800@barnetcarers.org
SUMMARY:Tuesday Yoga with Catherine
DESCRIPTION:Yoga is a great way of maintaining your well-being.  It is good for you both physically and mentally.  Catherine’s online classes are suitable for all – from the very beginner.  Why not give it a go? \nhttps://us02web.zoom.us/j/83692782693?pwd=0jqIgqqwL8CyVbvmmdRYryRiva6nms.1 \nMeeting ID: 836 9278 2693\nPasscode: 593370
URL:https://barnetcarers.org/event/tuesday-yoga-with-catherine/2027-10-26/
LOCATION:Online
CATEGORIES:Online,Relaxation,Wellbeing
END:VEVENT
BEGIN:VEVENT
DTSTART;TZID=UTC:20271102T163000
DTEND;TZID=UTC:20271102T173000
DTSTAMP:20260419T224629
CREATED:20260109T102306Z
LAST-MODIFIED:20260109T102306Z
UID:10003395-1825173000-1825176600@barnetcarers.org
SUMMARY:Tuesday Yoga with Catherine
DESCRIPTION:Yoga is a great way of maintaining your well-being.  It is good for you both physically and mentally.  Catherine’s online classes are suitable for all – from the very beginner.  Why not give it a go? \nhttps://us02web.zoom.us/j/83692782693?pwd=0jqIgqqwL8CyVbvmmdRYryRiva6nms.1 \nMeeting ID: 836 9278 2693\nPasscode: 593370
URL:https://barnetcarers.org/event/tuesday-yoga-with-catherine/2027-11-02/
LOCATION:Online
CATEGORIES:Online,Relaxation,Wellbeing
END:VEVENT
BEGIN:VEVENT
DTSTART;TZID=UTC:20271109T163000
DTEND;TZID=UTC:20271109T173000
DTSTAMP:20260419T224629
CREATED:20260109T102306Z
LAST-MODIFIED:20260109T102306Z
UID:10003396-1825777800-1825781400@barnetcarers.org
SUMMARY:Tuesday Yoga with Catherine
DESCRIPTION:Yoga is a great way of maintaining your well-being.  It is good for you both physically and mentally.  Catherine’s online classes are suitable for all – from the very beginner.  Why not give it a go? \nhttps://us02web.zoom.us/j/83692782693?pwd=0jqIgqqwL8CyVbvmmdRYryRiva6nms.1 \nMeeting ID: 836 9278 2693\nPasscode: 593370
URL:https://barnetcarers.org/event/tuesday-yoga-with-catherine/2027-11-09/
LOCATION:Online
CATEGORIES:Online,Relaxation,Wellbeing
END:VEVENT
BEGIN:VEVENT
DTSTART;TZID=UTC:20271116T163000
DTEND;TZID=UTC:20271116T173000
DTSTAMP:20260419T224629
CREATED:20260109T102306Z
LAST-MODIFIED:20260109T102306Z
UID:10003397-1826382600-1826386200@barnetcarers.org
SUMMARY:Tuesday Yoga with Catherine
DESCRIPTION:Yoga is a great way of maintaining your well-being.  It is good for you both physically and mentally.  Catherine’s online classes are suitable for all – from the very beginner.  Why not give it a go? \nhttps://us02web.zoom.us/j/83692782693?pwd=0jqIgqqwL8CyVbvmmdRYryRiva6nms.1 \nMeeting ID: 836 9278 2693\nPasscode: 593370
URL:https://barnetcarers.org/event/tuesday-yoga-with-catherine/2027-11-16/
LOCATION:Online
CATEGORIES:Online,Relaxation,Wellbeing
END:VEVENT
BEGIN:VEVENT
DTSTART;TZID=UTC:20271123T163000
DTEND;TZID=UTC:20271123T173000
DTSTAMP:20260419T224629
CREATED:20260109T102306Z
LAST-MODIFIED:20260109T102306Z
UID:10003398-1826987400-1826991000@barnetcarers.org
SUMMARY:Tuesday Yoga with Catherine
DESCRIPTION:Yoga is a great way of maintaining your well-being.  It is good for you both physically and mentally.  Catherine’s online classes are suitable for all – from the very beginner.  Why not give it a go? \nhttps://us02web.zoom.us/j/83692782693?pwd=0jqIgqqwL8CyVbvmmdRYryRiva6nms.1 \nMeeting ID: 836 9278 2693\nPasscode: 593370
URL:https://barnetcarers.org/event/tuesday-yoga-with-catherine/2027-11-23/
LOCATION:Online
CATEGORIES:Online,Relaxation,Wellbeing
END:VEVENT
BEGIN:VEVENT
DTSTART;TZID=UTC:20271130T163000
DTEND;TZID=UTC:20271130T173000
DTSTAMP:20260419T224629
CREATED:20260109T102306Z
LAST-MODIFIED:20260109T102306Z
UID:10003399-1827592200-1827595800@barnetcarers.org
SUMMARY:Tuesday Yoga with Catherine
DESCRIPTION:Yoga is a great way of maintaining your well-being.  It is good for you both physically and mentally.  Catherine’s online classes are suitable for all – from the very beginner.  Why not give it a go? \nhttps://us02web.zoom.us/j/83692782693?pwd=0jqIgqqwL8CyVbvmmdRYryRiva6nms.1 \nMeeting ID: 836 9278 2693\nPasscode: 593370
URL:https://barnetcarers.org/event/tuesday-yoga-with-catherine/2027-11-30/
LOCATION:Online
CATEGORIES:Online,Relaxation,Wellbeing
END:VEVENT
BEGIN:VEVENT
DTSTART;TZID=UTC:20271207T163000
DTEND;TZID=UTC:20271207T173000
DTSTAMP:20260419T224629
CREATED:20260109T102306Z
LAST-MODIFIED:20260109T102306Z
UID:10003400-1828197000-1828200600@barnetcarers.org
SUMMARY:Tuesday Yoga with Catherine
DESCRIPTION:Yoga is a great way of maintaining your well-being.  It is good for you both physically and mentally.  Catherine’s online classes are suitable for all – from the very beginner.  Why not give it a go? \nhttps://us02web.zoom.us/j/83692782693?pwd=0jqIgqqwL8CyVbvmmdRYryRiva6nms.1 \nMeeting ID: 836 9278 2693\nPasscode: 593370
URL:https://barnetcarers.org/event/tuesday-yoga-with-catherine/2027-12-07/
LOCATION:Online
CATEGORIES:Online,Relaxation,Wellbeing
END:VEVENT
END:VCALENDAR