BEGIN:VCALENDAR
VERSION:2.0
PRODID:-//Barnet Carers - ECPv6.15.20//NONSGML v1.0//EN
CALSCALE:GREGORIAN
METHOD:PUBLISH
X-WR-CALNAME:Barnet Carers
X-ORIGINAL-URL:https://barnetcarers.org
X-WR-CALDESC:Events for Barnet Carers
REFRESH-INTERVAL;VALUE=DURATION:PT1H
X-Robots-Tag:noindex
X-PUBLISHED-TTL:PT1H
BEGIN:VTIMEZONE
TZID:UTC
BEGIN:STANDARD
TZOFFSETFROM:+0000
TZOFFSETTO:+0000
TZNAME:UTC
DTSTART:20270101T000000
END:STANDARD
END:VTIMEZONE
BEGIN:VEVENT
DTSTART;TZID=UTC:20280419T183000
DTEND;TZID=UTC:20280419T200000
DTSTAMP:20260424T123335
CREATED:20260119T092356Z
LAST-MODIFIED:20260119T092407Z
UID:10003913-1839781800-1839787200@barnetcarers.org
SUMMARY:Carers Community Weekly Group - Online
DESCRIPTION:Lunchtime Learning – Introducing AI for Carers\n				\n				\n			\n				\n				\n				\n				\n				Join us by Zoom every week for the Carers Community.  This meeting is all about you so we will be experimenting to make sure we get a format that is right for people.  It will be led mostly by Mike Rich\, CEO at Barnet Carers but – when Mike is not available will be covered by others. \nWe would like to discuss a specific topic every week for part of the meeting and have a general discussion in the first part.  But we can discuss this as we go along. \nThe Zoom details are below:https://us02web.zoom.us/j/88417593825?pwd=tPmt4WJvRE4qT9hazKBwbxndYXpGmR.1Meeting ID: 884 1759 3825Passcode: 080384
URL:https://barnetcarers.org/event/carers-community-weekly-group-online/2028-04-19/
LOCATION:Online
CATEGORIES:Adult Carers,Online,Social
END:VEVENT
END:VCALENDAR