BEGIN:VCALENDAR
VERSION:2.0
PRODID:-//Barnet Carers - ECPv6.15.20//NONSGML v1.0//EN
CALSCALE:GREGORIAN
METHOD:PUBLISH
X-WR-CALNAME:Barnet Carers
X-ORIGINAL-URL:https://barnetcarers.org
X-WR-CALDESC:Events for Barnet Carers
REFRESH-INTERVAL;VALUE=DURATION:PT1H
X-Robots-Tag:noindex
X-PUBLISHED-TTL:PT1H
BEGIN:VTIMEZONE
TZID:UTC
BEGIN:STANDARD
TZOFFSETFROM:+0000
TZOFFSETTO:+0000
TZNAME:UTC
DTSTART:20250101T000000
END:STANDARD
END:VTIMEZONE
BEGIN:VEVENT
DTSTART;TZID=UTC:20260609T170000
DTEND;TZID=UTC:20260609T190000
DTSTAMP:20260419T193646
CREATED:20251119T125744Z
LAST-MODIFIED:20251119T125754Z
UID:10002410-1781024400-1781031600@barnetcarers.org
SUMMARY:'Breathe\, reset\, relax' by Rob @ Not a Care in the World
DESCRIPTION:Carers Community Weekly Group – Online\n				\n				\n			\n				\n				\n				\n				\n				Simple\, yet effective: a journey to deepen your relationship with yourself using the breath. By connecting the inhale with the exhale\, we will bring awareness to your natural breathing rhythm to relax deeply and discover tensions in the body which link to emotions\, thoughts and narratives.  \nNo rules. No comparisons. No destination. All moods welcome and interesting! \n\nCalm and regulate your breathing patterns\nHack your nervous system\nIntegrate trauma\nRealise your potential and make a future action plan.\n\nContact John for details and to book
URL:https://barnetcarers.org/event/breathe-reset-relax-by-rob-not-a-care-in-the-world-2/
LOCATION:Online
CATEGORIES:Adult Carers,Relaxation,Wellbeing
END:VEVENT
END:VCALENDAR