BEGIN:VCALENDAR
VERSION:2.0
PRODID:-//Barnet Carers - ECPv6.15.20//NONSGML v1.0//EN
CALSCALE:GREGORIAN
METHOD:PUBLISH
X-ORIGINAL-URL:https://barnetcarers.org
X-WR-CALDESC:Events for Barnet Carers
REFRESH-INTERVAL;VALUE=DURATION:PT1H
X-Robots-Tag:noindex
X-PUBLISHED-TTL:PT1H
BEGIN:VTIMEZONE
TZID:UTC
BEGIN:STANDARD
TZOFFSETFROM:+0000
TZOFFSETTO:+0000
TZNAME:UTC
DTSTART:20270101T000000
END:STANDARD
END:VTIMEZONE
BEGIN:VEVENT
DTSTART;TZID=UTC:20280202T183000
DTEND;TZID=UTC:20280202T200000
DTSTAMP:20260423T111344
CREATED:20260119T092356Z
LAST-MODIFIED:20260119T092407Z
UID:10003902-1833129000-1833134400@barnetcarers.org
SUMMARY:Carers Community Weekly Group - Online
DESCRIPTION:Carers Community Weekly Group – Online\n				\n				\n			\n				\n				\n				\n				\n				Join us by Zoom every week for the Carers Community.  This meeting is all about you so we will be experimenting to make sure we get a format that is right for people.  It will be led mostly by Mike Rich\, CEO at Barnet Carers but – when Mike is not available will be covered by others. \nWe would like to discuss a specific topic every week for part of the meeting and have a general discussion in the first part.  But we can discuss this as we go along. \nThe Zoom details are below:https://us02web.zoom.us/j/88417593825?pwd=tPmt4WJvRE4qT9hazKBwbxndYXpGmR.1Meeting ID: 884 1759 3825Passcode: 080384
URL:https://barnetcarers.org/event/carers-community-weekly-group-online/2028-02-02/
LOCATION:Online
CATEGORIES:Adult Carers,Online,Social
END:VEVENT
BEGIN:VEVENT
DTSTART;TZID=UTC:20280208T110000
DTEND;TZID=UTC:20280208T120000
DTSTAMP:20260423T111344
CREATED:20250929T140307Z
LAST-MODIFIED:20251208T125515Z
UID:10000215-1833620400-1833624000@barnetcarers.org
SUMMARY:Carers Coffee and Chat
DESCRIPTION:Carers Community Weekly Group – Online\n				\n				\n			\n				\n				\n				\n				\n				Join Mike and Kezia at our offices in North Finchley for a coffee (or tea) and a chat.  This is an informal gathering that you can drop into.  If there are things we can do to help you\, we will do our best\, but it is also about having some friendly social time. \nWe look forward to seeing you there. \n3rd Floor (lift available)\nGlobal House\n303 Ballards Lane\nN12 8NP
URL:https://barnetcarers.org/event/carers-coffee-and-chat-2/2028-02-08/
LOCATION:Barnet Carers Centre\, Global House. 303 Ballards Lane\, North Finchley\, N12 8NP
CATEGORIES:Adult Carers,Information,Social
END:VEVENT
BEGIN:VEVENT
DTSTART;TZID=UTC:20280209T183000
DTEND;TZID=UTC:20280209T200000
DTSTAMP:20260423T111344
CREATED:20260119T092356Z
LAST-MODIFIED:20260119T092407Z
UID:10003903-1833733800-1833739200@barnetcarers.org
SUMMARY:Carers Community Weekly Group - Online
DESCRIPTION:Carers Community Weekly Group – Online\n				\n				\n			\n				\n				\n				\n				\n				Join us by Zoom every week for the Carers Community.  This meeting is all about you so we will be experimenting to make sure we get a format that is right for people.  It will be led mostly by Mike Rich\, CEO at Barnet Carers but – when Mike is not available will be covered by others. \nWe would like to discuss a specific topic every week for part of the meeting and have a general discussion in the first part.  But we can discuss this as we go along. \nThe Zoom details are below:https://us02web.zoom.us/j/88417593825?pwd=tPmt4WJvRE4qT9hazKBwbxndYXpGmR.1Meeting ID: 884 1759 3825Passcode: 080384
URL:https://barnetcarers.org/event/carers-community-weekly-group-online/2028-02-09/
LOCATION:Online
CATEGORIES:Adult Carers,Online,Social
END:VEVENT
BEGIN:VEVENT
DTSTART;TZID=UTC:20280216T183000
DTEND;TZID=UTC:20280216T200000
DTSTAMP:20260423T111344
CREATED:20260119T092356Z
LAST-MODIFIED:20260119T092407Z
UID:10003904-1834338600-1834344000@barnetcarers.org
SUMMARY:Carers Community Weekly Group - Online
DESCRIPTION:Carers Community Weekly Group – Online\n				\n				\n			\n				\n				\n				\n				\n				Join us by Zoom every week for the Carers Community.  This meeting is all about you so we will be experimenting to make sure we get a format that is right for people.  It will be led mostly by Mike Rich\, CEO at Barnet Carers but – when Mike is not available will be covered by others. \nWe would like to discuss a specific topic every week for part of the meeting and have a general discussion in the first part.  But we can discuss this as we go along. \nThe Zoom details are below:https://us02web.zoom.us/j/88417593825?pwd=tPmt4WJvRE4qT9hazKBwbxndYXpGmR.1Meeting ID: 884 1759 3825Passcode: 080384
URL:https://barnetcarers.org/event/carers-community-weekly-group-online/2028-02-16/
LOCATION:Online
CATEGORIES:Adult Carers,Online,Social
END:VEVENT
BEGIN:VEVENT
DTSTART;TZID=UTC:20280222T110000
DTEND;TZID=UTC:20280222T120000
DTSTAMP:20260423T111344
CREATED:20250929T140307Z
LAST-MODIFIED:20251208T125515Z
UID:10000217-1834830000-1834833600@barnetcarers.org
SUMMARY:Carers Coffee and Chat
DESCRIPTION:Carers Community Weekly Group – Online\n				\n				\n			\n				\n				\n				\n				\n				Join Mike and Kezia at our offices in North Finchley for a coffee (or tea) and a chat.  This is an informal gathering that you can drop into.  If there are things we can do to help you\, we will do our best\, but it is also about having some friendly social time. \nWe look forward to seeing you there. \n3rd Floor (lift available)\nGlobal House\n303 Ballards Lane\nN12 8NP
URL:https://barnetcarers.org/event/carers-coffee-and-chat-2/2028-02-22/
LOCATION:Barnet Carers Centre\, Global House. 303 Ballards Lane\, North Finchley\, N12 8NP
CATEGORIES:Adult Carers,Information,Social
END:VEVENT
BEGIN:VEVENT
DTSTART;TZID=UTC:20280223T183000
DTEND;TZID=UTC:20280223T200000
DTSTAMP:20260423T111344
CREATED:20260119T092356Z
LAST-MODIFIED:20260119T092407Z
UID:10003905-1834943400-1834948800@barnetcarers.org
SUMMARY:Carers Community Weekly Group - Online
DESCRIPTION:Carers Community Weekly Group – Online\n				\n				\n			\n				\n				\n				\n				\n				Join us by Zoom every week for the Carers Community.  This meeting is all about you so we will be experimenting to make sure we get a format that is right for people.  It will be led mostly by Mike Rich\, CEO at Barnet Carers but – when Mike is not available will be covered by others. \nWe would like to discuss a specific topic every week for part of the meeting and have a general discussion in the first part.  But we can discuss this as we go along. \nThe Zoom details are below:https://us02web.zoom.us/j/88417593825?pwd=tPmt4WJvRE4qT9hazKBwbxndYXpGmR.1Meeting ID: 884 1759 3825Passcode: 080384
URL:https://barnetcarers.org/event/carers-community-weekly-group-online/2028-02-23/
LOCATION:Online
CATEGORIES:Adult Carers,Online,Social
END:VEVENT
END:VCALENDAR