BEGIN:VCALENDAR
VERSION:2.0
PRODID:-//Barnet Carers - ECPv6.15.20//NONSGML v1.0//EN
CALSCALE:GREGORIAN
METHOD:PUBLISH
X-WR-CALNAME:Barnet Carers
X-ORIGINAL-URL:https://barnetcarers.org
X-WR-CALDESC:Events for Barnet Carers
REFRESH-INTERVAL;VALUE=DURATION:PT1H
X-Robots-Tag:noindex
X-PUBLISHED-TTL:PT1H
BEGIN:VTIMEZONE
TZID:UTC
BEGIN:STANDARD
TZOFFSETFROM:+0000
TZOFFSETTO:+0000
TZNAME:UTC
DTSTART:20290101T000000
END:STANDARD
END:VTIMEZONE
BEGIN:VEVENT
DTSTART;TZID=UTC:20300530T170000
DTEND;TZID=UTC:20300530T180000
DTSTAMP:20260424T170052
CREATED:20250413T173427Z
LAST-MODIFIED:20251224T161930Z
UID:10002304-1906390800-1906394400@barnetcarers.org
SUMMARY:Thursday Mindfulness with Lucy from Presence of Mind
DESCRIPTION:Lunchtime Learning – Safeguarding for Carers\n				\n				\n			\n				\n				\n				\n				\n				Mindfulness benefits carers by reducing stress\, improving emotional resilience\, and enhancing focus. It can help you stay present\, manage anxiety\, and prevent burnout\, leading to better decision-making and quality of care. Mindfulness also fosters self-compassion and emotional well-being\, allowing you to maintain a balanced\, healthier relationship with your responsibilities.  Join Lucy from Presence of Mind every Thursday to start\, or continue\, your mindfulness journey. \nLucy holds her mindfulness sessions on Zoom:\nMeeting ID: 858 3117 2416\nPasscode: 974166
URL:https://barnetcarers.org/event/thursday-mindfulness-with-lucy-from-presence-of-mind/2030-05-30/
LOCATION:Online
END:VEVENT
END:VCALENDAR